BEGIN:VCALENDAR
VERSION:2.0
PRODID:-//AFLabs urnik izvoz - fmf//aflabs.si//SI
DTSTAMP:20260420T223225Z
NAME:UL FMF urnik
REFRESH-INTERVAL:PT1H
SOURCE:https://urnik.fmf.uni-lj.si/teacher/83?day=2021-07-26&export=1
URL:https://urnik.fmf.uni-lj.si/teacher/83?day=2021-07-26&export=1
X-PUBLISHED-TTL:PT1H
X-WR-CALNAME:UL FMF urnik
X-WR-TIMEZONE:Europe/Ljubljana
BEGIN:VTIMEZONE
TZID:Europe/Ljubljana
BEGIN:DAYLIGHT
DTSTART:20260329T020000
RDATE:20260329T020000
RDATE:20270328T020000
TZNAME:CEST
TZOFFSETFROM:+0100
TZOFFSETTO:+0200
END:DAYLIGHT
BEGIN:STANDARD
DTSTART:20261025T030000
RDATE:20261025T030000
RDATE:20271031T030000
TZNAME:CET
TZOFFSETFROM:+0200
TZOFFSETTO:+0100
END:STANDARD
END:VTIMEZONE
BEGIN:VEVENT
SUMMARY:Rezervacija
DTSTART;TZID=Europe/Ljubljana:20210621T110000
DTEND;TZID=Europe/Ljubljana:20210621T130000
DTSTAMP:20260420T223225Z
UID:fmf-AFLABS-URNIK:rezervacija:6987
CATEGORIES:Reservation
COLOR:royalblue
DESCRIPTION:Predmeti: \nLetniki: \nIzvajalci: Primož Ziherl\nProstori: F6
LOCATION:F6
ORGANIZER:Primož Ziherl
X-WR-TIMEZONE:Europe/Ljubljana
END:VEVENT
BEGIN:VEVENT
SUMMARY:Rezervacija
DTSTART;TZID=Europe/Ljubljana:20210622T080000
DTEND;TZID=Europe/Ljubljana:20210622T110000
DTSTAMP:20260420T223225Z
UID:fmf-AFLABS-URNIK:rezervacija:6995
CATEGORIES:Reservation
COLOR:royalblue
DESCRIPTION:Predmeti: \nLetniki: \nIzvajalci: Primož Ziherl\nProstori: F6
LOCATION:F6
ORGANIZER:Primož Ziherl
X-WR-TIMEZONE:Europe/Ljubljana
END:VEVENT
BEGIN:VEVENT
SUMMARY:Rezervacija
DTSTART;TZID=Europe/Ljubljana:20210622T120000
DTEND;TZID=Europe/Ljubljana:20210622T130000
DTSTAMP:20260420T223225Z
UID:fmf-AFLABS-URNIK:rezervacija:7010
CATEGORIES:Reservation
COLOR:royalblue
DESCRIPTION:Predmeti: \nLetniki: \nIzvajalci: Primož Ziherl\nProstori: P.
 01
LOCATION:P.01
ORGANIZER:Primož Ziherl
X-WR-TIMEZONE:Europe/Ljubljana
END:VEVENT
BEGIN:VEVENT
SUMMARY:Rezervacija
DTSTART;TZID=Europe/Ljubljana:20210623T080000
DTEND;TZID=Europe/Ljubljana:20210623T140000
DTSTAMP:20260420T223225Z
UID:fmf-AFLABS-URNIK:rezervacija:7018
CATEGORIES:Reservation
COLOR:royalblue
DESCRIPTION:Predmeti: \nLetniki: \nIzvajalci: Primož Ziherl\nProstori: F2
LOCATION:F2
ORGANIZER:Primož Ziherl
X-WR-TIMEZONE:Europe/Ljubljana
END:VEVENT
BEGIN:VEVENT
SUMMARY:Rezervacija
DTSTART;TZID=Europe/Ljubljana:20210623T110000
DTEND;TZID=Europe/Ljubljana:20210623T130000
DTSTAMP:20260420T223225Z
UID:fmf-AFLABS-URNIK:rezervacija:7030
CATEGORIES:Reservation
COLOR:royalblue
DESCRIPTION:Predmeti: \nLetniki: \nIzvajalci: Primož Ziherl\nProstori: MF
 P
LOCATION:MFP
ORGANIZER:Primož Ziherl
X-WR-TIMEZONE:Europe/Ljubljana
END:VEVENT
BEGIN:VEVENT
SUMMARY:Rezervacija
DTSTART;TZID=Europe/Ljubljana:20210628T100000
DTEND;TZID=Europe/Ljubljana:20210628T120000
DTSTAMP:20260420T223225Z
UID:fmf-AFLABS-URNIK:rezervacija:7078
CATEGORIES:Reservation
COLOR:royalblue
DESCRIPTION:Predmeti: \nLetniki: \nIzvajalci: Primož Ziherl\nProstori: VF
 P
LOCATION:VFP
ORGANIZER:Primož Ziherl
X-WR-TIMEZONE:Europe/Ljubljana
END:VEVENT
BEGIN:VEVENT
SUMMARY:Rezervacija
DTSTART;TZID=Europe/Ljubljana:20210713T090000
DTEND;TZID=Europe/Ljubljana:20210713T130000
DTSTAMP:20260420T223225Z
UID:fmf-AFLABS-URNIK:rezervacija:7309
CATEGORIES:Reservation
COLOR:royalblue
DESCRIPTION:Predmeti: \nLetniki: \nIzvajalci: Primož Ziherl\nProstori: F6
LOCATION:F6
ORGANIZER:Primož Ziherl
X-WR-TIMEZONE:Europe/Ljubljana
END:VEVENT
BEGIN:VEVENT
SUMMARY:Rezervacija
DTSTART;TZID=Europe/Ljubljana:20210716T090000
DTEND;TZID=Europe/Ljubljana:20210716T140000
DTSTAMP:20260420T223225Z
UID:fmf-AFLABS-URNIK:rezervacija:7323
CATEGORIES:Reservation
COLOR:royalblue
DESCRIPTION:Predmeti: \nLetniki: \nIzvajalci: Primož Ziherl\nProstori: F6
LOCATION:F6
ORGANIZER:Primož Ziherl
X-WR-TIMEZONE:Europe/Ljubljana
END:VEVENT
BEGIN:VEVENT
SUMMARY:Rezervacija
DTSTART;TZID=Europe/Ljubljana:20210723T090000
DTEND;TZID=Europe/Ljubljana:20210723T140000
DTSTAMP:20260420T223225Z
UID:fmf-AFLABS-URNIK:rezervacija:7332
CATEGORIES:Reservation
COLOR:royalblue
DESCRIPTION:Predmeti: \nLetniki: \nIzvajalci: Primož Ziherl\nProstori: F6
LOCATION:F6
ORGANIZER:Primož Ziherl
X-WR-TIMEZONE:Europe/Ljubljana
END:VEVENT
BEGIN:VEVENT
SUMMARY:Rezervacija
DTSTART;TZID=Europe/Ljubljana:20210726T090000
DTEND;TZID=Europe/Ljubljana:20210726T140000
DTSTAMP:20260420T223225Z
UID:fmf-AFLABS-URNIK:rezervacija:7333
CATEGORIES:Reservation
COLOR:royalblue
DESCRIPTION:Predmeti: \nLetniki: \nIzvajalci: Primož Ziherl\nProstori: F6
LOCATION:F6
ORGANIZER:Primož Ziherl
X-WR-TIMEZONE:Europe/Ljubljana
END:VEVENT
BEGIN:VEVENT
SUMMARY:Rezervacija
DTSTART;TZID=Europe/Ljubljana:20210802T090000
DTEND;TZID=Europe/Ljubljana:20210802T140000
DTSTAMP:20260420T223225Z
UID:fmf-AFLABS-URNIK:rezervacija:7337
CATEGORIES:Reservation
COLOR:royalblue
DESCRIPTION:Predmeti: \nLetniki: \nIzvajalci: Primož Ziherl\nProstori: F6
LOCATION:F6
ORGANIZER:Primož Ziherl
X-WR-TIMEZONE:Europe/Ljubljana
END:VEVENT
BEGIN:VEVENT
SUMMARY:Rezervacija
DTSTART;TZID=Europe/Ljubljana:20210812T090000
DTEND;TZID=Europe/Ljubljana:20210812T140000
DTSTAMP:20260420T223225Z
UID:fmf-AFLABS-URNIK:rezervacija:7345
CATEGORIES:Reservation
COLOR:royalblue
DESCRIPTION:Predmeti: \nLetniki: \nIzvajalci: Primož Ziherl\nProstori: F6
LOCATION:F6
ORGANIZER:Primož Ziherl
X-WR-TIMEZONE:Europe/Ljubljana
END:VEVENT
BEGIN:VEVENT
SUMMARY:Rezervacija
DTSTART;TZID=Europe/Ljubljana:20210820T090000
DTEND;TZID=Europe/Ljubljana:20210820T140000
DTSTAMP:20260420T223225Z
UID:fmf-AFLABS-URNIK:rezervacija:7423
CATEGORIES:Reservation
COLOR:royalblue
DESCRIPTION:Predmeti: \nLetniki: \nIzvajalci: Primož Ziherl\nProstori: F6
LOCATION:F6
ORGANIZER:Primož Ziherl
X-WR-TIMEZONE:Europe/Ljubljana
END:VEVENT
BEGIN:VEVENT
SUMMARY:Rezervacija
DTSTART;TZID=Europe/Ljubljana:20210820T130000
DTEND;TZID=Europe/Ljubljana:20210820T150000
DTSTAMP:20260420T223225Z
UID:fmf-AFLABS-URNIK:rezervacija:7428
CATEGORIES:Reservation
COLOR:royalblue
DESCRIPTION:Predmeti: \nLetniki: \nIzvajalci: Primož Ziherl\nProstori: VF
 P
LOCATION:VFP
ORGANIZER:Primož Ziherl
X-WR-TIMEZONE:Europe/Ljubljana
END:VEVENT
BEGIN:VEVENT
SUMMARY:Rezervacija
DTSTART;TZID=Europe/Ljubljana:20210824T090000
DTEND;TZID=Europe/Ljubljana:20210824T140000
DTSTAMP:20260420T223225Z
UID:fmf-AFLABS-URNIK:rezervacija:7463
CATEGORIES:Reservation
COLOR:royalblue
DESCRIPTION:Predmeti: \nLetniki: \nIzvajalci: Primož Ziherl\nProstori: F6
LOCATION:F6
ORGANIZER:Primož Ziherl
X-WR-TIMEZONE:Europe/Ljubljana
END:VEVENT
END:VCALENDAR
