BEGIN:VCALENDAR
VERSION:2.0
PRODID:-//AFLabs urnik izvoz - fmf//aflabs.si//SI
DTSTAMP:20260420T201746Z
NAME:UL FMF urnik
REFRESH-INTERVAL:PT1H
SOURCE:https://urnik.fmf.uni-lj.si/teacher/83?day=2022-07-04&export=1
URL:https://urnik.fmf.uni-lj.si/teacher/83?day=2022-07-04&export=1
X-PUBLISHED-TTL:PT1H
X-WR-CALNAME:UL FMF urnik
X-WR-TIMEZONE:Europe/Ljubljana
BEGIN:VTIMEZONE
TZID:Europe/Ljubljana
BEGIN:DAYLIGHT
DTSTART:20260329T020000
RDATE:20260329T020000
RDATE:20270328T020000
TZNAME:CEST
TZOFFSETFROM:+0100
TZOFFSETTO:+0200
END:DAYLIGHT
BEGIN:STANDARD
DTSTART:20261025T030000
RDATE:20261025T030000
RDATE:20271031T030000
TZNAME:CET
TZOFFSETFROM:+0200
TZOFFSETTO:+0100
END:STANDARD
END:VTIMEZONE
BEGIN:VEVENT
SUMMARY:Biofizika membran\, celic in tkiv (FIZ-M1\, FIZ-M2)\, Predavanja (
 P)
DTSTART;TZID=Europe/Ljubljana:20220531T140000
DTEND;TZID=Europe/Ljubljana:20220531T170000
DTSTAMP:20260420T201746Z
UID:fmf-AFLABS-URNIK:premaknjeno-srecanje:12832
ATTENDEE:1. letnik (Fizika, 2. stopnja)
ATTENDEE:2. letnik (Fizika, 2. stopnja)
CATEGORIES:Entry,Standard
COLOR:darkgreen
DESCRIPTION:Predmet: Biofizika membran\, celic in tkiv (FIZ-M1\, FIZ-M2)\,
  Predavanja (P)\nLetniki: 1. letnik (Fizika\, 2. stopnja)\, 2. letnik (Fiz
 ika\, 2. stopnja)\nIzvajalci: Primož Ziherl\nProstor: F5
LOCATION:F5
ORGANIZER:Primož Ziherl
RELATED-TO:fmf-AFLABS-URNIK:srecanje:7310
X-WR-TIMEZONE:Europe/Ljubljana
END:VEVENT
BEGIN:VEVENT
SUMMARY:Rezervacija
DTSTART;TZID=Europe/Ljubljana:20220608T110000
DTEND;TZID=Europe/Ljubljana:20220608T120000
DTSTAMP:20260420T201746Z
UID:fmf-AFLABS-URNIK:rezervacija:9237
CATEGORIES:Reservation
COLOR:royalblue
DESCRIPTION:Predmeti: \nLetniki: \nIzvajalci: Primož Ziherl\nProstori: F8
LOCATION:F8
ORGANIZER:Primož Ziherl
X-WR-TIMEZONE:Europe/Ljubljana
END:VEVENT
BEGIN:VEVENT
SUMMARY:Rezervacija
DTSTART;TZID=Europe/Ljubljana:20220610T090000
DTEND;TZID=Europe/Ljubljana:20220610T120000
DTSTAMP:20260420T201746Z
UID:fmf-AFLABS-URNIK:rezervacija:9268
CATEGORIES:Reservation
COLOR:royalblue
DESCRIPTION:Predmeti: \nLetniki: \nIzvajalci: Primož Ziherl\nProstori: F6
LOCATION:F6
ORGANIZER:Primož Ziherl
X-WR-TIMEZONE:Europe/Ljubljana
END:VEVENT
BEGIN:VEVENT
SUMMARY:Rezervacija
DTSTART;TZID=Europe/Ljubljana:20220613T130000
DTEND;TZID=Europe/Ljubljana:20220613T150000
DTSTAMP:20260420T201746Z
UID:fmf-AFLABS-URNIK:rezervacija:9302
CATEGORIES:Reservation
COLOR:royalblue
DESCRIPTION:Predmeti: \nLetniki: \nIzvajalci: Primož Ziherl\nProstori: Ku
 ščerjev seminar
LOCATION:Kuščerjev seminar
ORGANIZER:Primož Ziherl
X-WR-TIMEZONE:Europe/Ljubljana
END:VEVENT
BEGIN:VEVENT
SUMMARY:Rezervacija
DTSTART;TZID=Europe/Ljubljana:20220616T090000
DTEND;TZID=Europe/Ljubljana:20220616T120000
DTSTAMP:20260420T201746Z
UID:fmf-AFLABS-URNIK:rezervacija:9363
CATEGORIES:Reservation
COLOR:royalblue
DESCRIPTION:Predmeti: \nLetniki: \nIzvajalci: Primož Ziherl\nProstori: F6
LOCATION:F6
ORGANIZER:Primož Ziherl
X-WR-TIMEZONE:Europe/Ljubljana
END:VEVENT
BEGIN:VEVENT
SUMMARY:Rezervacija
DTSTART;TZID=Europe/Ljubljana:20220623T090000
DTEND;TZID=Europe/Ljubljana:20220623T120000
DTSTAMP:20260420T201746Z
UID:fmf-AFLABS-URNIK:rezervacija:9477
CATEGORIES:Reservation
COLOR:royalblue
DESCRIPTION:Predmeti: \nLetniki: \nIzvajalci: Primož Ziherl\nProstori: F6
LOCATION:F6
ORGANIZER:Primož Ziherl
X-WR-TIMEZONE:Europe/Ljubljana
END:VEVENT
BEGIN:VEVENT
SUMMARY:Rezervacija
DTSTART;TZID=Europe/Ljubljana:20220705T090000
DTEND;TZID=Europe/Ljubljana:20220705T150000
DTSTAMP:20260420T201746Z
UID:fmf-AFLABS-URNIK:rezervacija:9677
CATEGORIES:Reservation
COLOR:royalblue
DESCRIPTION:Predmeti: \nLetniki: \nIzvajalci: Primož Ziherl\nProstori: F6
LOCATION:F6
ORGANIZER:Primož Ziherl
X-WR-TIMEZONE:Europe/Ljubljana
END:VEVENT
BEGIN:VEVENT
SUMMARY:Rezervacija
DTSTART;TZID=Europe/Ljubljana:20220706T090000
DTEND;TZID=Europe/Ljubljana:20220706T120000
DTSTAMP:20260420T201746Z
UID:fmf-AFLABS-URNIK:rezervacija:9691
CATEGORIES:Reservation
COLOR:royalblue
DESCRIPTION:Predmeti: \nLetniki: \nIzvajalci: Primož Ziherl\nProstori: F6
LOCATION:F6
ORGANIZER:Primož Ziherl
X-WR-TIMEZONE:Europe/Ljubljana
END:VEVENT
BEGIN:VEVENT
SUMMARY:Rezervacija
DTSTART;TZID=Europe/Ljubljana:20220706T130000
DTEND;TZID=Europe/Ljubljana:20220706T150000
DTSTAMP:20260420T201746Z
UID:fmf-AFLABS-URNIK:rezervacija:9703
CATEGORIES:Reservation
COLOR:royalblue
DESCRIPTION:Predmeti: \nLetniki: \nIzvajalci: Primož Ziherl\nProstori: F6
LOCATION:F6
ORGANIZER:Primož Ziherl
X-WR-TIMEZONE:Europe/Ljubljana
END:VEVENT
BEGIN:VEVENT
SUMMARY:Rezervacija
DTSTART;TZID=Europe/Ljubljana:20220708T090000
DTEND;TZID=Europe/Ljubljana:20220708T100000
DTSTAMP:20260420T201746Z
UID:fmf-AFLABS-URNIK:rezervacija:9717
CATEGORIES:Reservation
COLOR:royalblue
DESCRIPTION:Predmeti: \nLetniki: \nIzvajalci: Primož Ziherl\nProstori: F5
LOCATION:F5
ORGANIZER:Primož Ziherl
X-WR-TIMEZONE:Europe/Ljubljana
END:VEVENT
BEGIN:VEVENT
SUMMARY:Rezervacija
DTSTART;TZID=Europe/Ljubljana:20220708T150000
DTEND;TZID=Europe/Ljubljana:20220708T170000
DTSTAMP:20260420T201746Z
UID:fmf-AFLABS-URNIK:rezervacija:9724
CATEGORIES:Reservation
COLOR:royalblue
DESCRIPTION:Predmeti: \nLetniki: \nIzvajalci: Primož Ziherl\nProstori: F6
LOCATION:F6
ORGANIZER:Primož Ziherl
X-WR-TIMEZONE:Europe/Ljubljana
END:VEVENT
BEGIN:VEVENT
SUMMARY:Rezervacija
DTSTART;TZID=Europe/Ljubljana:20220722T150000
DTEND;TZID=Europe/Ljubljana:20220722T180000
DTSTAMP:20260420T201746Z
UID:fmf-AFLABS-URNIK:rezervacija:9781
CATEGORIES:Reservation
COLOR:royalblue
DESCRIPTION:Predmeti: \nLetniki: \nIzvajalci: Primož Ziherl\nProstori: F6
LOCATION:F6
ORGANIZER:Primož Ziherl
X-WR-TIMEZONE:Europe/Ljubljana
END:VEVENT
END:VCALENDAR
