BEGIN:VCALENDAR
VERSION:2.0
PRODID:-//AFLabs urnik izvoz - fmf//aflabs.si//SI
DTSTAMP:20260423T033222Z
NAME:UL FMF urnik
REFRESH-INTERVAL:PT1H
SOURCE:https://urnik.fmf.uni-lj.si/teacher/849?day=2021-11-01&export=1
URL:https://urnik.fmf.uni-lj.si/teacher/849?day=2021-11-01&export=1
X-PUBLISHED-TTL:PT1H
X-WR-CALNAME:UL FMF urnik
X-WR-TIMEZONE:Europe/Ljubljana
BEGIN:VTIMEZONE
TZID:Europe/Ljubljana
BEGIN:DAYLIGHT
DTSTART:20260329T020000
RDATE:20260329T020000
RDATE:20270328T020000
TZNAME:CEST
TZOFFSETFROM:+0100
TZOFFSETTO:+0200
END:DAYLIGHT
BEGIN:STANDARD
DTSTART:20261025T030000
RDATE:20261025T030000
RDATE:20271031T030000
TZNAME:CET
TZOFFSETFROM:+0200
TZOFFSETTO:+0100
END:STANDARD
END:VTIMEZONE
BEGIN:VEVENT
SUMMARY:Fizika (FRI) ()\, Vaje (V)\, [3]
DTSTART;TZID=Europe/Ljubljana:20211007T110000
DTEND;TZID=Europe/Ljubljana:20211007T130000
DTSTAMP:20260423T033222Z
UID:fmf-AFLABS-URNIK:premaknjeno-srecanje:26609
CATEGORIES:Entry,Standard
COLOR:darkgreen
DESCRIPTION:Predmet: Fizika (FRI) ()\, Vaje (V)\, [3]\nLetniki: \nIzvajalc
 i: Andrej Lozar\nProstor: FRI
LOCATION:FRI
ORGANIZER:Andrej Lozar
RELATED-TO:fmf-AFLABS-URNIK:srecanje:6232
X-WR-TIMEZONE:Europe/Ljubljana
END:VEVENT
BEGIN:VEVENT
SUMMARY:Fizika (FRI) ()\, Vaje (V)\, [3]
DTSTART;TZID=Europe/Ljubljana:20211014T110000
DTEND;TZID=Europe/Ljubljana:20211014T130000
DTSTAMP:20260423T033222Z
UID:fmf-AFLABS-URNIK:premaknjeno-srecanje:26610
CATEGORIES:Entry,Standard
COLOR:darkgreen
DESCRIPTION:Predmet: Fizika (FRI) ()\, Vaje (V)\, [3]\nLetniki: \nIzvajalc
 i: Andrej Lozar\nProstor: FRI
LOCATION:FRI
ORGANIZER:Andrej Lozar
RELATED-TO:fmf-AFLABS-URNIK:srecanje:6232
X-WR-TIMEZONE:Europe/Ljubljana
END:VEVENT
BEGIN:VEVENT
SUMMARY:Fizika (FRI) ()\, Vaje (V)\, [3]
DTSTART;TZID=Europe/Ljubljana:20211021T110000
DTEND;TZID=Europe/Ljubljana:20211021T130000
DTSTAMP:20260423T033222Z
UID:fmf-AFLABS-URNIK:premaknjeno-srecanje:26611
CATEGORIES:Entry,Standard
COLOR:darkgreen
DESCRIPTION:Predmet: Fizika (FRI) ()\, Vaje (V)\, [3]\nLetniki: \nIzvajalc
 i: Andrej Lozar\nProstor: FRI
LOCATION:FRI
ORGANIZER:Andrej Lozar
RELATED-TO:fmf-AFLABS-URNIK:srecanje:6232
X-WR-TIMEZONE:Europe/Ljubljana
END:VEVENT
BEGIN:VEVENT
SUMMARY:Fizika (FRI) ()\, Vaje (V)\, [3]
DTSTART;TZID=Europe/Ljubljana:20211028T110000
DTEND;TZID=Europe/Ljubljana:20211028T130000
DTSTAMP:20260423T033222Z
UID:fmf-AFLABS-URNIK:premaknjeno-srecanje:26612
CATEGORIES:Entry,Standard
COLOR:darkgreen
DESCRIPTION:Predmet: Fizika (FRI) ()\, Vaje (V)\, [3]\nLetniki: \nIzvajalc
 i: Andrej Lozar\nProstor: FRI
LOCATION:FRI
ORGANIZER:Andrej Lozar
RELATED-TO:fmf-AFLABS-URNIK:srecanje:6232
X-WR-TIMEZONE:Europe/Ljubljana
END:VEVENT
BEGIN:VEVENT
SUMMARY:Fizika (FRI) ()\, Vaje (V)\, [3]
DTSTART;TZID=Europe/Ljubljana:20211104T110000
DTEND;TZID=Europe/Ljubljana:20211104T130000
DTSTAMP:20260423T033222Z
UID:fmf-AFLABS-URNIK:premaknjeno-srecanje:26613
CATEGORIES:Entry,Standard
COLOR:darkgreen
DESCRIPTION:Predmet: Fizika (FRI) ()\, Vaje (V)\, [3]\nLetniki: \nIzvajalc
 i: Andrej Lozar\nProstor: FRI
LOCATION:FRI
ORGANIZER:Andrej Lozar
RELATED-TO:fmf-AFLABS-URNIK:srecanje:6232
X-WR-TIMEZONE:Europe/Ljubljana
END:VEVENT
BEGIN:VEVENT
SUMMARY:Fizika (FRI) ()\, Vaje (V)\, [3]
DTSTART;TZID=Europe/Ljubljana:20211111T110000
DTEND;TZID=Europe/Ljubljana:20211111T130000
DTSTAMP:20260423T033222Z
UID:fmf-AFLABS-URNIK:premaknjeno-srecanje:26614
CATEGORIES:Entry,Standard
COLOR:darkgreen
DESCRIPTION:Predmet: Fizika (FRI) ()\, Vaje (V)\, [3]\nLetniki: \nIzvajalc
 i: Andrej Lozar\nProstor: FRI
LOCATION:FRI
ORGANIZER:Andrej Lozar
RELATED-TO:fmf-AFLABS-URNIK:srecanje:6232
X-WR-TIMEZONE:Europe/Ljubljana
END:VEVENT
BEGIN:VEVENT
SUMMARY:Fizika (FRI) ()\, Vaje (V)\, [3]
DTSTART;TZID=Europe/Ljubljana:20211118T110000
DTEND;TZID=Europe/Ljubljana:20211118T130000
DTSTAMP:20260423T033222Z
UID:fmf-AFLABS-URNIK:premaknjeno-srecanje:26615
CATEGORIES:Entry,Standard
COLOR:darkgreen
DESCRIPTION:Predmet: Fizika (FRI) ()\, Vaje (V)\, [3]\nLetniki: \nIzvajalc
 i: Andrej Lozar\nProstor: FRI
LOCATION:FRI
ORGANIZER:Andrej Lozar
RELATED-TO:fmf-AFLABS-URNIK:srecanje:6232
X-WR-TIMEZONE:Europe/Ljubljana
END:VEVENT
BEGIN:VEVENT
SUMMARY:Fizika (FRI) ()\, Vaje (V)\, [3]
DTSTART;TZID=Europe/Ljubljana:20211125T110000
DTEND;TZID=Europe/Ljubljana:20211125T130000
DTSTAMP:20260423T033222Z
UID:fmf-AFLABS-URNIK:premaknjeno-srecanje:26616
CATEGORIES:Entry,Standard
COLOR:darkgreen
DESCRIPTION:Predmet: Fizika (FRI) ()\, Vaje (V)\, [3]\nLetniki: \nIzvajalc
 i: Andrej Lozar\nProstor: FRI
LOCATION:FRI
ORGANIZER:Andrej Lozar
RELATED-TO:fmf-AFLABS-URNIK:srecanje:6232
X-WR-TIMEZONE:Europe/Ljubljana
END:VEVENT
BEGIN:VEVENT
SUMMARY:Fizika (FRI) ()\, Vaje (V)\, [3]
DTSTART;TZID=Europe/Ljubljana:20211202T110000
DTEND;TZID=Europe/Ljubljana:20211202T130000
DTSTAMP:20260423T033222Z
UID:fmf-AFLABS-URNIK:premaknjeno-srecanje:26617
CATEGORIES:Entry,Standard
COLOR:darkgreen
DESCRIPTION:Predmet: Fizika (FRI) ()\, Vaje (V)\, [3]\nLetniki: \nIzvajalc
 i: Andrej Lozar\nProstor: FRI
LOCATION:FRI
ORGANIZER:Andrej Lozar
RELATED-TO:fmf-AFLABS-URNIK:srecanje:6232
X-WR-TIMEZONE:Europe/Ljubljana
END:VEVENT
BEGIN:VEVENT
SUMMARY:Fizika (FRI) ()\, Vaje (V)\, [3]
DTSTART;TZID=Europe/Ljubljana:20211209T110000
DTEND;TZID=Europe/Ljubljana:20211209T130000
DTSTAMP:20260423T033222Z
UID:fmf-AFLABS-URNIK:premaknjeno-srecanje:26618
CATEGORIES:Entry,Standard
COLOR:darkgreen
DESCRIPTION:Predmet: Fizika (FRI) ()\, Vaje (V)\, [3]\nLetniki: \nIzvajalc
 i: Andrej Lozar\nProstor: FRI
LOCATION:FRI
ORGANIZER:Andrej Lozar
RELATED-TO:fmf-AFLABS-URNIK:srecanje:6232
X-WR-TIMEZONE:Europe/Ljubljana
END:VEVENT
BEGIN:VEVENT
SUMMARY:Fizika (FRI) ()\, Vaje (V)\, [3]
DTSTART;TZID=Europe/Ljubljana:20211216T110000
DTEND;TZID=Europe/Ljubljana:20211216T130000
DTSTAMP:20260423T033222Z
UID:fmf-AFLABS-URNIK:premaknjeno-srecanje:26619
CATEGORIES:Entry,Standard
COLOR:darkgreen
DESCRIPTION:Predmet: Fizika (FRI) ()\, Vaje (V)\, [3]\nLetniki: \nIzvajalc
 i: Andrej Lozar\nProstor: FRI
LOCATION:FRI
ORGANIZER:Andrej Lozar
RELATED-TO:fmf-AFLABS-URNIK:srecanje:6232
X-WR-TIMEZONE:Europe/Ljubljana
END:VEVENT
BEGIN:VEVENT
SUMMARY:Fizika (FRI) ()\, Vaje (V)\, [3]
DTSTART;TZID=Europe/Ljubljana:20211223T110000
DTEND;TZID=Europe/Ljubljana:20211223T130000
DTSTAMP:20260423T033222Z
UID:fmf-AFLABS-URNIK:premaknjeno-srecanje:26620
CATEGORIES:Entry,Standard
COLOR:darkgreen
DESCRIPTION:Predmet: Fizika (FRI) ()\, Vaje (V)\, [3]\nLetniki: \nIzvajalc
 i: Andrej Lozar\nProstor: FRI
LOCATION:FRI
ORGANIZER:Andrej Lozar
RELATED-TO:fmf-AFLABS-URNIK:srecanje:6232
X-WR-TIMEZONE:Europe/Ljubljana
END:VEVENT
BEGIN:VEVENT
SUMMARY:Fizika (FRI) ()\, Vaje (V)\, [3]
DTSTART;TZID=Europe/Ljubljana:20211230T110000
DTEND;TZID=Europe/Ljubljana:20211230T130000
DTSTAMP:20260423T033222Z
UID:fmf-AFLABS-URNIK:premaknjeno-srecanje:26621
CATEGORIES:Entry,Standard
COLOR:darkgreen
DESCRIPTION:Predmet: Fizika (FRI) ()\, Vaje (V)\, [3]\nLetniki: \nIzvajalc
 i: Andrej Lozar\nProstor: FRI
LOCATION:FRI
ORGANIZER:Andrej Lozar
RELATED-TO:fmf-AFLABS-URNIK:srecanje:6232
X-WR-TIMEZONE:Europe/Ljubljana
END:VEVENT
BEGIN:VEVENT
SUMMARY:Fizika (FRI) ()\, Vaje (V)\, [3]
DTSTART;TZID=Europe/Ljubljana:20220106T110000
DTEND;TZID=Europe/Ljubljana:20220106T130000
DTSTAMP:20260423T033222Z
UID:fmf-AFLABS-URNIK:premaknjeno-srecanje:26622
CATEGORIES:Entry,Standard
COLOR:darkgreen
DESCRIPTION:Predmet: Fizika (FRI) ()\, Vaje (V)\, [3]\nLetniki: \nIzvajalc
 i: Andrej Lozar\nProstor: FRI
LOCATION:FRI
ORGANIZER:Andrej Lozar
RELATED-TO:fmf-AFLABS-URNIK:srecanje:6232
X-WR-TIMEZONE:Europe/Ljubljana
END:VEVENT
BEGIN:VEVENT
SUMMARY:Fizika (FRI) ()\, Vaje (V)\, [3]
DTSTART;TZID=Europe/Ljubljana:20220113T110000
DTEND;TZID=Europe/Ljubljana:20220113T130000
DTSTAMP:20260423T033222Z
UID:fmf-AFLABS-URNIK:premaknjeno-srecanje:26623
CATEGORIES:Entry,Standard
COLOR:darkgreen
DESCRIPTION:Predmet: Fizika (FRI) ()\, Vaje (V)\, [3]\nLetniki: \nIzvajalc
 i: Andrej Lozar\nProstor: FRI
LOCATION:FRI
ORGANIZER:Andrej Lozar
RELATED-TO:fmf-AFLABS-URNIK:srecanje:6232
X-WR-TIMEZONE:Europe/Ljubljana
END:VEVENT
BEGIN:VEVENT
SUMMARY:Rezervacija
DTSTART;TZID=Europe/Ljubljana:20220112T180000
DTEND;TZID=Europe/Ljubljana:20220112T200000
DTSTAMP:20260423T033222Z
UID:fmf-AFLABS-URNIK:rezervacija:8230
CATEGORIES:Reservation
COLOR:royalblue
DESCRIPTION:Predmeti: \nLetniki: \nIzvajalci: Žiga Gosar\, Andrej Lozar\,
  Andrej Petelin\, Jaka Vodeb\nProstori: VFP
LOCATION:VFP
ORGANIZER:Žiga Gosar, Andrej Lozar, Andrej Petelin, Jaka Vodeb
X-WR-TIMEZONE:Europe/Ljubljana
END:VEVENT
BEGIN:VEVENT
SUMMARY:Rezervacija
DTSTART;TZID=Europe/Ljubljana:20220112T180000
DTEND;TZID=Europe/Ljubljana:20220112T200000
DTSTAMP:20260423T033222Z
UID:fmf-AFLABS-URNIK:rezervacija:8231
CATEGORIES:Reservation
COLOR:royalblue
DESCRIPTION:Predmeti: \nLetniki: \nIzvajalci: Žiga Gosar\, Andrej Lozar\,
  Andrej Petelin\, Jaka Vodeb\nProstori: MFP
LOCATION:MFP
ORGANIZER:Žiga Gosar, Andrej Lozar, Andrej Petelin, Jaka Vodeb
X-WR-TIMEZONE:Europe/Ljubljana
END:VEVENT
END:VCALENDAR
