BEGIN:VCALENDAR
VERSION:2.0
PRODID:-//AFLabs urnik izvoz - fmf//aflabs.si//SI
DTSTAMP:20260420T031349Z
NAME:UL FMF urnik
REFRESH-INTERVAL:PT1H
SOURCE:https://urnik.fmf.uni-lj.si/teacher/85?day=2022-01-31&export=1
URL:https://urnik.fmf.uni-lj.si/teacher/85?day=2022-01-31&export=1
X-PUBLISHED-TTL:PT1H
X-WR-CALNAME:UL FMF urnik
X-WR-TIMEZONE:Europe/Ljubljana
BEGIN:VTIMEZONE
TZID:Europe/Ljubljana
BEGIN:DAYLIGHT
DTSTART:20260329T020000
RDATE:20260329T020000
RDATE:20270328T020000
TZNAME:CEST
TZOFFSETFROM:+0100
TZOFFSETTO:+0200
END:DAYLIGHT
BEGIN:STANDARD
DTSTART:20261025T030000
RDATE:20261025T030000
RDATE:20271031T030000
TZNAME:CET
TZOFFSETFROM:+0200
TZOFFSETTO:+0100
END:STANDARD
END:VTIMEZONE
BEGIN:VEVENT
SUMMARY:Mehanika kontinuov (FIZ-3)\, Predavanja (P)
DTSTART;TZID=Europe/Ljubljana:20220214T130000
DTEND;TZID=Europe/Ljubljana:20220214T150000
DTSTAMP:20260420T031349Z
UID:fmf-AFLABS-URNIK:premaknjeno-srecanje:71497
ATTENDEE:3. letnik (Fizika, 1. stopnja)
CATEGORIES:Entry,Standard
COLOR:darkgreen
DESCRIPTION:Predmet: Mehanika kontinuov (FIZ-3)\, Predavanja (P)\nLetniki:
  3. letnik (Fizika\, 1. stopnja)\nIzvajalci: Daniel Svenšek\nProstor: MFP
LOCATION:MFP
ORGANIZER:Daniel Svenšek
RELATED-TO:fmf-AFLABS-URNIK:srecanje:7123
X-WR-TIMEZONE:Europe/Ljubljana
END:VEVENT
BEGIN:VEVENT
SUMMARY:Mehanika kontinuov (FIZ-3)\, Predavanja (P)
DTSTART;TZID=Europe/Ljubljana:20220221T130000
DTEND;TZID=Europe/Ljubljana:20220221T150000
DTSTAMP:20260420T031349Z
UID:fmf-AFLABS-URNIK:premaknjeno-srecanje:71498
ATTENDEE:3. letnik (Fizika, 1. stopnja)
CATEGORIES:Entry,Standard
COLOR:darkgreen
DESCRIPTION:Predmet: Mehanika kontinuov (FIZ-3)\, Predavanja (P)\nLetniki:
  3. letnik (Fizika\, 1. stopnja)\nIzvajalci: Daniel Svenšek\nProstor: MFP
LOCATION:MFP
ORGANIZER:Daniel Svenšek
RELATED-TO:fmf-AFLABS-URNIK:srecanje:7123
X-WR-TIMEZONE:Europe/Ljubljana
END:VEVENT
BEGIN:VEVENT
SUMMARY:Mehanika kontinuov (FIZ-3)\, Predavanja (P)
DTSTART;TZID=Europe/Ljubljana:20220228T130000
DTEND;TZID=Europe/Ljubljana:20220228T150000
DTSTAMP:20260420T031349Z
UID:fmf-AFLABS-URNIK:premaknjeno-srecanje:71499
ATTENDEE:3. letnik (Fizika, 1. stopnja)
CATEGORIES:Entry,Standard
COLOR:darkgreen
DESCRIPTION:Predmet: Mehanika kontinuov (FIZ-3)\, Predavanja (P)\nLetniki:
  3. letnik (Fizika\, 1. stopnja)\nIzvajalci: Daniel Svenšek\nProstor: MFP
LOCATION:MFP
ORGANIZER:Daniel Svenšek
RELATED-TO:fmf-AFLABS-URNIK:srecanje:7123
X-WR-TIMEZONE:Europe/Ljubljana
END:VEVENT
BEGIN:VEVENT
SUMMARY:Mehanika kontinuov (FIZ-3)\, Predavanja (P)
DTSTART;TZID=Europe/Ljubljana:20220307T130000
DTEND;TZID=Europe/Ljubljana:20220307T150000
DTSTAMP:20260420T031349Z
UID:fmf-AFLABS-URNIK:premaknjeno-srecanje:71500
ATTENDEE:3. letnik (Fizika, 1. stopnja)
CATEGORIES:Entry,Standard
COLOR:darkgreen
DESCRIPTION:Predmet: Mehanika kontinuov (FIZ-3)\, Predavanja (P)\nLetniki:
  3. letnik (Fizika\, 1. stopnja)\nIzvajalci: Daniel Svenšek\nProstor: MFP
LOCATION:MFP
ORGANIZER:Daniel Svenšek
RELATED-TO:fmf-AFLABS-URNIK:srecanje:7123
X-WR-TIMEZONE:Europe/Ljubljana
END:VEVENT
BEGIN:VEVENT
SUMMARY:Računalniška orodja v fiziki (FIZ-1)\, Predavanja (P)
DTSTART;TZID=Europe/Ljubljana:20220214T120000
DTEND;TZID=Europe/Ljubljana:20220214T130000
DTSTAMP:20260420T031349Z
UID:fmf-AFLABS-URNIK:premaknjeno-srecanje:91195
ATTENDEE:1. letnik (Fizika, 1. stopnja)
CATEGORIES:Entry,Standard
COLOR:darkgreen
DESCRIPTION:Predmet: Računalniška orodja v fiziki (FIZ-1)\, Predavanja (
 P)\nLetniki: 1. letnik (Fizika\, 1. stopnja)\nIzvajalci: Daniel Svenšek\n
 Prostor: VFP
LOCATION:VFP
ORGANIZER:Daniel Svenšek
RELATED-TO:fmf-AFLABS-URNIK:srecanje:7231
X-WR-TIMEZONE:Europe/Ljubljana
END:VEVENT
BEGIN:VEVENT
SUMMARY:Računalniška orodja v fiziki (FIZ-1)\, Predavanja (P)
DTSTART;TZID=Europe/Ljubljana:20220221T120000
DTEND;TZID=Europe/Ljubljana:20220221T130000
DTSTAMP:20260420T031349Z
UID:fmf-AFLABS-URNIK:premaknjeno-srecanje:91196
ATTENDEE:1. letnik (Fizika, 1. stopnja)
CATEGORIES:Entry,Standard
COLOR:darkgreen
DESCRIPTION:Predmet: Računalniška orodja v fiziki (FIZ-1)\, Predavanja (
 P)\nLetniki: 1. letnik (Fizika\, 1. stopnja)\nIzvajalci: Daniel Svenšek\n
 Prostor: VFP
LOCATION:VFP
ORGANIZER:Daniel Svenšek
RELATED-TO:fmf-AFLABS-URNIK:srecanje:7231
X-WR-TIMEZONE:Europe/Ljubljana
END:VEVENT
BEGIN:VEVENT
SUMMARY:Računalniška orodja v fiziki (FIZ-1)\, Predavanja (P)
DTSTART;TZID=Europe/Ljubljana:20220228T120000
DTEND;TZID=Europe/Ljubljana:20220228T130000
DTSTAMP:20260420T031349Z
UID:fmf-AFLABS-URNIK:premaknjeno-srecanje:91197
ATTENDEE:1. letnik (Fizika, 1. stopnja)
CATEGORIES:Entry,Standard
COLOR:darkgreen
DESCRIPTION:Predmet: Računalniška orodja v fiziki (FIZ-1)\, Predavanja (
 P)\nLetniki: 1. letnik (Fizika\, 1. stopnja)\nIzvajalci: Daniel Svenšek\n
 Prostor: VFP
LOCATION:VFP
ORGANIZER:Daniel Svenšek
RELATED-TO:fmf-AFLABS-URNIK:srecanje:7231
X-WR-TIMEZONE:Europe/Ljubljana
END:VEVENT
BEGIN:VEVENT
SUMMARY:Računalniška orodja v fiziki (FIZ-1)\, Predavanja (P)
DTSTART;TZID=Europe/Ljubljana:20220307T120000
DTEND;TZID=Europe/Ljubljana:20220307T130000
DTSTAMP:20260420T031349Z
UID:fmf-AFLABS-URNIK:premaknjeno-srecanje:91198
ATTENDEE:1. letnik (Fizika, 1. stopnja)
CATEGORIES:Entry,Standard
COLOR:darkgreen
DESCRIPTION:Predmet: Računalniška orodja v fiziki (FIZ-1)\, Predavanja (
 P)\nLetniki: 1. letnik (Fizika\, 1. stopnja)\nIzvajalci: Daniel Svenšek\n
 Prostor: VFP
LOCATION:VFP
ORGANIZER:Daniel Svenšek
RELATED-TO:fmf-AFLABS-URNIK:srecanje:7231
X-WR-TIMEZONE:Europe/Ljubljana
END:VEVENT
BEGIN:VEVENT
SUMMARY:Mehanika kontinuov (FIZ-3)\, Vaje (V)
DTSTART;TZID=Europe/Ljubljana:20220216T130000
DTEND;TZID=Europe/Ljubljana:20220216T150000
DTSTAMP:20260420T031349Z
UID:fmf-AFLABS-URNIK:premaknjeno-srecanje:71639
ATTENDEE:3. letnik (Fizika, 1. stopnja)
CATEGORIES:Entry,Standard
COLOR:darkgreen
DESCRIPTION:Predmet: Mehanika kontinuov (FIZ-3)\, Vaje (V)\nLetniki: 3. le
 tnik (Fizika\, 1. stopnja)\nIzvajalci: Daniel Svenšek\nProstor: F3
LOCATION:F3
ORGANIZER:Daniel Svenšek
RELATED-TO:fmf-AFLABS-URNIK:srecanje:7124
X-WR-TIMEZONE:Europe/Ljubljana
END:VEVENT
BEGIN:VEVENT
SUMMARY:Mehanika kontinuov (FIZ-3)\, Vaje (V)
DTSTART;TZID=Europe/Ljubljana:20220223T130000
DTEND;TZID=Europe/Ljubljana:20220223T150000
DTSTAMP:20260420T031349Z
UID:fmf-AFLABS-URNIK:premaknjeno-srecanje:71640
ATTENDEE:3. letnik (Fizika, 1. stopnja)
CATEGORIES:Entry,Standard
COLOR:darkgreen
DESCRIPTION:Predmet: Mehanika kontinuov (FIZ-3)\, Vaje (V)\nLetniki: 3. le
 tnik (Fizika\, 1. stopnja)\nIzvajalci: Daniel Svenšek\nProstor: F3
LOCATION:F3
ORGANIZER:Daniel Svenšek
RELATED-TO:fmf-AFLABS-URNIK:srecanje:7124
X-WR-TIMEZONE:Europe/Ljubljana
END:VEVENT
BEGIN:VEVENT
SUMMARY:Mehanika kontinuov (FIZ-3)\, Vaje (V)
DTSTART;TZID=Europe/Ljubljana:20220302T130000
DTEND;TZID=Europe/Ljubljana:20220302T150000
DTSTAMP:20260420T031349Z
UID:fmf-AFLABS-URNIK:premaknjeno-srecanje:71641
ATTENDEE:3. letnik (Fizika, 1. stopnja)
CATEGORIES:Entry,Standard
COLOR:darkgreen
DESCRIPTION:Predmet: Mehanika kontinuov (FIZ-3)\, Vaje (V)\nLetniki: 3. le
 tnik (Fizika\, 1. stopnja)\nIzvajalci: Daniel Svenšek\nProstor: F3
LOCATION:F3
ORGANIZER:Daniel Svenšek
RELATED-TO:fmf-AFLABS-URNIK:srecanje:7124
X-WR-TIMEZONE:Europe/Ljubljana
END:VEVENT
BEGIN:VEVENT
SUMMARY:Geofizika (FIZ-2\, FIZ-3)\, Predavanja (P)
DTSTART;TZID=Europe/Ljubljana:20220218T080000
DTEND;TZID=Europe/Ljubljana:20220218T100000
DTSTAMP:20260420T031349Z
UID:fmf-AFLABS-URNIK:premaknjeno-srecanje:38299
ATTENDEE:2. letnik (Fizika, 1. stopnja)
ATTENDEE:3. letnik (Fizika, 1. stopnja)
CATEGORIES:Entry,Standard
COLOR:darkgreen
DESCRIPTION:Predmet: Geofizika (FIZ-2\, FIZ-3)\, Predavanja (P)\nLetniki: 
 2. letnik (Fizika\, 1. stopnja)\, 3. letnik (Fizika\, 1. stopnja)\nIzvajal
 ci: Daniel Svenšek\nProstor: F5
LOCATION:F5
ORGANIZER:Daniel Svenšek
RELATED-TO:fmf-AFLABS-URNIK:srecanje:6977
X-WR-TIMEZONE:Europe/Ljubljana
END:VEVENT
BEGIN:VEVENT
SUMMARY:Geofizika (FIZ-2\, FIZ-3)\, Predavanja (P)
DTSTART;TZID=Europe/Ljubljana:20220225T080000
DTEND;TZID=Europe/Ljubljana:20220225T100000
DTSTAMP:20260420T031349Z
UID:fmf-AFLABS-URNIK:premaknjeno-srecanje:38300
ATTENDEE:2. letnik (Fizika, 1. stopnja)
ATTENDEE:3. letnik (Fizika, 1. stopnja)
CATEGORIES:Entry,Standard
COLOR:darkgreen
DESCRIPTION:Predmet: Geofizika (FIZ-2\, FIZ-3)\, Predavanja (P)\nLetniki: 
 2. letnik (Fizika\, 1. stopnja)\, 3. letnik (Fizika\, 1. stopnja)\nIzvajal
 ci: Daniel Svenšek\nProstor: F5
LOCATION:F5
ORGANIZER:Daniel Svenšek
RELATED-TO:fmf-AFLABS-URNIK:srecanje:6977
X-WR-TIMEZONE:Europe/Ljubljana
END:VEVENT
BEGIN:VEVENT
SUMMARY:Geofizika (FIZ-2\, FIZ-3)\, Predavanja (P)
DTSTART;TZID=Europe/Ljubljana:20220304T080000
DTEND;TZID=Europe/Ljubljana:20220304T100000
DTSTAMP:20260420T031349Z
UID:fmf-AFLABS-URNIK:premaknjeno-srecanje:38301
ATTENDEE:2. letnik (Fizika, 1. stopnja)
ATTENDEE:3. letnik (Fizika, 1. stopnja)
CATEGORIES:Entry,Standard
COLOR:darkgreen
DESCRIPTION:Predmet: Geofizika (FIZ-2\, FIZ-3)\, Predavanja (P)\nLetniki: 
 2. letnik (Fizika\, 1. stopnja)\, 3. letnik (Fizika\, 1. stopnja)\nIzvajal
 ci: Daniel Svenšek\nProstor: F5
LOCATION:F5
ORGANIZER:Daniel Svenšek
RELATED-TO:fmf-AFLABS-URNIK:srecanje:6977
X-WR-TIMEZONE:Europe/Ljubljana
END:VEVENT
BEGIN:VEVENT
SUMMARY:Geofizika (FIZ-2\, FIZ-3)\, Vaje (V)
DTSTART;TZID=Europe/Ljubljana:20220218T100000
DTEND;TZID=Europe/Ljubljana:20220218T110000
DTSTAMP:20260420T031349Z
UID:fmf-AFLABS-URNIK:premaknjeno-srecanje:38391
ATTENDEE:2. letnik (Fizika, 1. stopnja)
ATTENDEE:3. letnik (Fizika, 1. stopnja)
CATEGORIES:Entry,Standard
COLOR:darkgreen
DESCRIPTION:Predmet: Geofizika (FIZ-2\, FIZ-3)\, Vaje (V)\nLetniki: 2. let
 nik (Fizika\, 1. stopnja)\, 3. letnik (Fizika\, 1. stopnja)\nIzvajalci: Da
 niel Svenšek\nProstor: F5
LOCATION:F5
ORGANIZER:Daniel Svenšek
RELATED-TO:fmf-AFLABS-URNIK:srecanje:6978
X-WR-TIMEZONE:Europe/Ljubljana
END:VEVENT
BEGIN:VEVENT
SUMMARY:Geofizika (FIZ-2\, FIZ-3)\, Vaje (V)
DTSTART;TZID=Europe/Ljubljana:20220225T100000
DTEND;TZID=Europe/Ljubljana:20220225T110000
DTSTAMP:20260420T031349Z
UID:fmf-AFLABS-URNIK:premaknjeno-srecanje:38392
ATTENDEE:2. letnik (Fizika, 1. stopnja)
ATTENDEE:3. letnik (Fizika, 1. stopnja)
CATEGORIES:Entry,Standard
COLOR:darkgreen
DESCRIPTION:Predmet: Geofizika (FIZ-2\, FIZ-3)\, Vaje (V)\nLetniki: 2. let
 nik (Fizika\, 1. stopnja)\, 3. letnik (Fizika\, 1. stopnja)\nIzvajalci: Da
 niel Svenšek\nProstor: F5
LOCATION:F5
ORGANIZER:Daniel Svenšek
RELATED-TO:fmf-AFLABS-URNIK:srecanje:6978
X-WR-TIMEZONE:Europe/Ljubljana
END:VEVENT
BEGIN:VEVENT
SUMMARY:Geofizika (FIZ-2\, FIZ-3)\, Vaje (V)
DTSTART;TZID=Europe/Ljubljana:20220304T100000
DTEND;TZID=Europe/Ljubljana:20220304T110000
DTSTAMP:20260420T031349Z
UID:fmf-AFLABS-URNIK:premaknjeno-srecanje:38393
ATTENDEE:2. letnik (Fizika, 1. stopnja)
ATTENDEE:3. letnik (Fizika, 1. stopnja)
CATEGORIES:Entry,Standard
COLOR:darkgreen
DESCRIPTION:Predmet: Geofizika (FIZ-2\, FIZ-3)\, Vaje (V)\nLetniki: 2. let
 nik (Fizika\, 1. stopnja)\, 3. letnik (Fizika\, 1. stopnja)\nIzvajalci: Da
 niel Svenšek\nProstor: F5
LOCATION:F5
ORGANIZER:Daniel Svenšek
RELATED-TO:fmf-AFLABS-URNIK:srecanje:6978
X-WR-TIMEZONE:Europe/Ljubljana
END:VEVENT
END:VCALENDAR
