BEGIN:VCALENDAR
VERSION:2.0
PRODID:-//AFLabs urnik izvoz - fmf//aflabs.si//SI
DTSTAMP:20260422T061108Z
NAME:UL FMF urnik
REFRESH-INTERVAL:PT1H
SOURCE:https://urnik.fmf.uni-lj.si/teacher/873?day=2021-10-04&export=1
URL:https://urnik.fmf.uni-lj.si/teacher/873?day=2021-10-04&export=1
X-PUBLISHED-TTL:PT1H
X-WR-CALNAME:UL FMF urnik
X-WR-TIMEZONE:Europe/Ljubljana
BEGIN:VTIMEZONE
TZID:Europe/Ljubljana
BEGIN:DAYLIGHT
DTSTART:20260329T020000
RDATE:20260329T020000
RDATE:20270328T020000
TZNAME:CEST
TZOFFSETFROM:+0100
TZOFFSETTO:+0200
END:DAYLIGHT
BEGIN:STANDARD
DTSTART:20261025T030000
RDATE:20261025T030000
RDATE:20271031T030000
TZNAME:CET
TZOFFSETFROM:+0200
TZOFFSETTO:+0100
END:STANDARD
END:VTIMEZONE
BEGIN:VEVENT
SUMMARY:Računalniški praktikum (FM-1)\, Vaje (V)\, [1]
DTSTART;TZID=Europe/Ljubljana:20211004T140000
DTEND;TZID=Europe/Ljubljana:20211004T170000
DTSTAMP:20260422T061108Z
UID:fmf-AFLABS-URNIK:premaknjeno-srecanje:92213
ATTENDEE:1. letnik (FM)
CATEGORIES:Entry,Standard
COLOR:darkgreen
DESCRIPTION:Predmet: Računalniški praktikum (FM-1)\, Vaje (V)\, [1]\nLet
 niki: 1. letnik (FM)\nIzvajalci: Matej Rojec\nProstor: 3.10
LOCATION:3.10
ORGANIZER:Matej Rojec
RELATED-TO:fmf-AFLABS-URNIK:srecanje:6530
X-WR-TIMEZONE:Europe/Ljubljana
END:VEVENT
BEGIN:VEVENT
SUMMARY:Računalniški praktikum (FM-1)\, Vaje (V)\, [1]
DTSTART;TZID=Europe/Ljubljana:20211011T140000
DTEND;TZID=Europe/Ljubljana:20211011T170000
DTSTAMP:20260422T061108Z
UID:fmf-AFLABS-URNIK:premaknjeno-srecanje:92214
ATTENDEE:1. letnik (FM)
CATEGORIES:Entry,Standard
COLOR:darkgreen
DESCRIPTION:Predmet: Računalniški praktikum (FM-1)\, Vaje (V)\, [1]\nLet
 niki: 1. letnik (FM)\nIzvajalci: Matej Rojec\nProstor: 3.10
LOCATION:3.10
ORGANIZER:Matej Rojec
RELATED-TO:fmf-AFLABS-URNIK:srecanje:6530
X-WR-TIMEZONE:Europe/Ljubljana
END:VEVENT
BEGIN:VEVENT
SUMMARY:Računalniški praktikum (FM-1)\, Vaje (V)\, [1]
DTSTART;TZID=Europe/Ljubljana:20211018T140000
DTEND;TZID=Europe/Ljubljana:20211018T170000
DTSTAMP:20260422T061108Z
UID:fmf-AFLABS-URNIK:premaknjeno-srecanje:92215
ATTENDEE:1. letnik (FM)
CATEGORIES:Entry,Standard
COLOR:darkgreen
DESCRIPTION:Predmet: Računalniški praktikum (FM-1)\, Vaje (V)\, [1]\nLet
 niki: 1. letnik (FM)\nIzvajalci: Matej Rojec\nProstor: 3.10
LOCATION:3.10
ORGANIZER:Matej Rojec
RELATED-TO:fmf-AFLABS-URNIK:srecanje:6530
X-WR-TIMEZONE:Europe/Ljubljana
END:VEVENT
BEGIN:VEVENT
SUMMARY:Računalniški praktikum (FM-1)\, Vaje (V)\, [1]
DTSTART;TZID=Europe/Ljubljana:20211025T140000
DTEND;TZID=Europe/Ljubljana:20211025T170000
DTSTAMP:20260422T061108Z
UID:fmf-AFLABS-URNIK:premaknjeno-srecanje:92216
ATTENDEE:1. letnik (FM)
CATEGORIES:Entry,Standard
COLOR:darkgreen
DESCRIPTION:Predmet: Računalniški praktikum (FM-1)\, Vaje (V)\, [1]\nLet
 niki: 1. letnik (FM)\nIzvajalci: Matej Rojec\nProstor: 3.10
LOCATION:3.10
ORGANIZER:Matej Rojec
RELATED-TO:fmf-AFLABS-URNIK:srecanje:6530
X-WR-TIMEZONE:Europe/Ljubljana
END:VEVENT
BEGIN:VEVENT
SUMMARY:Računalniški praktikum (FM-1)\, Vaje (V)\, [1]
DTSTART;TZID=Europe/Ljubljana:20211101T140000
DTEND;TZID=Europe/Ljubljana:20211101T170000
DTSTAMP:20260422T061108Z
UID:fmf-AFLABS-URNIK:premaknjeno-srecanje:92217
ATTENDEE:1. letnik (FM)
CATEGORIES:Entry,Standard
COLOR:darkgreen
DESCRIPTION:Predmet: Računalniški praktikum (FM-1)\, Vaje (V)\, [1]\nLet
 niki: 1. letnik (FM)\nIzvajalci: Matej Rojec\nProstor: 3.10
LOCATION:3.10
ORGANIZER:Matej Rojec
RELATED-TO:fmf-AFLABS-URNIK:srecanje:6530
X-WR-TIMEZONE:Europe/Ljubljana
END:VEVENT
BEGIN:VEVENT
SUMMARY:Računalniški praktikum (FM-1)\, Vaje (V)\, [1]
DTSTART;TZID=Europe/Ljubljana:20211108T140000
DTEND;TZID=Europe/Ljubljana:20211108T170000
DTSTAMP:20260422T061108Z
UID:fmf-AFLABS-URNIK:premaknjeno-srecanje:92218
ATTENDEE:1. letnik (FM)
CATEGORIES:Entry,Standard
COLOR:darkgreen
DESCRIPTION:Predmet: Računalniški praktikum (FM-1)\, Vaje (V)\, [1]\nLet
 niki: 1. letnik (FM)\nIzvajalci: Matej Rojec\nProstor: 3.10
LOCATION:3.10
ORGANIZER:Matej Rojec
RELATED-TO:fmf-AFLABS-URNIK:srecanje:6530
X-WR-TIMEZONE:Europe/Ljubljana
END:VEVENT
BEGIN:VEVENT
SUMMARY:Računalniški praktikum (FM-1)\, Vaje (V)\, [1]
DTSTART;TZID=Europe/Ljubljana:20211115T140000
DTEND;TZID=Europe/Ljubljana:20211115T170000
DTSTAMP:20260422T061108Z
UID:fmf-AFLABS-URNIK:premaknjeno-srecanje:92219
ATTENDEE:1. letnik (FM)
CATEGORIES:Entry,Standard
COLOR:darkgreen
DESCRIPTION:Predmet: Računalniški praktikum (FM-1)\, Vaje (V)\, [1]\nLet
 niki: 1. letnik (FM)\nIzvajalci: Matej Rojec\nProstor: 3.10
LOCATION:3.10
ORGANIZER:Matej Rojec
RELATED-TO:fmf-AFLABS-URNIK:srecanje:6530
X-WR-TIMEZONE:Europe/Ljubljana
END:VEVENT
BEGIN:VEVENT
SUMMARY:Računalniški praktikum (FM-1)\, Vaje (V)\, [1]
DTSTART;TZID=Europe/Ljubljana:20211122T140000
DTEND;TZID=Europe/Ljubljana:20211122T170000
DTSTAMP:20260422T061108Z
UID:fmf-AFLABS-URNIK:premaknjeno-srecanje:92220
ATTENDEE:1. letnik (FM)
CATEGORIES:Entry,Standard
COLOR:darkgreen
DESCRIPTION:Predmet: Računalniški praktikum (FM-1)\, Vaje (V)\, [1]\nLet
 niki: 1. letnik (FM)\nIzvajalci: Matej Rojec\nProstor: 3.10
LOCATION:3.10
ORGANIZER:Matej Rojec
RELATED-TO:fmf-AFLABS-URNIK:srecanje:6530
X-WR-TIMEZONE:Europe/Ljubljana
END:VEVENT
BEGIN:VEVENT
SUMMARY:Računalniški praktikum (FM-1)\, Vaje (V)\, [1]
DTSTART;TZID=Europe/Ljubljana:20211129T140000
DTEND;TZID=Europe/Ljubljana:20211129T170000
DTSTAMP:20260422T061108Z
UID:fmf-AFLABS-URNIK:premaknjeno-srecanje:92221
ATTENDEE:1. letnik (FM)
CATEGORIES:Entry,Standard
COLOR:darkgreen
DESCRIPTION:Predmet: Računalniški praktikum (FM-1)\, Vaje (V)\, [1]\nLet
 niki: 1. letnik (FM)\nIzvajalci: Matej Rojec\nProstor: 3.10
LOCATION:3.10
ORGANIZER:Matej Rojec
RELATED-TO:fmf-AFLABS-URNIK:srecanje:6530
X-WR-TIMEZONE:Europe/Ljubljana
END:VEVENT
BEGIN:VEVENT
SUMMARY:Računalniški praktikum (FM-1)\, Vaje (V)\, [1]
DTSTART;TZID=Europe/Ljubljana:20211206T140000
DTEND;TZID=Europe/Ljubljana:20211206T170000
DTSTAMP:20260422T061108Z
UID:fmf-AFLABS-URNIK:premaknjeno-srecanje:92222
ATTENDEE:1. letnik (FM)
CATEGORIES:Entry,Standard
COLOR:darkgreen
DESCRIPTION:Predmet: Računalniški praktikum (FM-1)\, Vaje (V)\, [1]\nLet
 niki: 1. letnik (FM)\nIzvajalci: Matej Rojec\nProstor: 3.10
LOCATION:3.10
ORGANIZER:Matej Rojec
RELATED-TO:fmf-AFLABS-URNIK:srecanje:6530
X-WR-TIMEZONE:Europe/Ljubljana
END:VEVENT
BEGIN:VEVENT
SUMMARY:Računalniški praktikum (FM-1)\, Vaje (V)\, [1]
DTSTART;TZID=Europe/Ljubljana:20211213T140000
DTEND;TZID=Europe/Ljubljana:20211213T170000
DTSTAMP:20260422T061108Z
UID:fmf-AFLABS-URNIK:premaknjeno-srecanje:92223
ATTENDEE:1. letnik (FM)
CATEGORIES:Entry,Standard
COLOR:darkgreen
DESCRIPTION:Predmet: Računalniški praktikum (FM-1)\, Vaje (V)\, [1]\nLet
 niki: 1. letnik (FM)\nIzvajalci: Matej Rojec\nProstor: 3.10
LOCATION:3.10
ORGANIZER:Matej Rojec
RELATED-TO:fmf-AFLABS-URNIK:srecanje:6530
X-WR-TIMEZONE:Europe/Ljubljana
END:VEVENT
BEGIN:VEVENT
SUMMARY:Računalniški praktikum (FM-1)\, Vaje (V)\, [1]
DTSTART;TZID=Europe/Ljubljana:20211220T140000
DTEND;TZID=Europe/Ljubljana:20211220T170000
DTSTAMP:20260422T061108Z
UID:fmf-AFLABS-URNIK:premaknjeno-srecanje:92224
ATTENDEE:1. letnik (FM)
CATEGORIES:Entry,Standard
COLOR:darkgreen
DESCRIPTION:Predmet: Računalniški praktikum (FM-1)\, Vaje (V)\, [1]\nLet
 niki: 1. letnik (FM)\nIzvajalci: Matej Rojec\nProstor: 3.10
LOCATION:3.10
ORGANIZER:Matej Rojec
RELATED-TO:fmf-AFLABS-URNIK:srecanje:6530
X-WR-TIMEZONE:Europe/Ljubljana
END:VEVENT
BEGIN:VEVENT
SUMMARY:Računalniški praktikum (FM-1)\, Vaje (V)\, [1]
DTSTART;TZID=Europe/Ljubljana:20211227T140000
DTEND;TZID=Europe/Ljubljana:20211227T170000
DTSTAMP:20260422T061108Z
UID:fmf-AFLABS-URNIK:premaknjeno-srecanje:92225
ATTENDEE:1. letnik (FM)
CATEGORIES:Entry,Standard
COLOR:darkgreen
DESCRIPTION:Predmet: Računalniški praktikum (FM-1)\, Vaje (V)\, [1]\nLet
 niki: 1. letnik (FM)\nIzvajalci: Matej Rojec\nProstor: 3.10
LOCATION:3.10
ORGANIZER:Matej Rojec
RELATED-TO:fmf-AFLABS-URNIK:srecanje:6530
X-WR-TIMEZONE:Europe/Ljubljana
END:VEVENT
BEGIN:VEVENT
SUMMARY:Računalniški praktikum (FM-1)\, Vaje (V)\, [1]
DTSTART;TZID=Europe/Ljubljana:20220103T140000
DTEND;TZID=Europe/Ljubljana:20220103T170000
DTSTAMP:20260422T061108Z
UID:fmf-AFLABS-URNIK:premaknjeno-srecanje:92226
ATTENDEE:1. letnik (FM)
CATEGORIES:Entry,Standard
COLOR:darkgreen
DESCRIPTION:Predmet: Računalniški praktikum (FM-1)\, Vaje (V)\, [1]\nLet
 niki: 1. letnik (FM)\nIzvajalci: Matej Rojec\nProstor: 3.10
LOCATION:3.10
ORGANIZER:Matej Rojec
RELATED-TO:fmf-AFLABS-URNIK:srecanje:6530
X-WR-TIMEZONE:Europe/Ljubljana
END:VEVENT
BEGIN:VEVENT
SUMMARY:Računalniški praktikum (FM-1)\, Vaje (V)\, [1]
DTSTART;TZID=Europe/Ljubljana:20220110T140000
DTEND;TZID=Europe/Ljubljana:20220110T170000
DTSTAMP:20260422T061108Z
UID:fmf-AFLABS-URNIK:premaknjeno-srecanje:92227
ATTENDEE:1. letnik (FM)
CATEGORIES:Entry,Standard
COLOR:darkgreen
DESCRIPTION:Predmet: Računalniški praktikum (FM-1)\, Vaje (V)\, [1]\nLet
 niki: 1. letnik (FM)\nIzvajalci: Matej Rojec\nProstor: 3.10
LOCATION:3.10
ORGANIZER:Matej Rojec
RELATED-TO:fmf-AFLABS-URNIK:srecanje:6530
X-WR-TIMEZONE:Europe/Ljubljana
END:VEVENT
BEGIN:VEVENT
SUMMARY:Računalniški praktikum (APF-1\, APM-1)\, Vaje (V)\, [2]
DTSTART;TZID=Europe/Ljubljana:20211007T170000
DTEND;TZID=Europe/Ljubljana:20211007T190000
DTSTAMP:20260422T061108Z
UID:fmf-AFLABS-URNIK:premaknjeno-srecanje:92938
ATTENDEE:1. letnik (APM)
ATTENDEE:1. letnik (Aplikativna fizika)
CATEGORIES:Entry,Standard
COLOR:darkgreen
DESCRIPTION:Predmet: Računalniški praktikum (APF-1\, APM-1)\, Vaje (V)\,
  [2]\nLetniki: 1. letnik (Aplikativna fizika)\, 1. letnik (APM)\nIzvajalci
 : Matej Rojec\nProstor: 3.11
LOCATION:3.11
ORGANIZER:Matej Rojec
RELATED-TO:fmf-AFLABS-URNIK:srecanje:6535
X-WR-TIMEZONE:Europe/Ljubljana
END:VEVENT
BEGIN:VEVENT
SUMMARY:Računalniški praktikum (APF-1\, APM-1)\, Vaje (V)\, [2]
DTSTART;TZID=Europe/Ljubljana:20211014T170000
DTEND;TZID=Europe/Ljubljana:20211014T190000
DTSTAMP:20260422T061108Z
UID:fmf-AFLABS-URNIK:premaknjeno-srecanje:92939
ATTENDEE:1. letnik (APM)
ATTENDEE:1. letnik (Aplikativna fizika)
CATEGORIES:Entry,Standard
COLOR:darkgreen
DESCRIPTION:Predmet: Računalniški praktikum (APF-1\, APM-1)\, Vaje (V)\,
  [2]\nLetniki: 1. letnik (Aplikativna fizika)\, 1. letnik (APM)\nIzvajalci
 : Matej Rojec\nProstor: 3.11
LOCATION:3.11
ORGANIZER:Matej Rojec
RELATED-TO:fmf-AFLABS-URNIK:srecanje:6535
X-WR-TIMEZONE:Europe/Ljubljana
END:VEVENT
BEGIN:VEVENT
SUMMARY:Računalniški praktikum (APF-1\, APM-1)\, Vaje (V)\, [2]
DTSTART;TZID=Europe/Ljubljana:20211021T170000
DTEND;TZID=Europe/Ljubljana:20211021T190000
DTSTAMP:20260422T061108Z
UID:fmf-AFLABS-URNIK:premaknjeno-srecanje:92940
ATTENDEE:1. letnik (APM)
ATTENDEE:1. letnik (Aplikativna fizika)
CATEGORIES:Entry,Standard
COLOR:darkgreen
DESCRIPTION:Predmet: Računalniški praktikum (APF-1\, APM-1)\, Vaje (V)\,
  [2]\nLetniki: 1. letnik (Aplikativna fizika)\, 1. letnik (APM)\nIzvajalci
 : Matej Rojec\nProstor: 3.11
LOCATION:3.11
ORGANIZER:Matej Rojec
RELATED-TO:fmf-AFLABS-URNIK:srecanje:6535
X-WR-TIMEZONE:Europe/Ljubljana
END:VEVENT
BEGIN:VEVENT
SUMMARY:Računalniški praktikum (APF-1\, APM-1)\, Vaje (V)\, [2]
DTSTART;TZID=Europe/Ljubljana:20211028T170000
DTEND;TZID=Europe/Ljubljana:20211028T190000
DTSTAMP:20260422T061108Z
UID:fmf-AFLABS-URNIK:premaknjeno-srecanje:92941
ATTENDEE:1. letnik (APM)
ATTENDEE:1. letnik (Aplikativna fizika)
CATEGORIES:Entry,Standard
COLOR:darkgreen
DESCRIPTION:Predmet: Računalniški praktikum (APF-1\, APM-1)\, Vaje (V)\,
  [2]\nLetniki: 1. letnik (Aplikativna fizika)\, 1. letnik (APM)\nIzvajalci
 : Matej Rojec\nProstor: 3.11
LOCATION:3.11
ORGANIZER:Matej Rojec
RELATED-TO:fmf-AFLABS-URNIK:srecanje:6535
X-WR-TIMEZONE:Europe/Ljubljana
END:VEVENT
BEGIN:VEVENT
SUMMARY:Računalniški praktikum (APF-1\, APM-1)\, Vaje (V)\, [2]
DTSTART;TZID=Europe/Ljubljana:20211104T170000
DTEND;TZID=Europe/Ljubljana:20211104T190000
DTSTAMP:20260422T061108Z
UID:fmf-AFLABS-URNIK:premaknjeno-srecanje:92942
ATTENDEE:1. letnik (APM)
ATTENDEE:1. letnik (Aplikativna fizika)
CATEGORIES:Entry,Standard
COLOR:darkgreen
DESCRIPTION:Predmet: Računalniški praktikum (APF-1\, APM-1)\, Vaje (V)\,
  [2]\nLetniki: 1. letnik (Aplikativna fizika)\, 1. letnik (APM)\nIzvajalci
 : Matej Rojec\nProstor: 3.11
LOCATION:3.11
ORGANIZER:Matej Rojec
RELATED-TO:fmf-AFLABS-URNIK:srecanje:6535
X-WR-TIMEZONE:Europe/Ljubljana
END:VEVENT
BEGIN:VEVENT
SUMMARY:Računalniški praktikum (APF-1\, APM-1)\, Vaje (V)\, [2]
DTSTART;TZID=Europe/Ljubljana:20211111T170000
DTEND;TZID=Europe/Ljubljana:20211111T190000
DTSTAMP:20260422T061108Z
UID:fmf-AFLABS-URNIK:premaknjeno-srecanje:92943
ATTENDEE:1. letnik (APM)
ATTENDEE:1. letnik (Aplikativna fizika)
CATEGORIES:Entry,Standard
COLOR:darkgreen
DESCRIPTION:Predmet: Računalniški praktikum (APF-1\, APM-1)\, Vaje (V)\,
  [2]\nLetniki: 1. letnik (Aplikativna fizika)\, 1. letnik (APM)\nIzvajalci
 : Matej Rojec\nProstor: 3.11
LOCATION:3.11
ORGANIZER:Matej Rojec
RELATED-TO:fmf-AFLABS-URNIK:srecanje:6535
X-WR-TIMEZONE:Europe/Ljubljana
END:VEVENT
BEGIN:VEVENT
SUMMARY:Računalniški praktikum (APF-1\, APM-1)\, Vaje (V)\, [2]
DTSTART;TZID=Europe/Ljubljana:20211118T170000
DTEND;TZID=Europe/Ljubljana:20211118T190000
DTSTAMP:20260422T061108Z
UID:fmf-AFLABS-URNIK:premaknjeno-srecanje:92944
ATTENDEE:1. letnik (APM)
ATTENDEE:1. letnik (Aplikativna fizika)
CATEGORIES:Entry,Standard
COLOR:darkgreen
DESCRIPTION:Predmet: Računalniški praktikum (APF-1\, APM-1)\, Vaje (V)\,
  [2]\nLetniki: 1. letnik (Aplikativna fizika)\, 1. letnik (APM)\nIzvajalci
 : Matej Rojec\nProstor: 3.11
LOCATION:3.11
ORGANIZER:Matej Rojec
RELATED-TO:fmf-AFLABS-URNIK:srecanje:6535
X-WR-TIMEZONE:Europe/Ljubljana
END:VEVENT
BEGIN:VEVENT
SUMMARY:Računalniški praktikum (APF-1\, APM-1)\, Vaje (V)\, [2]
DTSTART;TZID=Europe/Ljubljana:20211125T170000
DTEND;TZID=Europe/Ljubljana:20211125T190000
DTSTAMP:20260422T061108Z
UID:fmf-AFLABS-URNIK:premaknjeno-srecanje:92945
ATTENDEE:1. letnik (APM)
ATTENDEE:1. letnik (Aplikativna fizika)
CATEGORIES:Entry,Standard
COLOR:darkgreen
DESCRIPTION:Predmet: Računalniški praktikum (APF-1\, APM-1)\, Vaje (V)\,
  [2]\nLetniki: 1. letnik (Aplikativna fizika)\, 1. letnik (APM)\nIzvajalci
 : Matej Rojec\nProstor: 3.11
LOCATION:3.11
ORGANIZER:Matej Rojec
RELATED-TO:fmf-AFLABS-URNIK:srecanje:6535
X-WR-TIMEZONE:Europe/Ljubljana
END:VEVENT
BEGIN:VEVENT
SUMMARY:Računalniški praktikum (APF-1\, APM-1)\, Vaje (V)\, [2]
DTSTART;TZID=Europe/Ljubljana:20211202T170000
DTEND;TZID=Europe/Ljubljana:20211202T190000
DTSTAMP:20260422T061108Z
UID:fmf-AFLABS-URNIK:premaknjeno-srecanje:92946
ATTENDEE:1. letnik (APM)
ATTENDEE:1. letnik (Aplikativna fizika)
CATEGORIES:Entry,Standard
COLOR:darkgreen
DESCRIPTION:Predmet: Računalniški praktikum (APF-1\, APM-1)\, Vaje (V)\,
  [2]\nLetniki: 1. letnik (Aplikativna fizika)\, 1. letnik (APM)\nIzvajalci
 : Matej Rojec\nProstor: 3.11
LOCATION:3.11
ORGANIZER:Matej Rojec
RELATED-TO:fmf-AFLABS-URNIK:srecanje:6535
X-WR-TIMEZONE:Europe/Ljubljana
END:VEVENT
BEGIN:VEVENT
SUMMARY:Računalniški praktikum (APF-1\, APM-1)\, Vaje (V)\, [2]
DTSTART;TZID=Europe/Ljubljana:20211209T170000
DTEND;TZID=Europe/Ljubljana:20211209T190000
DTSTAMP:20260422T061108Z
UID:fmf-AFLABS-URNIK:premaknjeno-srecanje:92947
ATTENDEE:1. letnik (APM)
ATTENDEE:1. letnik (Aplikativna fizika)
CATEGORIES:Entry,Standard
COLOR:darkgreen
DESCRIPTION:Predmet: Računalniški praktikum (APF-1\, APM-1)\, Vaje (V)\,
  [2]\nLetniki: 1. letnik (Aplikativna fizika)\, 1. letnik (APM)\nIzvajalci
 : Matej Rojec\nProstor: 3.11
LOCATION:3.11
ORGANIZER:Matej Rojec
RELATED-TO:fmf-AFLABS-URNIK:srecanje:6535
X-WR-TIMEZONE:Europe/Ljubljana
END:VEVENT
BEGIN:VEVENT
SUMMARY:Računalniški praktikum (APF-1\, APM-1)\, Vaje (V)\, [2]
DTSTART;TZID=Europe/Ljubljana:20211216T170000
DTEND;TZID=Europe/Ljubljana:20211216T190000
DTSTAMP:20260422T061108Z
UID:fmf-AFLABS-URNIK:premaknjeno-srecanje:92948
ATTENDEE:1. letnik (APM)
ATTENDEE:1. letnik (Aplikativna fizika)
CATEGORIES:Entry,Standard
COLOR:darkgreen
DESCRIPTION:Predmet: Računalniški praktikum (APF-1\, APM-1)\, Vaje (V)\,
  [2]\nLetniki: 1. letnik (Aplikativna fizika)\, 1. letnik (APM)\nIzvajalci
 : Matej Rojec\nProstor: 3.11
LOCATION:3.11
ORGANIZER:Matej Rojec
RELATED-TO:fmf-AFLABS-URNIK:srecanje:6535
X-WR-TIMEZONE:Europe/Ljubljana
END:VEVENT
BEGIN:VEVENT
SUMMARY:Računalniški praktikum (APF-1\, APM-1)\, Vaje (V)\, [2]
DTSTART;TZID=Europe/Ljubljana:20211223T170000
DTEND;TZID=Europe/Ljubljana:20211223T190000
DTSTAMP:20260422T061108Z
UID:fmf-AFLABS-URNIK:premaknjeno-srecanje:92949
ATTENDEE:1. letnik (APM)
ATTENDEE:1. letnik (Aplikativna fizika)
CATEGORIES:Entry,Standard
COLOR:darkgreen
DESCRIPTION:Predmet: Računalniški praktikum (APF-1\, APM-1)\, Vaje (V)\,
  [2]\nLetniki: 1. letnik (Aplikativna fizika)\, 1. letnik (APM)\nIzvajalci
 : Matej Rojec\nProstor: 3.11
LOCATION:3.11
ORGANIZER:Matej Rojec
RELATED-TO:fmf-AFLABS-URNIK:srecanje:6535
X-WR-TIMEZONE:Europe/Ljubljana
END:VEVENT
BEGIN:VEVENT
SUMMARY:Računalniški praktikum (APF-1\, APM-1)\, Vaje (V)\, [2]
DTSTART;TZID=Europe/Ljubljana:20211230T170000
DTEND;TZID=Europe/Ljubljana:20211230T190000
DTSTAMP:20260422T061108Z
UID:fmf-AFLABS-URNIK:premaknjeno-srecanje:92950
ATTENDEE:1. letnik (APM)
ATTENDEE:1. letnik (Aplikativna fizika)
CATEGORIES:Entry,Standard
COLOR:darkgreen
DESCRIPTION:Predmet: Računalniški praktikum (APF-1\, APM-1)\, Vaje (V)\,
  [2]\nLetniki: 1. letnik (Aplikativna fizika)\, 1. letnik (APM)\nIzvajalci
 : Matej Rojec\nProstor: 3.11
LOCATION:3.11
ORGANIZER:Matej Rojec
RELATED-TO:fmf-AFLABS-URNIK:srecanje:6535
X-WR-TIMEZONE:Europe/Ljubljana
END:VEVENT
BEGIN:VEVENT
SUMMARY:Računalniški praktikum (APF-1\, APM-1)\, Vaje (V)\, [2]
DTSTART;TZID=Europe/Ljubljana:20220106T170000
DTEND;TZID=Europe/Ljubljana:20220106T190000
DTSTAMP:20260422T061108Z
UID:fmf-AFLABS-URNIK:premaknjeno-srecanje:92951
ATTENDEE:1. letnik (APM)
ATTENDEE:1. letnik (Aplikativna fizika)
CATEGORIES:Entry,Standard
COLOR:darkgreen
DESCRIPTION:Predmet: Računalniški praktikum (APF-1\, APM-1)\, Vaje (V)\,
  [2]\nLetniki: 1. letnik (Aplikativna fizika)\, 1. letnik (APM)\nIzvajalci
 : Matej Rojec\nProstor: 3.11
LOCATION:3.11
ORGANIZER:Matej Rojec
RELATED-TO:fmf-AFLABS-URNIK:srecanje:6535
X-WR-TIMEZONE:Europe/Ljubljana
END:VEVENT
BEGIN:VEVENT
SUMMARY:Računalniški praktikum (APF-1\, APM-1)\, Vaje (V)\, [2]
DTSTART;TZID=Europe/Ljubljana:20220113T170000
DTEND;TZID=Europe/Ljubljana:20220113T190000
DTSTAMP:20260422T061108Z
UID:fmf-AFLABS-URNIK:premaknjeno-srecanje:92952
ATTENDEE:1. letnik (APM)
ATTENDEE:1. letnik (Aplikativna fizika)
CATEGORIES:Entry,Standard
COLOR:darkgreen
DESCRIPTION:Predmet: Računalniški praktikum (APF-1\, APM-1)\, Vaje (V)\,
  [2]\nLetniki: 1. letnik (Aplikativna fizika)\, 1. letnik (APM)\nIzvajalci
 : Matej Rojec\nProstor: 3.11
LOCATION:3.11
ORGANIZER:Matej Rojec
RELATED-TO:fmf-AFLABS-URNIK:srecanje:6535
X-WR-TIMEZONE:Europe/Ljubljana
END:VEVENT
BEGIN:VEVENT
SUMMARY:Rezervacija
DTSTART;TZID=Europe/Ljubljana:20211118T140000
DTEND;TZID=Europe/Ljubljana:20211118T170000
DTSTAMP:20260422T061108Z
UID:fmf-AFLABS-URNIK:rezervacija:7995
ATTENDEE:1. letnik (FM)
CATEGORIES:Reservation
COLOR:royalblue
DESCRIPTION:Predmeti: Računalniški praktikum (FM-1)\nLetniki: 1. letnik 
 (FM)\nIzvajalci: Katja Berčič\, Matej Rojec\nProstori: 3.12
LOCATION:3.12
ORGANIZER:Katja Berčič, Matej Rojec
X-WR-TIMEZONE:Europe/Ljubljana
END:VEVENT
BEGIN:VEVENT
SUMMARY:Rezervacija
DTSTART;TZID=Europe/Ljubljana:20211125T140000
DTEND;TZID=Europe/Ljubljana:20211125T170000
DTSTAMP:20260422T061108Z
UID:fmf-AFLABS-URNIK:rezervacija:8024
ATTENDEE:1. letnik (FM)
CATEGORIES:Reservation
COLOR:royalblue
DESCRIPTION:Predmeti: Računalniški praktikum (FM-1)\nLetniki: 1. letnik 
 (FM)\nIzvajalci: Katja Berčič\, Matej Rojec\nProstori: 3.12
LOCATION:3.12
ORGANIZER:Katja Berčič, Matej Rojec
X-WR-TIMEZONE:Europe/Ljubljana
END:VEVENT
END:VCALENDAR
