BEGIN:VCALENDAR
VERSION:2.0
PRODID:-//AFLabs urnik izvoz - fmf//aflabs.si//SI
DTSTAMP:20260423T082213Z
NAME:UL FMF urnik
REFRESH-INTERVAL:PT1H
SOURCE:https://urnik.fmf.uni-lj.si/teacher/873?day=2023-01-02&export=1
URL:https://urnik.fmf.uni-lj.si/teacher/873?day=2023-01-02&export=1
X-PUBLISHED-TTL:PT1H
X-WR-CALNAME:UL FMF urnik
X-WR-TIMEZONE:Europe/Ljubljana
BEGIN:VTIMEZONE
TZID:Europe/Ljubljana
BEGIN:DAYLIGHT
DTSTART:20260329T020000
RDATE:20260329T020000
RDATE:20270328T020000
TZNAME:CEST
TZOFFSETFROM:+0100
TZOFFSETTO:+0200
END:DAYLIGHT
BEGIN:STANDARD
DTSTART:20261025T030000
RDATE:20261025T030000
RDATE:20271031T030000
TZNAME:CET
TZOFFSETFROM:+0200
TZOFFSETTO:+0100
END:STANDARD
END:VTIMEZONE
BEGIN:VEVENT
SUMMARY:Računalniški praktikum (FM-1)\, Vaje (V)\, [3]
DTSTART;TZID=Europe/Ljubljana:20221003T140000
DTEND;TZID=Europe/Ljubljana:20221003T170000
DTSTAMP:20260423T082213Z
UID:fmf-AFLABS-URNIK:premaknjeno-srecanje:93126
ATTENDEE:1. letnik (FM)
CATEGORIES:Entry,Standard
COLOR:darkgreen
DESCRIPTION:Predmet: Računalniški praktikum (FM-1)\, Vaje (V)\, [3]\nLet
 niki: 1. letnik (FM)\nIzvajalci: Matej Rojec\nProstor: 3.10
LOCATION:3.10
ORGANIZER:Matej Rojec
RELATED-TO:fmf-AFLABS-URNIK:srecanje:7939
X-WR-TIMEZONE:Europe/Ljubljana
END:VEVENT
BEGIN:VEVENT
SUMMARY:Računalniški praktikum (FM-1)\, Vaje (V)\, [3]
DTSTART;TZID=Europe/Ljubljana:20221010T140000
DTEND;TZID=Europe/Ljubljana:20221010T170000
DTSTAMP:20260423T082213Z
UID:fmf-AFLABS-URNIK:premaknjeno-srecanje:93127
ATTENDEE:1. letnik (FM)
CATEGORIES:Entry,Standard
COLOR:darkgreen
DESCRIPTION:Predmet: Računalniški praktikum (FM-1)\, Vaje (V)\, [3]\nLet
 niki: 1. letnik (FM)\nIzvajalci: Matej Rojec\nProstor: 3.10
LOCATION:3.10
ORGANIZER:Matej Rojec
RELATED-TO:fmf-AFLABS-URNIK:srecanje:7939
X-WR-TIMEZONE:Europe/Ljubljana
END:VEVENT
BEGIN:VEVENT
SUMMARY:Računalniški praktikum (FM-1)\, Vaje (V)\, [3]
DTSTART;TZID=Europe/Ljubljana:20221017T140000
DTEND;TZID=Europe/Ljubljana:20221017T170000
DTSTAMP:20260423T082213Z
UID:fmf-AFLABS-URNIK:premaknjeno-srecanje:93128
ATTENDEE:1. letnik (FM)
CATEGORIES:Entry,Standard
COLOR:darkgreen
DESCRIPTION:Predmet: Računalniški praktikum (FM-1)\, Vaje (V)\, [3]\nLet
 niki: 1. letnik (FM)\nIzvajalci: Matej Rojec\nProstor: 3.10
LOCATION:3.10
ORGANIZER:Matej Rojec
RELATED-TO:fmf-AFLABS-URNIK:srecanje:7939
X-WR-TIMEZONE:Europe/Ljubljana
END:VEVENT
BEGIN:VEVENT
SUMMARY:Računalniški praktikum (FM-1)\, Vaje (V)\, [3]
DTSTART;TZID=Europe/Ljubljana:20221024T140000
DTEND;TZID=Europe/Ljubljana:20221024T170000
DTSTAMP:20260423T082213Z
UID:fmf-AFLABS-URNIK:premaknjeno-srecanje:93129
ATTENDEE:1. letnik (FM)
CATEGORIES:Entry,Standard
COLOR:darkgreen
DESCRIPTION:Predmet: Računalniški praktikum (FM-1)\, Vaje (V)\, [3]\nLet
 niki: 1. letnik (FM)\nIzvajalci: Matej Rojec\nProstor: 3.10
LOCATION:3.10
ORGANIZER:Matej Rojec
RELATED-TO:fmf-AFLABS-URNIK:srecanje:7939
X-WR-TIMEZONE:Europe/Ljubljana
END:VEVENT
BEGIN:VEVENT
SUMMARY:Računalniški praktikum (FM-1)\, Vaje (V)\, [3]
DTSTART;TZID=Europe/Ljubljana:20221031T140000
DTEND;TZID=Europe/Ljubljana:20221031T170000
DTSTAMP:20260423T082213Z
UID:fmf-AFLABS-URNIK:premaknjeno-srecanje:93130
ATTENDEE:1. letnik (FM)
CATEGORIES:Entry,Standard
COLOR:darkgreen
DESCRIPTION:Predmet: Računalniški praktikum (FM-1)\, Vaje (V)\, [3]\nLet
 niki: 1. letnik (FM)\nIzvajalci: Matej Rojec\nProstor: 3.10
LOCATION:3.10
ORGANIZER:Matej Rojec
RELATED-TO:fmf-AFLABS-URNIK:srecanje:7939
X-WR-TIMEZONE:Europe/Ljubljana
END:VEVENT
BEGIN:VEVENT
SUMMARY:Računalniški praktikum (FM-1)\, Vaje (V)\, [3]
DTSTART;TZID=Europe/Ljubljana:20221107T140000
DTEND;TZID=Europe/Ljubljana:20221107T170000
DTSTAMP:20260423T082213Z
UID:fmf-AFLABS-URNIK:premaknjeno-srecanje:93131
ATTENDEE:1. letnik (FM)
CATEGORIES:Entry,Standard
COLOR:darkgreen
DESCRIPTION:Predmet: Računalniški praktikum (FM-1)\, Vaje (V)\, [3]\nLet
 niki: 1. letnik (FM)\nIzvajalci: Matej Rojec\nProstor: 3.10
LOCATION:3.10
ORGANIZER:Matej Rojec
RELATED-TO:fmf-AFLABS-URNIK:srecanje:7939
X-WR-TIMEZONE:Europe/Ljubljana
END:VEVENT
BEGIN:VEVENT
SUMMARY:Računalniški praktikum (FM-1)\, Vaje (V)\, [3]
DTSTART;TZID=Europe/Ljubljana:20221114T140000
DTEND;TZID=Europe/Ljubljana:20221114T170000
DTSTAMP:20260423T082213Z
UID:fmf-AFLABS-URNIK:premaknjeno-srecanje:93132
ATTENDEE:1. letnik (FM)
CATEGORIES:Entry,Standard
COLOR:darkgreen
DESCRIPTION:Predmet: Računalniški praktikum (FM-1)\, Vaje (V)\, [3]\nLet
 niki: 1. letnik (FM)\nIzvajalci: Matej Rojec\nProstor: 3.10
LOCATION:3.10
ORGANIZER:Matej Rojec
RELATED-TO:fmf-AFLABS-URNIK:srecanje:7939
X-WR-TIMEZONE:Europe/Ljubljana
END:VEVENT
BEGIN:VEVENT
SUMMARY:Računalniški praktikum (FM-1)\, Vaje (V)\, [3]
DTSTART;TZID=Europe/Ljubljana:20221121T140000
DTEND;TZID=Europe/Ljubljana:20221121T170000
DTSTAMP:20260423T082213Z
UID:fmf-AFLABS-URNIK:premaknjeno-srecanje:93133
ATTENDEE:1. letnik (FM)
CATEGORIES:Entry,Standard
COLOR:darkgreen
DESCRIPTION:Predmet: Računalniški praktikum (FM-1)\, Vaje (V)\, [3]\nLet
 niki: 1. letnik (FM)\nIzvajalci: Matej Rojec\nProstor: 3.10
LOCATION:3.10
ORGANIZER:Matej Rojec
RELATED-TO:fmf-AFLABS-URNIK:srecanje:7939
X-WR-TIMEZONE:Europe/Ljubljana
END:VEVENT
BEGIN:VEVENT
SUMMARY:Računalniški praktikum (FM-1)\, Vaje (V)\, [3]
DTSTART;TZID=Europe/Ljubljana:20221128T140000
DTEND;TZID=Europe/Ljubljana:20221128T170000
DTSTAMP:20260423T082213Z
UID:fmf-AFLABS-URNIK:premaknjeno-srecanje:93134
ATTENDEE:1. letnik (FM)
CATEGORIES:Entry,Standard
COLOR:darkgreen
DESCRIPTION:Predmet: Računalniški praktikum (FM-1)\, Vaje (V)\, [3]\nLet
 niki: 1. letnik (FM)\nIzvajalci: Matej Rojec\nProstor: 3.10
LOCATION:3.10
ORGANIZER:Matej Rojec
RELATED-TO:fmf-AFLABS-URNIK:srecanje:7939
X-WR-TIMEZONE:Europe/Ljubljana
END:VEVENT
BEGIN:VEVENT
SUMMARY:Računalniški praktikum (FM-1)\, Vaje (V)\, [3]
DTSTART;TZID=Europe/Ljubljana:20221205T140000
DTEND;TZID=Europe/Ljubljana:20221205T170000
DTSTAMP:20260423T082213Z
UID:fmf-AFLABS-URNIK:premaknjeno-srecanje:93135
ATTENDEE:1. letnik (FM)
CATEGORIES:Entry,Standard
COLOR:darkgreen
DESCRIPTION:Predmet: Računalniški praktikum (FM-1)\, Vaje (V)\, [3]\nLet
 niki: 1. letnik (FM)\nIzvajalci: Matej Rojec\nProstor: 3.10
LOCATION:3.10
ORGANIZER:Matej Rojec
RELATED-TO:fmf-AFLABS-URNIK:srecanje:7939
X-WR-TIMEZONE:Europe/Ljubljana
END:VEVENT
BEGIN:VEVENT
SUMMARY:Računalniški praktikum (FM-1)\, Vaje (V)\, [3]
DTSTART;TZID=Europe/Ljubljana:20221212T140000
DTEND;TZID=Europe/Ljubljana:20221212T170000
DTSTAMP:20260423T082213Z
UID:fmf-AFLABS-URNIK:premaknjeno-srecanje:93136
ATTENDEE:1. letnik (FM)
CATEGORIES:Entry,Standard
COLOR:darkgreen
DESCRIPTION:Predmet: Računalniški praktikum (FM-1)\, Vaje (V)\, [3]\nLet
 niki: 1. letnik (FM)\nIzvajalci: Matej Rojec\nProstor: 3.10
LOCATION:3.10
ORGANIZER:Matej Rojec
RELATED-TO:fmf-AFLABS-URNIK:srecanje:7939
X-WR-TIMEZONE:Europe/Ljubljana
END:VEVENT
BEGIN:VEVENT
SUMMARY:Računalniški praktikum (FM-1)\, Vaje (V)\, [3]
DTSTART;TZID=Europe/Ljubljana:20221219T140000
DTEND;TZID=Europe/Ljubljana:20221219T170000
DTSTAMP:20260423T082213Z
UID:fmf-AFLABS-URNIK:premaknjeno-srecanje:93137
ATTENDEE:1. letnik (FM)
CATEGORIES:Entry,Standard
COLOR:darkgreen
DESCRIPTION:Predmet: Računalniški praktikum (FM-1)\, Vaje (V)\, [3]\nLet
 niki: 1. letnik (FM)\nIzvajalci: Matej Rojec\nProstor: 3.10
LOCATION:3.10
ORGANIZER:Matej Rojec
RELATED-TO:fmf-AFLABS-URNIK:srecanje:7939
X-WR-TIMEZONE:Europe/Ljubljana
END:VEVENT
BEGIN:VEVENT
SUMMARY:Računalniški praktikum (FM-1)\, Vaje (V)\, [3]
DTSTART;TZID=Europe/Ljubljana:20221226T140000
DTEND;TZID=Europe/Ljubljana:20221226T170000
DTSTAMP:20260423T082213Z
UID:fmf-AFLABS-URNIK:premaknjeno-srecanje:93138
ATTENDEE:1. letnik (FM)
CATEGORIES:Entry,Standard
COLOR:darkgreen
DESCRIPTION:Predmet: Računalniški praktikum (FM-1)\, Vaje (V)\, [3]\nLet
 niki: 1. letnik (FM)\nIzvajalci: Matej Rojec\nProstor: 3.10
LOCATION:3.10
ORGANIZER:Matej Rojec
RELATED-TO:fmf-AFLABS-URNIK:srecanje:7939
X-WR-TIMEZONE:Europe/Ljubljana
END:VEVENT
BEGIN:VEVENT
SUMMARY:Računalniški praktikum (FM-1)\, Vaje (V)\, [3]
DTSTART;TZID=Europe/Ljubljana:20230102T140000
DTEND;TZID=Europe/Ljubljana:20230102T170000
DTSTAMP:20260423T082213Z
UID:fmf-AFLABS-URNIK:premaknjeno-srecanje:93139
ATTENDEE:1. letnik (FM)
CATEGORIES:Entry,Standard
COLOR:darkgreen
DESCRIPTION:Predmet: Računalniški praktikum (FM-1)\, Vaje (V)\, [3]\nLet
 niki: 1. letnik (FM)\nIzvajalci: Matej Rojec\nProstor: 3.10
LOCATION:3.10
ORGANIZER:Matej Rojec
RELATED-TO:fmf-AFLABS-URNIK:srecanje:7939
X-WR-TIMEZONE:Europe/Ljubljana
END:VEVENT
BEGIN:VEVENT
SUMMARY:Računalniški praktikum (FM-1)\, Vaje (V)\, [3]
DTSTART;TZID=Europe/Ljubljana:20230109T140000
DTEND;TZID=Europe/Ljubljana:20230109T170000
DTSTAMP:20260423T082213Z
UID:fmf-AFLABS-URNIK:premaknjeno-srecanje:93140
ATTENDEE:1. letnik (FM)
CATEGORIES:Entry,Standard
COLOR:darkgreen
DESCRIPTION:Predmet: Računalniški praktikum (FM-1)\, Vaje (V)\, [3]\nLet
 niki: 1. letnik (FM)\nIzvajalci: Matej Rojec\nProstor: 3.10
LOCATION:3.10
ORGANIZER:Matej Rojec
RELATED-TO:fmf-AFLABS-URNIK:srecanje:7939
X-WR-TIMEZONE:Europe/Ljubljana
END:VEVENT
BEGIN:VEVENT
SUMMARY:Računalniški praktikum (FM-1)\, Vaje (V)\, [3]
DTSTART;TZID=Europe/Ljubljana:20230116T140000
DTEND;TZID=Europe/Ljubljana:20230116T170000
DTSTAMP:20260423T082213Z
UID:fmf-AFLABS-URNIK:premaknjeno-srecanje:93141
ATTENDEE:1. letnik (FM)
CATEGORIES:Entry,Standard
COLOR:darkgreen
DESCRIPTION:Predmet: Računalniški praktikum (FM-1)\, Vaje (V)\, [3]\nLet
 niki: 1. letnik (FM)\nIzvajalci: Matej Rojec\nProstor: 3.10
LOCATION:3.10
ORGANIZER:Matej Rojec
RELATED-TO:fmf-AFLABS-URNIK:srecanje:7939
X-WR-TIMEZONE:Europe/Ljubljana
END:VEVENT
END:VCALENDAR
