BEGIN:VCALENDAR
VERSION:2.0
PRODID:-//AFLabs urnik izvoz - fmf//aflabs.si//SI
DTSTAMP:20260425T135242Z
NAME:UL FMF urnik
REFRESH-INTERVAL:PT1H
SOURCE:https://urnik.fmf.uni-lj.si/teacher/87?day=2023-09-18&export=1
URL:https://urnik.fmf.uni-lj.si/teacher/87?day=2023-09-18&export=1
X-PUBLISHED-TTL:PT1H
X-WR-CALNAME:UL FMF urnik
X-WR-TIMEZONE:Europe/Ljubljana
BEGIN:VTIMEZONE
TZID:Europe/Ljubljana
BEGIN:DAYLIGHT
DTSTART:20260329T020000
RDATE:20260329T020000
RDATE:20270328T020000
TZNAME:CEST
TZOFFSETFROM:+0100
TZOFFSETTO:+0200
END:DAYLIGHT
BEGIN:STANDARD
DTSTART:20261025T030000
RDATE:20261025T030000
RDATE:20271031T030000
TZNAME:CET
TZOFFSETFROM:+0200
TZOFFSETTO:+0100
END:STANDARD
END:VTIMEZONE
BEGIN:VEVENT
SUMMARY:Matematična fizika II (FIZ-3)\, Predavanja (P)
DTSTART;TZID=Europe/Ljubljana:20231002T080000
DTEND;TZID=Europe/Ljubljana:20231002T100000
DTSTAMP:20260425T135242Z
UID:fmf-AFLABS-URNIK:premaknjeno-srecanje:68245
ATTENDEE:3. letnik (Fizika, 1. stopnja)
CATEGORIES:Entry,Standard
COLOR:darkgreen
DESCRIPTION:Predmet: Matematična fizika II (FIZ-3)\, Predavanja (P)\nLetn
 iki: 3. letnik (Fizika\, 1. stopnja)\nIzvajalci: Marko Žnidarič\nProstor
 : F2
LOCATION:F2
ORGANIZER:Marko Žnidarič
RELATED-TO:fmf-AFLABS-URNIK:srecanje:9308
X-WR-TIMEZONE:Europe/Ljubljana
END:VEVENT
BEGIN:VEVENT
SUMMARY:Matematična fizika II (FIZ-3)\, Predavanja (P)
DTSTART;TZID=Europe/Ljubljana:20231009T080000
DTEND;TZID=Europe/Ljubljana:20231009T100000
DTSTAMP:20260425T135242Z
UID:fmf-AFLABS-URNIK:premaknjeno-srecanje:68246
ATTENDEE:3. letnik (Fizika, 1. stopnja)
CATEGORIES:Entry,Standard
COLOR:darkgreen
DESCRIPTION:Predmet: Matematična fizika II (FIZ-3)\, Predavanja (P)\nLetn
 iki: 3. letnik (Fizika\, 1. stopnja)\nIzvajalci: Marko Žnidarič\nProstor
 : F2
LOCATION:F2
ORGANIZER:Marko Žnidarič
RELATED-TO:fmf-AFLABS-URNIK:srecanje:9308
X-WR-TIMEZONE:Europe/Ljubljana
END:VEVENT
BEGIN:VEVENT
SUMMARY:Matematična fizika II (FIZ-3)\, Predavanja (P)
DTSTART;TZID=Europe/Ljubljana:20231016T080000
DTEND;TZID=Europe/Ljubljana:20231016T100000
DTSTAMP:20260425T135242Z
UID:fmf-AFLABS-URNIK:premaknjeno-srecanje:68247
ATTENDEE:3. letnik (Fizika, 1. stopnja)
CATEGORIES:Entry,Standard
COLOR:darkgreen
DESCRIPTION:Predmet: Matematična fizika II (FIZ-3)\, Predavanja (P)\nLetn
 iki: 3. letnik (Fizika\, 1. stopnja)\nIzvajalci: Marko Žnidarič\nProstor
 : F2
LOCATION:F2
ORGANIZER:Marko Žnidarič
RELATED-TO:fmf-AFLABS-URNIK:srecanje:9308
X-WR-TIMEZONE:Europe/Ljubljana
END:VEVENT
BEGIN:VEVENT
SUMMARY:Matematična fizika II (FIZ-3)\, Predavanja (P)
DTSTART;TZID=Europe/Ljubljana:20231023T080000
DTEND;TZID=Europe/Ljubljana:20231023T100000
DTSTAMP:20260425T135242Z
UID:fmf-AFLABS-URNIK:premaknjeno-srecanje:68248
ATTENDEE:3. letnik (Fizika, 1. stopnja)
CATEGORIES:Entry,Standard
COLOR:darkgreen
DESCRIPTION:Predmet: Matematična fizika II (FIZ-3)\, Predavanja (P)\nLetn
 iki: 3. letnik (Fizika\, 1. stopnja)\nIzvajalci: Marko Žnidarič\nProstor
 : F2
LOCATION:F2
ORGANIZER:Marko Žnidarič
RELATED-TO:fmf-AFLABS-URNIK:srecanje:9308
X-WR-TIMEZONE:Europe/Ljubljana
END:VEVENT
BEGIN:VEVENT
SUMMARY:Rezervacija
DTSTART;TZID=Europe/Ljubljana:20230901T100000
DTEND;TZID=Europe/Ljubljana:20230901T120000
DTSTAMP:20260425T135242Z
UID:fmf-AFLABS-URNIK:rezervacija:13080
ATTENDEE:1. letnik (M)
CATEGORIES:Reservation
COLOR:royalblue
DESCRIPTION:Predmeti: Fizika 1 (MAT-1)\nLetniki: 1. letnik (M)\nIzvajalci:
  Marko Žnidarič\nProstori: VFP
LOCATION:VFP
ORGANIZER:Marko Žnidarič
X-WR-TIMEZONE:Europe/Ljubljana
END:VEVENT
BEGIN:VEVENT
SUMMARY:Rezervacija
DTSTART;TZID=Europe/Ljubljana:20231018T090000
DTEND;TZID=Europe/Ljubljana:20231018T100000
DTSTAMP:20260425T135242Z
UID:fmf-AFLABS-URNIK:rezervacija:13457
CATEGORIES:Reservation
COLOR:royalblue
DESCRIPTION:Predmeti: \nLetniki: \nIzvajalci: Marko Žnidarič\nProstori: 
 Sejna soba J21
LOCATION:Sejna soba J21
ORGANIZER:Marko Žnidarič
X-WR-TIMEZONE:Europe/Ljubljana
END:VEVENT
END:VCALENDAR
