BEGIN:VCALENDAR
VERSION:2.0
PRODID:-//AFLabs urnik izvoz - fmf//aflabs.si//SI
DTSTAMP:20260423T183042Z
NAME:UL FMF urnik
REFRESH-INTERVAL:PT1H
SOURCE:https://urnik.fmf.uni-lj.si/teacher/87?day=2024-05-27&export=1
URL:https://urnik.fmf.uni-lj.si/teacher/87?day=2024-05-27&export=1
X-PUBLISHED-TTL:PT1H
X-WR-CALNAME:UL FMF urnik
X-WR-TIMEZONE:Europe/Ljubljana
BEGIN:VTIMEZONE
TZID:Europe/Ljubljana
BEGIN:DAYLIGHT
DTSTART:20260329T020000
RDATE:20260329T020000
RDATE:20270328T020000
TZNAME:CEST
TZOFFSETFROM:+0100
TZOFFSETTO:+0200
END:DAYLIGHT
BEGIN:STANDARD
DTSTART:20261025T030000
RDATE:20261025T030000
RDATE:20271031T030000
TZNAME:CET
TZOFFSETFROM:+0200
TZOFFSETTO:+0100
END:STANDARD
END:VTIMEZONE
BEGIN:VEVENT
SUMMARY:Statistična fizika (FIZ-M2)\, Predavanja (P)
DTSTART;TZID=Europe/Ljubljana:20240219T110000
DTEND;TZID=Europe/Ljubljana:20240219T140000
DTSTAMP:20260423T183042Z
UID:fmf-AFLABS-URNIK:premaknjeno-srecanje:132734
ATTENDEE:2. letnik (Fizika, 2. stopnja)
CATEGORIES:Entry,Standard
COLOR:darkgreen
DESCRIPTION:Predmet: Statistična fizika (FIZ-M2)\, Predavanja (P)\nLetnik
 i: 2. letnik (Fizika\, 2. stopnja)\nIzvajalci: Marko Žnidarič\nProstor: 
 F2
LOCATION:F2
ORGANIZER:Marko Žnidarič
RELATED-TO:fmf-AFLABS-URNIK:srecanje:10935
X-WR-TIMEZONE:Europe/Ljubljana
END:VEVENT
BEGIN:VEVENT
SUMMARY:Statistična fizika (FIZ-M2)\, Predavanja (P)
DTSTART;TZID=Europe/Ljubljana:20240226T110000
DTEND;TZID=Europe/Ljubljana:20240226T140000
DTSTAMP:20260423T183042Z
UID:fmf-AFLABS-URNIK:premaknjeno-srecanje:132735
ATTENDEE:2. letnik (Fizika, 2. stopnja)
CATEGORIES:Entry,Standard
COLOR:darkgreen
DESCRIPTION:Predmet: Statistična fizika (FIZ-M2)\, Predavanja (P)\nLetnik
 i: 2. letnik (Fizika\, 2. stopnja)\nIzvajalci: Marko Žnidarič\nProstor: 
 F2
LOCATION:F2
ORGANIZER:Marko Žnidarič
RELATED-TO:fmf-AFLABS-URNIK:srecanje:10935
X-WR-TIMEZONE:Europe/Ljubljana
END:VEVENT
BEGIN:VEVENT
SUMMARY:Statistična fizika (FIZ-M2)\, Predavanja (P)
DTSTART;TZID=Europe/Ljubljana:20240304T110000
DTEND;TZID=Europe/Ljubljana:20240304T140000
DTSTAMP:20260423T183042Z
UID:fmf-AFLABS-URNIK:premaknjeno-srecanje:132736
ATTENDEE:2. letnik (Fizika, 2. stopnja)
CATEGORIES:Entry,Standard
COLOR:darkgreen
DESCRIPTION:Predmet: Statistična fizika (FIZ-M2)\, Predavanja (P)\nLetnik
 i: 2. letnik (Fizika\, 2. stopnja)\nIzvajalci: Marko Žnidarič\nProstor: 
 F2
LOCATION:F2
ORGANIZER:Marko Žnidarič
RELATED-TO:fmf-AFLABS-URNIK:srecanje:10935
X-WR-TIMEZONE:Europe/Ljubljana
END:VEVENT
BEGIN:VEVENT
SUMMARY:Statistična fizika (FIZ-M2)\, Predavanja (P)
DTSTART;TZID=Europe/Ljubljana:20240311T110000
DTEND;TZID=Europe/Ljubljana:20240311T140000
DTSTAMP:20260423T183042Z
UID:fmf-AFLABS-URNIK:premaknjeno-srecanje:132737
ATTENDEE:2. letnik (Fizika, 2. stopnja)
CATEGORIES:Entry,Standard
COLOR:darkgreen
DESCRIPTION:Predmet: Statistična fizika (FIZ-M2)\, Predavanja (P)\nLetnik
 i: 2. letnik (Fizika\, 2. stopnja)\nIzvajalci: Marko Žnidarič\nProstor: 
 F2
LOCATION:F2
ORGANIZER:Marko Žnidarič
RELATED-TO:fmf-AFLABS-URNIK:srecanje:10935
X-WR-TIMEZONE:Europe/Ljubljana
END:VEVENT
BEGIN:VEVENT
SUMMARY:Statistična fizika (FIZ-M2)\, Predavanja (P)
DTSTART;TZID=Europe/Ljubljana:20240318T110000
DTEND;TZID=Europe/Ljubljana:20240318T140000
DTSTAMP:20260423T183042Z
UID:fmf-AFLABS-URNIK:premaknjeno-srecanje:132738
ATTENDEE:2. letnik (Fizika, 2. stopnja)
CATEGORIES:Entry,Standard
COLOR:darkgreen
DESCRIPTION:Predmet: Statistična fizika (FIZ-M2)\, Predavanja (P)\nLetnik
 i: 2. letnik (Fizika\, 2. stopnja)\nIzvajalci: Marko Žnidarič\nProstor: 
 F2
LOCATION:F2
ORGANIZER:Marko Žnidarič
RELATED-TO:fmf-AFLABS-URNIK:srecanje:10935
X-WR-TIMEZONE:Europe/Ljubljana
END:VEVENT
BEGIN:VEVENT
SUMMARY:Statistična fizika (FIZ-M2)\, Predavanja (P)
DTSTART;TZID=Europe/Ljubljana:20240325T110000
DTEND;TZID=Europe/Ljubljana:20240325T140000
DTSTAMP:20260423T183042Z
UID:fmf-AFLABS-URNIK:premaknjeno-srecanje:132739
ATTENDEE:2. letnik (Fizika, 2. stopnja)
CATEGORIES:Entry,Standard
COLOR:darkgreen
DESCRIPTION:Predmet: Statistična fizika (FIZ-M2)\, Predavanja (P)\nLetnik
 i: 2. letnik (Fizika\, 2. stopnja)\nIzvajalci: Marko Žnidarič\nProstor: 
 F2
LOCATION:F2
ORGANIZER:Marko Žnidarič
RELATED-TO:fmf-AFLABS-URNIK:srecanje:10935
X-WR-TIMEZONE:Europe/Ljubljana
END:VEVENT
BEGIN:VEVENT
SUMMARY:Statistična fizika (FIZ-M2)\, Predavanja (P)
DTSTART;TZID=Europe/Ljubljana:20240401T110000
DTEND;TZID=Europe/Ljubljana:20240401T140000
DTSTAMP:20260423T183042Z
UID:fmf-AFLABS-URNIK:premaknjeno-srecanje:132740
ATTENDEE:2. letnik (Fizika, 2. stopnja)
CATEGORIES:Entry,Standard
COLOR:darkgreen
DESCRIPTION:Predmet: Statistična fizika (FIZ-M2)\, Predavanja (P)\nLetnik
 i: 2. letnik (Fizika\, 2. stopnja)\nIzvajalci: Marko Žnidarič\nProstor: 
 F2
LOCATION:F2
ORGANIZER:Marko Žnidarič
RELATED-TO:fmf-AFLABS-URNIK:srecanje:10935
X-WR-TIMEZONE:Europe/Ljubljana
END:VEVENT
BEGIN:VEVENT
SUMMARY:Statistična fizika (FIZ-M2)\, Predavanja (P)
DTSTART;TZID=Europe/Ljubljana:20240408T110000
DTEND;TZID=Europe/Ljubljana:20240408T140000
DTSTAMP:20260423T183042Z
UID:fmf-AFLABS-URNIK:premaknjeno-srecanje:132741
ATTENDEE:2. letnik (Fizika, 2. stopnja)
CATEGORIES:Entry,Standard
COLOR:darkgreen
DESCRIPTION:Predmet: Statistična fizika (FIZ-M2)\, Predavanja (P)\nLetnik
 i: 2. letnik (Fizika\, 2. stopnja)\nIzvajalci: Marko Žnidarič\nProstor: 
 F2
LOCATION:F2
ORGANIZER:Marko Žnidarič
RELATED-TO:fmf-AFLABS-URNIK:srecanje:10935
X-WR-TIMEZONE:Europe/Ljubljana
END:VEVENT
BEGIN:VEVENT
SUMMARY:Statistična fizika (FIZ-M2)\, Predavanja (P)
DTSTART;TZID=Europe/Ljubljana:20240415T110000
DTEND;TZID=Europe/Ljubljana:20240415T140000
DTSTAMP:20260423T183042Z
UID:fmf-AFLABS-URNIK:premaknjeno-srecanje:132742
ATTENDEE:2. letnik (Fizika, 2. stopnja)
CATEGORIES:Entry,Standard
COLOR:darkgreen
DESCRIPTION:Predmet: Statistična fizika (FIZ-M2)\, Predavanja (P)\nLetnik
 i: 2. letnik (Fizika\, 2. stopnja)\nIzvajalci: Marko Žnidarič\nProstor: 
 F2
LOCATION:F2
ORGANIZER:Marko Žnidarič
RELATED-TO:fmf-AFLABS-URNIK:srecanje:10935
X-WR-TIMEZONE:Europe/Ljubljana
END:VEVENT
BEGIN:VEVENT
SUMMARY:Statistična fizika (FIZ-M2)\, Predavanja (P)
DTSTART;TZID=Europe/Ljubljana:20240422T110000
DTEND;TZID=Europe/Ljubljana:20240422T140000
DTSTAMP:20260423T183042Z
UID:fmf-AFLABS-URNIK:premaknjeno-srecanje:132743
ATTENDEE:2. letnik (Fizika, 2. stopnja)
CATEGORIES:Entry,Standard
COLOR:darkgreen
DESCRIPTION:Predmet: Statistična fizika (FIZ-M2)\, Predavanja (P)\nLetnik
 i: 2. letnik (Fizika\, 2. stopnja)\nIzvajalci: Marko Žnidarič\nProstor: 
 F2
LOCATION:F2
ORGANIZER:Marko Žnidarič
RELATED-TO:fmf-AFLABS-URNIK:srecanje:10935
X-WR-TIMEZONE:Europe/Ljubljana
END:VEVENT
BEGIN:VEVENT
SUMMARY:Statistična fizika (FIZ-M2)\, Predavanja (P)
DTSTART;TZID=Europe/Ljubljana:20240429T110000
DTEND;TZID=Europe/Ljubljana:20240429T140000
DTSTAMP:20260423T183042Z
UID:fmf-AFLABS-URNIK:premaknjeno-srecanje:132744
ATTENDEE:2. letnik (Fizika, 2. stopnja)
CATEGORIES:Entry,Standard
COLOR:darkgreen
DESCRIPTION:Predmet: Statistična fizika (FIZ-M2)\, Predavanja (P)\nLetnik
 i: 2. letnik (Fizika\, 2. stopnja)\nIzvajalci: Marko Žnidarič\nProstor: 
 F2
LOCATION:F2
ORGANIZER:Marko Žnidarič
RELATED-TO:fmf-AFLABS-URNIK:srecanje:10935
X-WR-TIMEZONE:Europe/Ljubljana
END:VEVENT
BEGIN:VEVENT
SUMMARY:Statistična fizika (FIZ-M2)\, Predavanja (P)
DTSTART;TZID=Europe/Ljubljana:20240506T110000
DTEND;TZID=Europe/Ljubljana:20240506T140000
DTSTAMP:20260423T183042Z
UID:fmf-AFLABS-URNIK:premaknjeno-srecanje:132745
ATTENDEE:2. letnik (Fizika, 2. stopnja)
CATEGORIES:Entry,Standard
COLOR:darkgreen
DESCRIPTION:Predmet: Statistična fizika (FIZ-M2)\, Predavanja (P)\nLetnik
 i: 2. letnik (Fizika\, 2. stopnja)\nIzvajalci: Marko Žnidarič\nProstor: 
 F2
LOCATION:F2
ORGANIZER:Marko Žnidarič
RELATED-TO:fmf-AFLABS-URNIK:srecanje:10935
X-WR-TIMEZONE:Europe/Ljubljana
END:VEVENT
BEGIN:VEVENT
SUMMARY:Statistična fizika (FIZ-M2)\, Predavanja (P)
DTSTART;TZID=Europe/Ljubljana:20240513T110000
DTEND;TZID=Europe/Ljubljana:20240513T140000
DTSTAMP:20260423T183042Z
UID:fmf-AFLABS-URNIK:premaknjeno-srecanje:132746
ATTENDEE:2. letnik (Fizika, 2. stopnja)
CATEGORIES:Entry,Standard
COLOR:darkgreen
DESCRIPTION:Predmet: Statistična fizika (FIZ-M2)\, Predavanja (P)\nLetnik
 i: 2. letnik (Fizika\, 2. stopnja)\nIzvajalci: Marko Žnidarič\nProstor: 
 F2
LOCATION:F2
ORGANIZER:Marko Žnidarič
RELATED-TO:fmf-AFLABS-URNIK:srecanje:10935
X-WR-TIMEZONE:Europe/Ljubljana
END:VEVENT
BEGIN:VEVENT
SUMMARY:Statistična fizika (FIZ-M2)\, Predavanja (P)
DTSTART;TZID=Europe/Ljubljana:20240520T110000
DTEND;TZID=Europe/Ljubljana:20240520T140000
DTSTAMP:20260423T183042Z
UID:fmf-AFLABS-URNIK:premaknjeno-srecanje:132747
ATTENDEE:2. letnik (Fizika, 2. stopnja)
CATEGORIES:Entry,Standard
COLOR:darkgreen
DESCRIPTION:Predmet: Statistična fizika (FIZ-M2)\, Predavanja (P)\nLetnik
 i: 2. letnik (Fizika\, 2. stopnja)\nIzvajalci: Marko Žnidarič\nProstor: 
 F2
LOCATION:F2
ORGANIZER:Marko Žnidarič
RELATED-TO:fmf-AFLABS-URNIK:srecanje:10935
X-WR-TIMEZONE:Europe/Ljubljana
END:VEVENT
BEGIN:VEVENT
SUMMARY:Statistična fizika (FIZ-M2)\, Predavanja (P)
DTSTART;TZID=Europe/Ljubljana:20240527T110000
DTEND;TZID=Europe/Ljubljana:20240527T140000
DTSTAMP:20260423T183042Z
UID:fmf-AFLABS-URNIK:premaknjeno-srecanje:132748
ATTENDEE:2. letnik (Fizika, 2. stopnja)
CATEGORIES:Entry,Standard
COLOR:darkgreen
DESCRIPTION:Predmet: Statistična fizika (FIZ-M2)\, Predavanja (P)\nLetnik
 i: 2. letnik (Fizika\, 2. stopnja)\nIzvajalci: Marko Žnidarič\nProstor: 
 F2
LOCATION:F2
ORGANIZER:Marko Žnidarič
RELATED-TO:fmf-AFLABS-URNIK:srecanje:10935
X-WR-TIMEZONE:Europe/Ljubljana
END:VEVENT
BEGIN:VEVENT
SUMMARY:Fizika 1 (MAT-1)\, Predavanja (P)
DTSTART;TZID=Europe/Ljubljana:20240220T110000
DTEND;TZID=Europe/Ljubljana:20240220T140000
DTSTAMP:20260423T183042Z
UID:fmf-AFLABS-URNIK:premaknjeno-srecanje:124199
ATTENDEE:1. letnik (M)
CATEGORIES:Entry,Standard
COLOR:darkgreen
DESCRIPTION:Predmet: Fizika 1 (MAT-1)\, Predavanja (P)\nLetniki: 1. letnik
  (M)\nIzvajalci: Marko Žnidarič\nProstor: VFP
LOCATION:VFP
ORGANIZER:Marko Žnidarič
RELATED-TO:fmf-AFLABS-URNIK:srecanje:9847
X-WR-TIMEZONE:Europe/Ljubljana
END:VEVENT
BEGIN:VEVENT
SUMMARY:Fizika 1 (MAT-1)\, Predavanja (P)
DTSTART;TZID=Europe/Ljubljana:20240227T110000
DTEND;TZID=Europe/Ljubljana:20240227T140000
DTSTAMP:20260423T183042Z
UID:fmf-AFLABS-URNIK:premaknjeno-srecanje:124200
ATTENDEE:1. letnik (M)
CATEGORIES:Entry,Standard
COLOR:darkgreen
DESCRIPTION:Predmet: Fizika 1 (MAT-1)\, Predavanja (P)\nLetniki: 1. letnik
  (M)\nIzvajalci: Marko Žnidarič\nProstor: VFP
LOCATION:VFP
ORGANIZER:Marko Žnidarič
RELATED-TO:fmf-AFLABS-URNIK:srecanje:9847
X-WR-TIMEZONE:Europe/Ljubljana
END:VEVENT
BEGIN:VEVENT
SUMMARY:Fizika 1 (MAT-1)\, Predavanja (P)
DTSTART;TZID=Europe/Ljubljana:20240305T110000
DTEND;TZID=Europe/Ljubljana:20240305T140000
DTSTAMP:20260423T183042Z
UID:fmf-AFLABS-URNIK:premaknjeno-srecanje:124201
ATTENDEE:1. letnik (M)
CATEGORIES:Entry,Standard
COLOR:darkgreen
DESCRIPTION:Predmet: Fizika 1 (MAT-1)\, Predavanja (P)\nLetniki: 1. letnik
  (M)\nIzvajalci: Marko Žnidarič\nProstor: VFP
LOCATION:VFP
ORGANIZER:Marko Žnidarič
RELATED-TO:fmf-AFLABS-URNIK:srecanje:9847
X-WR-TIMEZONE:Europe/Ljubljana
END:VEVENT
BEGIN:VEVENT
SUMMARY:Fizika 1 (MAT-1)\, Predavanja (P)
DTSTART;TZID=Europe/Ljubljana:20240312T110000
DTEND;TZID=Europe/Ljubljana:20240312T140000
DTSTAMP:20260423T183042Z
UID:fmf-AFLABS-URNIK:premaknjeno-srecanje:124202
ATTENDEE:1. letnik (M)
CATEGORIES:Entry,Standard
COLOR:darkgreen
DESCRIPTION:Predmet: Fizika 1 (MAT-1)\, Predavanja (P)\nLetniki: 1. letnik
  (M)\nIzvajalci: Marko Žnidarič\nProstor: VFP
LOCATION:VFP
ORGANIZER:Marko Žnidarič
RELATED-TO:fmf-AFLABS-URNIK:srecanje:9847
X-WR-TIMEZONE:Europe/Ljubljana
END:VEVENT
BEGIN:VEVENT
SUMMARY:Fizika 1 (MAT-1)\, Predavanja (P)
DTSTART;TZID=Europe/Ljubljana:20240319T110000
DTEND;TZID=Europe/Ljubljana:20240319T140000
DTSTAMP:20260423T183042Z
UID:fmf-AFLABS-URNIK:premaknjeno-srecanje:124203
ATTENDEE:1. letnik (M)
CATEGORIES:Entry,Standard
COLOR:darkgreen
DESCRIPTION:Predmet: Fizika 1 (MAT-1)\, Predavanja (P)\nLetniki: 1. letnik
  (M)\nIzvajalci: Marko Žnidarič\nProstor: VFP
LOCATION:VFP
ORGANIZER:Marko Žnidarič
RELATED-TO:fmf-AFLABS-URNIK:srecanje:9847
X-WR-TIMEZONE:Europe/Ljubljana
END:VEVENT
BEGIN:VEVENT
SUMMARY:Fizika 1 (MAT-1)\, Predavanja (P)
DTSTART;TZID=Europe/Ljubljana:20240326T110000
DTEND;TZID=Europe/Ljubljana:20240326T140000
DTSTAMP:20260423T183042Z
UID:fmf-AFLABS-URNIK:premaknjeno-srecanje:124204
ATTENDEE:1. letnik (M)
CATEGORIES:Entry,Standard
COLOR:darkgreen
DESCRIPTION:Predmet: Fizika 1 (MAT-1)\, Predavanja (P)\nLetniki: 1. letnik
  (M)\nIzvajalci: Marko Žnidarič\nProstor: VFP
LOCATION:VFP
ORGANIZER:Marko Žnidarič
RELATED-TO:fmf-AFLABS-URNIK:srecanje:9847
X-WR-TIMEZONE:Europe/Ljubljana
END:VEVENT
BEGIN:VEVENT
SUMMARY:Fizika 1 (MAT-1)\, Predavanja (P)
DTSTART;TZID=Europe/Ljubljana:20240402T110000
DTEND;TZID=Europe/Ljubljana:20240402T140000
DTSTAMP:20260423T183042Z
UID:fmf-AFLABS-URNIK:premaknjeno-srecanje:124205
ATTENDEE:1. letnik (M)
CATEGORIES:Entry,Standard
COLOR:darkgreen
DESCRIPTION:Predmet: Fizika 1 (MAT-1)\, Predavanja (P)\nLetniki: 1. letnik
  (M)\nIzvajalci: Marko Žnidarič\nProstor: VFP
LOCATION:VFP
ORGANIZER:Marko Žnidarič
RELATED-TO:fmf-AFLABS-URNIK:srecanje:9847
X-WR-TIMEZONE:Europe/Ljubljana
END:VEVENT
BEGIN:VEVENT
SUMMARY:Fizika 1 (MAT-1)\, Predavanja (P)
DTSTART;TZID=Europe/Ljubljana:20240409T110000
DTEND;TZID=Europe/Ljubljana:20240409T140000
DTSTAMP:20260423T183042Z
UID:fmf-AFLABS-URNIK:premaknjeno-srecanje:124206
ATTENDEE:1. letnik (M)
CATEGORIES:Entry,Standard
COLOR:darkgreen
DESCRIPTION:Predmet: Fizika 1 (MAT-1)\, Predavanja (P)\nLetniki: 1. letnik
  (M)\nIzvajalci: Marko Žnidarič\nProstor: VFP
LOCATION:VFP
ORGANIZER:Marko Žnidarič
RELATED-TO:fmf-AFLABS-URNIK:srecanje:9847
X-WR-TIMEZONE:Europe/Ljubljana
END:VEVENT
BEGIN:VEVENT
SUMMARY:Fizika 1 (MAT-1)\, Predavanja (P)
DTSTART;TZID=Europe/Ljubljana:20240416T110000
DTEND;TZID=Europe/Ljubljana:20240416T140000
DTSTAMP:20260423T183042Z
UID:fmf-AFLABS-URNIK:premaknjeno-srecanje:124207
ATTENDEE:1. letnik (M)
CATEGORIES:Entry,Standard
COLOR:darkgreen
DESCRIPTION:Predmet: Fizika 1 (MAT-1)\, Predavanja (P)\nLetniki: 1. letnik
  (M)\nIzvajalci: Marko Žnidarič\nProstor: VFP
LOCATION:VFP
ORGANIZER:Marko Žnidarič
RELATED-TO:fmf-AFLABS-URNIK:srecanje:9847
X-WR-TIMEZONE:Europe/Ljubljana
END:VEVENT
BEGIN:VEVENT
SUMMARY:Fizika 1 (MAT-1)\, Predavanja (P)
DTSTART;TZID=Europe/Ljubljana:20240423T110000
DTEND;TZID=Europe/Ljubljana:20240423T140000
DTSTAMP:20260423T183042Z
UID:fmf-AFLABS-URNIK:premaknjeno-srecanje:124208
ATTENDEE:1. letnik (M)
CATEGORIES:Entry,Standard
COLOR:darkgreen
DESCRIPTION:Predmet: Fizika 1 (MAT-1)\, Predavanja (P)\nLetniki: 1. letnik
  (M)\nIzvajalci: Marko Žnidarič\nProstor: VFP
LOCATION:VFP
ORGANIZER:Marko Žnidarič
RELATED-TO:fmf-AFLABS-URNIK:srecanje:9847
X-WR-TIMEZONE:Europe/Ljubljana
END:VEVENT
BEGIN:VEVENT
SUMMARY:Fizika 1 (MAT-1)\, Predavanja (P)
DTSTART;TZID=Europe/Ljubljana:20240430T110000
DTEND;TZID=Europe/Ljubljana:20240430T140000
DTSTAMP:20260423T183042Z
UID:fmf-AFLABS-URNIK:premaknjeno-srecanje:124209
ATTENDEE:1. letnik (M)
CATEGORIES:Entry,Standard
COLOR:darkgreen
DESCRIPTION:Predmet: Fizika 1 (MAT-1)\, Predavanja (P)\nLetniki: 1. letnik
  (M)\nIzvajalci: Marko Žnidarič\nProstor: VFP
LOCATION:VFP
ORGANIZER:Marko Žnidarič
RELATED-TO:fmf-AFLABS-URNIK:srecanje:9847
X-WR-TIMEZONE:Europe/Ljubljana
END:VEVENT
BEGIN:VEVENT
SUMMARY:Fizika 1 (MAT-1)\, Predavanja (P)
DTSTART;TZID=Europe/Ljubljana:20240507T110000
DTEND;TZID=Europe/Ljubljana:20240507T140000
DTSTAMP:20260423T183042Z
UID:fmf-AFLABS-URNIK:premaknjeno-srecanje:124210
ATTENDEE:1. letnik (M)
CATEGORIES:Entry,Standard
COLOR:darkgreen
DESCRIPTION:Predmet: Fizika 1 (MAT-1)\, Predavanja (P)\nLetniki: 1. letnik
  (M)\nIzvajalci: Marko Žnidarič\nProstor: VFP
LOCATION:VFP
ORGANIZER:Marko Žnidarič
RELATED-TO:fmf-AFLABS-URNIK:srecanje:9847
X-WR-TIMEZONE:Europe/Ljubljana
END:VEVENT
BEGIN:VEVENT
SUMMARY:Fizika 1 (MAT-1)\, Predavanja (P)
DTSTART;TZID=Europe/Ljubljana:20240514T110000
DTEND;TZID=Europe/Ljubljana:20240514T140000
DTSTAMP:20260423T183042Z
UID:fmf-AFLABS-URNIK:premaknjeno-srecanje:124211
ATTENDEE:1. letnik (M)
CATEGORIES:Entry,Standard
COLOR:darkgreen
DESCRIPTION:Predmet: Fizika 1 (MAT-1)\, Predavanja (P)\nLetniki: 1. letnik
  (M)\nIzvajalci: Marko Žnidarič\nProstor: VFP
LOCATION:VFP
ORGANIZER:Marko Žnidarič
RELATED-TO:fmf-AFLABS-URNIK:srecanje:9847
X-WR-TIMEZONE:Europe/Ljubljana
END:VEVENT
BEGIN:VEVENT
SUMMARY:Fizika 1 (MAT-1)\, Predavanja (P)
DTSTART;TZID=Europe/Ljubljana:20240521T110000
DTEND;TZID=Europe/Ljubljana:20240521T140000
DTSTAMP:20260423T183042Z
UID:fmf-AFLABS-URNIK:premaknjeno-srecanje:124212
ATTENDEE:1. letnik (M)
CATEGORIES:Entry,Standard
COLOR:darkgreen
DESCRIPTION:Predmet: Fizika 1 (MAT-1)\, Predavanja (P)\nLetniki: 1. letnik
  (M)\nIzvajalci: Marko Žnidarič\nProstor: VFP
LOCATION:VFP
ORGANIZER:Marko Žnidarič
RELATED-TO:fmf-AFLABS-URNIK:srecanje:9847
X-WR-TIMEZONE:Europe/Ljubljana
END:VEVENT
BEGIN:VEVENT
SUMMARY:Fizika 1 (MAT-1)\, Predavanja (P)
DTSTART;TZID=Europe/Ljubljana:20240528T110000
DTEND;TZID=Europe/Ljubljana:20240528T140000
DTSTAMP:20260423T183042Z
UID:fmf-AFLABS-URNIK:premaknjeno-srecanje:124213
ATTENDEE:1. letnik (M)
CATEGORIES:Entry,Standard
COLOR:darkgreen
DESCRIPTION:Predmet: Fizika 1 (MAT-1)\, Predavanja (P)\nLetniki: 1. letnik
  (M)\nIzvajalci: Marko Žnidarič\nProstor: VFP
LOCATION:VFP
ORGANIZER:Marko Žnidarič
RELATED-TO:fmf-AFLABS-URNIK:srecanje:9847
X-WR-TIMEZONE:Europe/Ljubljana
END:VEVENT
BEGIN:VEVENT
SUMMARY:Nadomescanje Fizika 1
DTSTART;TZID=Europe/Ljubljana:20240411T150000
DTEND;TZID=Europe/Ljubljana:20240411T180000
DTSTAMP:20260423T183042Z
UID:fmf-AFLABS-URNIK:rezervacija:16085
ATTENDEE:1. letnik (M)
CATEGORIES:Reservation
COLOR:royalblue
DESCRIPTION:Predmeti: Fizika 1 (MAT-1)\nLetniki: 1. letnik (M)\nIzvajalci:
  Marko Žnidarič\nProstori: MFP
LOCATION:MFP
ORGANIZER:Marko Žnidarič
X-WR-TIMEZONE:Europe/Ljubljana
END:VEVENT
BEGIN:VEVENT
SUMMARY:izpit
DTSTART;TZID=Europe/Ljubljana:20240611T110000
DTEND;TZID=Europe/Ljubljana:20240611T120000
DTSTAMP:20260423T183042Z
UID:fmf-AFLABS-URNIK:rezervacija:17088
ATTENDEE:1. letnik (M)
CATEGORIES:Reservation
COLOR:royalblue
DESCRIPTION:Predmeti: Fizika 1 (MAT-1)\nLetniki: 1. letnik (M)\nIzvajalci:
  Marko Žnidarič\nProstori: 1.01
LOCATION:1.01
ORGANIZER:Marko Žnidarič
X-WR-TIMEZONE:Europe/Ljubljana
END:VEVENT
BEGIN:VEVENT
SUMMARY:izpit Fizika 1
DTSTART;TZID=Europe/Ljubljana:20240605T120000
DTEND;TZID=Europe/Ljubljana:20240605T140000
DTSTAMP:20260423T183042Z
UID:fmf-AFLABS-URNIK:rezervacija:16074
ATTENDEE:1. letnik (M)
CATEGORIES:Reservation
COLOR:royalblue
DESCRIPTION:Predmeti: Fizika 1 (MAT-1)\nLetniki: 1. letnik (M)\nIzvajalci:
  Marko Žnidarič\nProstori: VFP
LOCATION:VFP
ORGANIZER:Marko Žnidarič
X-WR-TIMEZONE:Europe/Ljubljana
END:VEVENT
BEGIN:VEVENT
SUMMARY:Fizika 1\, izpit
DTSTART;TZID=Europe/Ljubljana:20240605T080000
DTEND;TZID=Europe/Ljubljana:20240605T100000
DTSTAMP:20260423T183042Z
UID:fmf-AFLABS-URNIK:rezervacija:16783
ATTENDEE:1. letnik (M)
CATEGORIES:Reservation
COLOR:royalblue
DESCRIPTION:Predmeti: Fizika 1 (MAT-1)\nLetniki: 1. letnik (M)\nIzvajalci:
  Marko Žnidarič\nProstori: VFP
LOCATION:VFP
ORGANIZER:Marko Žnidarič
X-WR-TIMEZONE:Europe/Ljubljana
END:VEVENT
END:VCALENDAR
