BEGIN:VCALENDAR
VERSION:2.0
PRODID:-//AFLabs urnik izvoz - fmf//aflabs.si//SI
DTSTAMP:20260419T235109Z
NAME:UL FMF urnik
REFRESH-INTERVAL:PT1H
SOURCE:https://urnik.fmf.uni-lj.si/teacher/87?day=2025-04-28&export=1
URL:https://urnik.fmf.uni-lj.si/teacher/87?day=2025-04-28&export=1
X-PUBLISHED-TTL:PT1H
X-WR-CALNAME:UL FMF urnik
X-WR-TIMEZONE:Europe/Ljubljana
BEGIN:VTIMEZONE
TZID:Europe/Ljubljana
BEGIN:DAYLIGHT
DTSTART:20260329T020000
RDATE:20260329T020000
RDATE:20270328T020000
TZNAME:CEST
TZOFFSETFROM:+0100
TZOFFSETTO:+0200
END:DAYLIGHT
BEGIN:STANDARD
DTSTART:20261025T030000
RDATE:20261025T030000
RDATE:20271031T030000
TZNAME:CET
TZOFFSETFROM:+0200
TZOFFSETTO:+0100
END:STANDARD
END:VTIMEZONE
BEGIN:VEVENT
SUMMARY:Fizika 1 (MAT-1)\, Predavanja (P)
DTSTART;TZID=Europe/Ljubljana:20250218T110000
DTEND;TZID=Europe/Ljubljana:20250218T140000
DTSTAMP:20260419T235109Z
UID:fmf-AFLABS-URNIK:premaknjeno-srecanje:199400
ATTENDEE:1. letnik (M)
CATEGORIES:Entry,Standard
COLOR:darkgreen
DESCRIPTION:Predmet: Fizika 1 (MAT-1)\, Predavanja (P)\nLetniki: 1. letnik
  (M)\nIzvajalci: Marko Žnidarič\nProstor: VFP
LOCATION:VFP
ORGANIZER:Marko Žnidarič
RELATED-TO:fmf-AFLABS-URNIK:srecanje:14775
X-WR-TIMEZONE:Europe/Ljubljana
END:VEVENT
BEGIN:VEVENT
SUMMARY:Fizika 1 (MAT-1)\, Predavanja (P)
DTSTART;TZID=Europe/Ljubljana:20250225T110000
DTEND;TZID=Europe/Ljubljana:20250225T140000
DTSTAMP:20260419T235109Z
UID:fmf-AFLABS-URNIK:premaknjeno-srecanje:199401
ATTENDEE:1. letnik (M)
CATEGORIES:Entry,Standard
COLOR:darkgreen
DESCRIPTION:Predmet: Fizika 1 (MAT-1)\, Predavanja (P)\nLetniki: 1. letnik
  (M)\nIzvajalci: Marko Žnidarič\nProstor: VFP
LOCATION:VFP
ORGANIZER:Marko Žnidarič
RELATED-TO:fmf-AFLABS-URNIK:srecanje:14775
X-WR-TIMEZONE:Europe/Ljubljana
END:VEVENT
BEGIN:VEVENT
SUMMARY:Fizika 1 (MAT-1)\, Predavanja (P)
DTSTART;TZID=Europe/Ljubljana:20250304T110000
DTEND;TZID=Europe/Ljubljana:20250304T140000
DTSTAMP:20260419T235109Z
UID:fmf-AFLABS-URNIK:premaknjeno-srecanje:199402
ATTENDEE:1. letnik (M)
CATEGORIES:Entry,Standard
COLOR:darkgreen
DESCRIPTION:Predmet: Fizika 1 (MAT-1)\, Predavanja (P)\nLetniki: 1. letnik
  (M)\nIzvajalci: Marko Žnidarič\nProstor: VFP
LOCATION:VFP
ORGANIZER:Marko Žnidarič
RELATED-TO:fmf-AFLABS-URNIK:srecanje:14775
X-WR-TIMEZONE:Europe/Ljubljana
END:VEVENT
BEGIN:VEVENT
SUMMARY:Fizika 1 (MAT-1)\, Predavanja (P)
DTSTART;TZID=Europe/Ljubljana:20250311T110000
DTEND;TZID=Europe/Ljubljana:20250311T140000
DTSTAMP:20260419T235109Z
UID:fmf-AFLABS-URNIK:premaknjeno-srecanje:199403
ATTENDEE:1. letnik (M)
CATEGORIES:Entry,Standard
COLOR:darkgreen
DESCRIPTION:Predmet: Fizika 1 (MAT-1)\, Predavanja (P)\nLetniki: 1. letnik
  (M)\nIzvajalci: Marko Žnidarič\nProstor: VFP
LOCATION:VFP
ORGANIZER:Marko Žnidarič
RELATED-TO:fmf-AFLABS-URNIK:srecanje:14775
X-WR-TIMEZONE:Europe/Ljubljana
END:VEVENT
BEGIN:VEVENT
SUMMARY:Fizika 1 (MAT-1)\, Predavanja (P)
DTSTART;TZID=Europe/Ljubljana:20250318T110000
DTEND;TZID=Europe/Ljubljana:20250318T140000
DTSTAMP:20260419T235109Z
UID:fmf-AFLABS-URNIK:premaknjeno-srecanje:199404
ATTENDEE:1. letnik (M)
CATEGORIES:Entry,Standard
COLOR:darkgreen
DESCRIPTION:Predmet: Fizika 1 (MAT-1)\, Predavanja (P)\nLetniki: 1. letnik
  (M)\nIzvajalci: Marko Žnidarič\nProstor: VFP
LOCATION:VFP
ORGANIZER:Marko Žnidarič
RELATED-TO:fmf-AFLABS-URNIK:srecanje:14775
X-WR-TIMEZONE:Europe/Ljubljana
END:VEVENT
BEGIN:VEVENT
SUMMARY:Fizika 1 (MAT-1)\, Predavanja (P)
DTSTART;TZID=Europe/Ljubljana:20250325T110000
DTEND;TZID=Europe/Ljubljana:20250325T140000
DTSTAMP:20260419T235109Z
UID:fmf-AFLABS-URNIK:premaknjeno-srecanje:199405
ATTENDEE:1. letnik (M)
CATEGORIES:Entry,Standard
COLOR:darkgreen
DESCRIPTION:Predmet: Fizika 1 (MAT-1)\, Predavanja (P)\nLetniki: 1. letnik
  (M)\nIzvajalci: Marko Žnidarič\nProstor: VFP
LOCATION:VFP
ORGANIZER:Marko Žnidarič
RELATED-TO:fmf-AFLABS-URNIK:srecanje:14775
X-WR-TIMEZONE:Europe/Ljubljana
END:VEVENT
BEGIN:VEVENT
SUMMARY:Fizika 1 (MAT-1)\, Predavanja (P)
DTSTART;TZID=Europe/Ljubljana:20250401T110000
DTEND;TZID=Europe/Ljubljana:20250401T140000
DTSTAMP:20260419T235109Z
UID:fmf-AFLABS-URNIK:premaknjeno-srecanje:199406
ATTENDEE:1. letnik (M)
CATEGORIES:Entry,Standard
COLOR:darkgreen
DESCRIPTION:Predmet: Fizika 1 (MAT-1)\, Predavanja (P)\nLetniki: 1. letnik
  (M)\nIzvajalci: Marko Žnidarič\nProstor: VFP
LOCATION:VFP
ORGANIZER:Marko Žnidarič
RELATED-TO:fmf-AFLABS-URNIK:srecanje:14775
X-WR-TIMEZONE:Europe/Ljubljana
END:VEVENT
BEGIN:VEVENT
SUMMARY:Fizika 1 (MAT-1)\, Predavanja (P)
DTSTART;TZID=Europe/Ljubljana:20250408T110000
DTEND;TZID=Europe/Ljubljana:20250408T140000
DTSTAMP:20260419T235109Z
UID:fmf-AFLABS-URNIK:premaknjeno-srecanje:199407
ATTENDEE:1. letnik (M)
CATEGORIES:Entry,Standard
COLOR:darkgreen
DESCRIPTION:Predmet: Fizika 1 (MAT-1)\, Predavanja (P)\nLetniki: 1. letnik
  (M)\nIzvajalci: Marko Žnidarič\nProstor: VFP
LOCATION:VFP
ORGANIZER:Marko Žnidarič
RELATED-TO:fmf-AFLABS-URNIK:srecanje:14775
X-WR-TIMEZONE:Europe/Ljubljana
END:VEVENT
BEGIN:VEVENT
SUMMARY:Fizika 1 (MAT-1)\, Predavanja (P)
DTSTART;TZID=Europe/Ljubljana:20250415T110000
DTEND;TZID=Europe/Ljubljana:20250415T140000
DTSTAMP:20260419T235109Z
UID:fmf-AFLABS-URNIK:premaknjeno-srecanje:199408
ATTENDEE:1. letnik (M)
CATEGORIES:Entry,Standard
COLOR:darkgreen
DESCRIPTION:Predmet: Fizika 1 (MAT-1)\, Predavanja (P)\nLetniki: 1. letnik
  (M)\nIzvajalci: Marko Žnidarič\nProstor: VFP
LOCATION:VFP
ORGANIZER:Marko Žnidarič
RELATED-TO:fmf-AFLABS-URNIK:srecanje:14775
X-WR-TIMEZONE:Europe/Ljubljana
END:VEVENT
BEGIN:VEVENT
SUMMARY:Fizika 1 (MAT-1)\, Predavanja (P)
DTSTART;TZID=Europe/Ljubljana:20250422T110000
DTEND;TZID=Europe/Ljubljana:20250422T140000
DTSTAMP:20260419T235109Z
UID:fmf-AFLABS-URNIK:premaknjeno-srecanje:199409
ATTENDEE:1. letnik (M)
CATEGORIES:Entry,Standard
COLOR:darkgreen
DESCRIPTION:Predmet: Fizika 1 (MAT-1)\, Predavanja (P)\nLetniki: 1. letnik
  (M)\nIzvajalci: Marko Žnidarič\nProstor: VFP
LOCATION:VFP
ORGANIZER:Marko Žnidarič
RELATED-TO:fmf-AFLABS-URNIK:srecanje:14775
X-WR-TIMEZONE:Europe/Ljubljana
END:VEVENT
BEGIN:VEVENT
SUMMARY:Fizika 1 (MAT-1)\, Predavanja (P)
DTSTART;TZID=Europe/Ljubljana:20250429T110000
DTEND;TZID=Europe/Ljubljana:20250429T140000
DTSTAMP:20260419T235109Z
UID:fmf-AFLABS-URNIK:premaknjeno-srecanje:199410
ATTENDEE:1. letnik (M)
CATEGORIES:Entry,Standard
COLOR:darkgreen
DESCRIPTION:Predmet: Fizika 1 (MAT-1)\, Predavanja (P)\nLetniki: 1. letnik
  (M)\nIzvajalci: Marko Žnidarič\nProstor: VFP
LOCATION:VFP
ORGANIZER:Marko Žnidarič
RELATED-TO:fmf-AFLABS-URNIK:srecanje:14775
X-WR-TIMEZONE:Europe/Ljubljana
END:VEVENT
BEGIN:VEVENT
SUMMARY:Fizika 1 (MAT-1)\, Predavanja (P)
DTSTART;TZID=Europe/Ljubljana:20250506T110000
DTEND;TZID=Europe/Ljubljana:20250506T140000
DTSTAMP:20260419T235109Z
UID:fmf-AFLABS-URNIK:premaknjeno-srecanje:199411
ATTENDEE:1. letnik (M)
CATEGORIES:Entry,Standard
COLOR:darkgreen
DESCRIPTION:Predmet: Fizika 1 (MAT-1)\, Predavanja (P)\nLetniki: 1. letnik
  (M)\nIzvajalci: Marko Žnidarič\nProstor: VFP
LOCATION:VFP
ORGANIZER:Marko Žnidarič
RELATED-TO:fmf-AFLABS-URNIK:srecanje:14775
X-WR-TIMEZONE:Europe/Ljubljana
END:VEVENT
BEGIN:VEVENT
SUMMARY:Fizika 1 (MAT-1)\, Predavanja (P)
DTSTART;TZID=Europe/Ljubljana:20250513T110000
DTEND;TZID=Europe/Ljubljana:20250513T140000
DTSTAMP:20260419T235109Z
UID:fmf-AFLABS-URNIK:premaknjeno-srecanje:199412
ATTENDEE:1. letnik (M)
CATEGORIES:Entry,Standard
COLOR:darkgreen
DESCRIPTION:Predmet: Fizika 1 (MAT-1)\, Predavanja (P)\nLetniki: 1. letnik
  (M)\nIzvajalci: Marko Žnidarič\nProstor: VFP
LOCATION:VFP
ORGANIZER:Marko Žnidarič
RELATED-TO:fmf-AFLABS-URNIK:srecanje:14775
X-WR-TIMEZONE:Europe/Ljubljana
END:VEVENT
BEGIN:VEVENT
SUMMARY:Fizika 1 (MAT-1)\, Predavanja (P)
DTSTART;TZID=Europe/Ljubljana:20250520T110000
DTEND;TZID=Europe/Ljubljana:20250520T140000
DTSTAMP:20260419T235109Z
UID:fmf-AFLABS-URNIK:premaknjeno-srecanje:199413
ATTENDEE:1. letnik (M)
CATEGORIES:Entry,Standard
COLOR:darkgreen
DESCRIPTION:Predmet: Fizika 1 (MAT-1)\, Predavanja (P)\nLetniki: 1. letnik
  (M)\nIzvajalci: Marko Žnidarič\nProstor: VFP
LOCATION:VFP
ORGANIZER:Marko Žnidarič
RELATED-TO:fmf-AFLABS-URNIK:srecanje:14775
X-WR-TIMEZONE:Europe/Ljubljana
END:VEVENT
BEGIN:VEVENT
SUMMARY:Fizika 1 (MAT-1)\, Predavanja (P)
DTSTART;TZID=Europe/Ljubljana:20250527T110000
DTEND;TZID=Europe/Ljubljana:20250527T140000
DTSTAMP:20260419T235109Z
UID:fmf-AFLABS-URNIK:premaknjeno-srecanje:199414
ATTENDEE:1. letnik (M)
CATEGORIES:Entry,Standard
COLOR:darkgreen
DESCRIPTION:Predmet: Fizika 1 (MAT-1)\, Predavanja (P)\nLetniki: 1. letnik
  (M)\nIzvajalci: Marko Žnidarič\nProstor: VFP
LOCATION:VFP
ORGANIZER:Marko Žnidarič
RELATED-TO:fmf-AFLABS-URNIK:srecanje:14775
X-WR-TIMEZONE:Europe/Ljubljana
END:VEVENT
BEGIN:VEVENT
SUMMARY:Fizika 1 (MAT-1)\, Predavanja (P)
DTSTART;TZID=Europe/Ljubljana:20250603T110000
DTEND;TZID=Europe/Ljubljana:20250603T140000
DTSTAMP:20260419T235109Z
UID:fmf-AFLABS-URNIK:premaknjeno-srecanje:199415
ATTENDEE:1. letnik (M)
CATEGORIES:Entry,Standard
COLOR:darkgreen
DESCRIPTION:Predmet: Fizika 1 (MAT-1)\, Predavanja (P)\nLetniki: 1. letnik
  (M)\nIzvajalci: Marko Žnidarič\nProstor: VFP
LOCATION:VFP
ORGANIZER:Marko Žnidarič
RELATED-TO:fmf-AFLABS-URNIK:srecanje:14775
X-WR-TIMEZONE:Europe/Ljubljana
END:VEVENT
BEGIN:VEVENT
SUMMARY:Matematična fizika (APF-3)\, Predavanja (P)
DTSTART;TZID=Europe/Ljubljana:20250219T080000
DTEND;TZID=Europe/Ljubljana:20250219T100000
DTSTAMP:20260419T235109Z
UID:fmf-AFLABS-URNIK:premaknjeno-srecanje:202456
ATTENDEE:3. letnik (Aplikativna fizika)
CATEGORIES:Entry,Standard
COLOR:darkgreen
DESCRIPTION:Predmet: Matematična fizika (APF-3)\, Predavanja (P)\nLetniki
 : 3. letnik (Aplikativna fizika)\nIzvajalci: Marko Žnidarič\nProstor: F7
LOCATION:F7
ORGANIZER:Marko Žnidarič
RELATED-TO:fmf-AFLABS-URNIK:srecanje:14966
X-WR-TIMEZONE:Europe/Ljubljana
END:VEVENT
BEGIN:VEVENT
SUMMARY:Matematična fizika (APF-3)\, Predavanja (P)
DTSTART;TZID=Europe/Ljubljana:20250226T080000
DTEND;TZID=Europe/Ljubljana:20250226T100000
DTSTAMP:20260419T235109Z
UID:fmf-AFLABS-URNIK:premaknjeno-srecanje:202457
ATTENDEE:3. letnik (Aplikativna fizika)
CATEGORIES:Entry,Standard
COLOR:darkgreen
DESCRIPTION:Predmet: Matematična fizika (APF-3)\, Predavanja (P)\nLetniki
 : 3. letnik (Aplikativna fizika)\nIzvajalci: Marko Žnidarič\nProstor: F7
LOCATION:F7
ORGANIZER:Marko Žnidarič
RELATED-TO:fmf-AFLABS-URNIK:srecanje:14966
X-WR-TIMEZONE:Europe/Ljubljana
END:VEVENT
BEGIN:VEVENT
SUMMARY:Matematična fizika (APF-3)\, Predavanja (P)
DTSTART;TZID=Europe/Ljubljana:20250305T080000
DTEND;TZID=Europe/Ljubljana:20250305T100000
DTSTAMP:20260419T235109Z
UID:fmf-AFLABS-URNIK:premaknjeno-srecanje:202458
ATTENDEE:3. letnik (Aplikativna fizika)
CATEGORIES:Entry,Standard
COLOR:darkgreen
DESCRIPTION:Predmet: Matematična fizika (APF-3)\, Predavanja (P)\nLetniki
 : 3. letnik (Aplikativna fizika)\nIzvajalci: Marko Žnidarič\nProstor: F7
LOCATION:F7
ORGANIZER:Marko Žnidarič
RELATED-TO:fmf-AFLABS-URNIK:srecanje:14966
X-WR-TIMEZONE:Europe/Ljubljana
END:VEVENT
BEGIN:VEVENT
SUMMARY:Matematična fizika (APF-3)\, Predavanja (P)
DTSTART;TZID=Europe/Ljubljana:20250312T080000
DTEND;TZID=Europe/Ljubljana:20250312T100000
DTSTAMP:20260419T235109Z
UID:fmf-AFLABS-URNIK:premaknjeno-srecanje:202459
ATTENDEE:3. letnik (Aplikativna fizika)
CATEGORIES:Entry,Standard
COLOR:darkgreen
DESCRIPTION:Predmet: Matematična fizika (APF-3)\, Predavanja (P)\nLetniki
 : 3. letnik (Aplikativna fizika)\nIzvajalci: Marko Žnidarič\nProstor: F7
LOCATION:F7
ORGANIZER:Marko Žnidarič
RELATED-TO:fmf-AFLABS-URNIK:srecanje:14966
X-WR-TIMEZONE:Europe/Ljubljana
END:VEVENT
BEGIN:VEVENT
SUMMARY:Matematična fizika (APF-3)\, Predavanja (P)
DTSTART;TZID=Europe/Ljubljana:20250319T080000
DTEND;TZID=Europe/Ljubljana:20250319T100000
DTSTAMP:20260419T235109Z
UID:fmf-AFLABS-URNIK:premaknjeno-srecanje:202460
ATTENDEE:3. letnik (Aplikativna fizika)
CATEGORIES:Entry,Standard
COLOR:darkgreen
DESCRIPTION:Predmet: Matematična fizika (APF-3)\, Predavanja (P)\nLetniki
 : 3. letnik (Aplikativna fizika)\nIzvajalci: Marko Žnidarič\nProstor: F7
LOCATION:F7
ORGANIZER:Marko Žnidarič
RELATED-TO:fmf-AFLABS-URNIK:srecanje:14966
X-WR-TIMEZONE:Europe/Ljubljana
END:VEVENT
BEGIN:VEVENT
SUMMARY:Matematična fizika (APF-3)\, Predavanja (P)
DTSTART;TZID=Europe/Ljubljana:20250326T080000
DTEND;TZID=Europe/Ljubljana:20250326T100000
DTSTAMP:20260419T235109Z
UID:fmf-AFLABS-URNIK:premaknjeno-srecanje:202461
ATTENDEE:3. letnik (Aplikativna fizika)
CATEGORIES:Entry,Standard
COLOR:darkgreen
DESCRIPTION:Predmet: Matematična fizika (APF-3)\, Predavanja (P)\nLetniki
 : 3. letnik (Aplikativna fizika)\nIzvajalci: Marko Žnidarič\nProstor: F7
LOCATION:F7
ORGANIZER:Marko Žnidarič
RELATED-TO:fmf-AFLABS-URNIK:srecanje:14966
X-WR-TIMEZONE:Europe/Ljubljana
END:VEVENT
BEGIN:VEVENT
SUMMARY:Matematična fizika (APF-3)\, Predavanja (P)
DTSTART;TZID=Europe/Ljubljana:20250402T080000
DTEND;TZID=Europe/Ljubljana:20250402T100000
DTSTAMP:20260419T235109Z
UID:fmf-AFLABS-URNIK:premaknjeno-srecanje:202462
ATTENDEE:3. letnik (Aplikativna fizika)
CATEGORIES:Entry,Standard
COLOR:darkgreen
DESCRIPTION:Predmet: Matematična fizika (APF-3)\, Predavanja (P)\nLetniki
 : 3. letnik (Aplikativna fizika)\nIzvajalci: Marko Žnidarič\nProstor: F7
LOCATION:F7
ORGANIZER:Marko Žnidarič
RELATED-TO:fmf-AFLABS-URNIK:srecanje:14966
X-WR-TIMEZONE:Europe/Ljubljana
END:VEVENT
BEGIN:VEVENT
SUMMARY:Matematična fizika (APF-3)\, Predavanja (P)
DTSTART;TZID=Europe/Ljubljana:20250409T080000
DTEND;TZID=Europe/Ljubljana:20250409T100000
DTSTAMP:20260419T235109Z
UID:fmf-AFLABS-URNIK:premaknjeno-srecanje:202463
ATTENDEE:3. letnik (Aplikativna fizika)
CATEGORIES:Entry,Standard
COLOR:darkgreen
DESCRIPTION:Predmet: Matematična fizika (APF-3)\, Predavanja (P)\nLetniki
 : 3. letnik (Aplikativna fizika)\nIzvajalci: Marko Žnidarič\nProstor: F7
LOCATION:F7
ORGANIZER:Marko Žnidarič
RELATED-TO:fmf-AFLABS-URNIK:srecanje:14966
X-WR-TIMEZONE:Europe/Ljubljana
END:VEVENT
BEGIN:VEVENT
SUMMARY:Matematična fizika (APF-3)\, Predavanja (P)
DTSTART;TZID=Europe/Ljubljana:20250416T080000
DTEND;TZID=Europe/Ljubljana:20250416T100000
DTSTAMP:20260419T235109Z
UID:fmf-AFLABS-URNIK:premaknjeno-srecanje:202464
ATTENDEE:3. letnik (Aplikativna fizika)
CATEGORIES:Entry,Standard
COLOR:darkgreen
DESCRIPTION:Predmet: Matematična fizika (APF-3)\, Predavanja (P)\nLetniki
 : 3. letnik (Aplikativna fizika)\nIzvajalci: Marko Žnidarič\nProstor: F7
LOCATION:F7
ORGANIZER:Marko Žnidarič
RELATED-TO:fmf-AFLABS-URNIK:srecanje:14966
X-WR-TIMEZONE:Europe/Ljubljana
END:VEVENT
BEGIN:VEVENT
SUMMARY:Matematična fizika (APF-3)\, Predavanja (P)
DTSTART;TZID=Europe/Ljubljana:20250423T080000
DTEND;TZID=Europe/Ljubljana:20250423T100000
DTSTAMP:20260419T235109Z
UID:fmf-AFLABS-URNIK:premaknjeno-srecanje:202465
ATTENDEE:3. letnik (Aplikativna fizika)
CATEGORIES:Entry,Standard
COLOR:darkgreen
DESCRIPTION:Predmet: Matematična fizika (APF-3)\, Predavanja (P)\nLetniki
 : 3. letnik (Aplikativna fizika)\nIzvajalci: Marko Žnidarič\nProstor: F7
LOCATION:F7
ORGANIZER:Marko Žnidarič
RELATED-TO:fmf-AFLABS-URNIK:srecanje:14966
X-WR-TIMEZONE:Europe/Ljubljana
END:VEVENT
BEGIN:VEVENT
SUMMARY:Matematična fizika (APF-3)\, Predavanja (P)
DTSTART;TZID=Europe/Ljubljana:20250430T080000
DTEND;TZID=Europe/Ljubljana:20250430T100000
DTSTAMP:20260419T235109Z
UID:fmf-AFLABS-URNIK:premaknjeno-srecanje:202466
ATTENDEE:3. letnik (Aplikativna fizika)
CATEGORIES:Entry,Standard
COLOR:darkgreen
DESCRIPTION:Predmet: Matematična fizika (APF-3)\, Predavanja (P)\nLetniki
 : 3. letnik (Aplikativna fizika)\nIzvajalci: Marko Žnidarič\nProstor: F7
LOCATION:F7
ORGANIZER:Marko Žnidarič
RELATED-TO:fmf-AFLABS-URNIK:srecanje:14966
X-WR-TIMEZONE:Europe/Ljubljana
END:VEVENT
BEGIN:VEVENT
SUMMARY:Matematična fizika (APF-3)\, Predavanja (P)
DTSTART;TZID=Europe/Ljubljana:20250507T080000
DTEND;TZID=Europe/Ljubljana:20250507T100000
DTSTAMP:20260419T235109Z
UID:fmf-AFLABS-URNIK:premaknjeno-srecanje:202467
ATTENDEE:3. letnik (Aplikativna fizika)
CATEGORIES:Entry,Standard
COLOR:darkgreen
DESCRIPTION:Predmet: Matematična fizika (APF-3)\, Predavanja (P)\nLetniki
 : 3. letnik (Aplikativna fizika)\nIzvajalci: Marko Žnidarič\nProstor: F7
LOCATION:F7
ORGANIZER:Marko Žnidarič
RELATED-TO:fmf-AFLABS-URNIK:srecanje:14966
X-WR-TIMEZONE:Europe/Ljubljana
END:VEVENT
BEGIN:VEVENT
SUMMARY:Matematična fizika (APF-3)\, Predavanja (P)
DTSTART;TZID=Europe/Ljubljana:20250514T080000
DTEND;TZID=Europe/Ljubljana:20250514T100000
DTSTAMP:20260419T235109Z
UID:fmf-AFLABS-URNIK:premaknjeno-srecanje:202468
ATTENDEE:3. letnik (Aplikativna fizika)
CATEGORIES:Entry,Standard
COLOR:darkgreen
DESCRIPTION:Predmet: Matematična fizika (APF-3)\, Predavanja (P)\nLetniki
 : 3. letnik (Aplikativna fizika)\nIzvajalci: Marko Žnidarič\nProstor: F7
LOCATION:F7
ORGANIZER:Marko Žnidarič
RELATED-TO:fmf-AFLABS-URNIK:srecanje:14966
X-WR-TIMEZONE:Europe/Ljubljana
END:VEVENT
BEGIN:VEVENT
SUMMARY:Matematična fizika (APF-3)\, Predavanja (P)
DTSTART;TZID=Europe/Ljubljana:20250521T080000
DTEND;TZID=Europe/Ljubljana:20250521T100000
DTSTAMP:20260419T235109Z
UID:fmf-AFLABS-URNIK:premaknjeno-srecanje:202469
ATTENDEE:3. letnik (Aplikativna fizika)
CATEGORIES:Entry,Standard
COLOR:darkgreen
DESCRIPTION:Predmet: Matematična fizika (APF-3)\, Predavanja (P)\nLetniki
 : 3. letnik (Aplikativna fizika)\nIzvajalci: Marko Žnidarič\nProstor: F7
LOCATION:F7
ORGANIZER:Marko Žnidarič
RELATED-TO:fmf-AFLABS-URNIK:srecanje:14966
X-WR-TIMEZONE:Europe/Ljubljana
END:VEVENT
BEGIN:VEVENT
SUMMARY:Matematična fizika (APF-3)\, Predavanja (P)
DTSTART;TZID=Europe/Ljubljana:20250528T080000
DTEND;TZID=Europe/Ljubljana:20250528T100000
DTSTAMP:20260419T235109Z
UID:fmf-AFLABS-URNIK:premaknjeno-srecanje:202470
ATTENDEE:3. letnik (Aplikativna fizika)
CATEGORIES:Entry,Standard
COLOR:darkgreen
DESCRIPTION:Predmet: Matematična fizika (APF-3)\, Predavanja (P)\nLetniki
 : 3. letnik (Aplikativna fizika)\nIzvajalci: Marko Žnidarič\nProstor: F7
LOCATION:F7
ORGANIZER:Marko Žnidarič
RELATED-TO:fmf-AFLABS-URNIK:srecanje:14966
X-WR-TIMEZONE:Europe/Ljubljana
END:VEVENT
BEGIN:VEVENT
SUMMARY:Matematična fizika (APF-3)\, Predavanja (P)
DTSTART;TZID=Europe/Ljubljana:20250604T080000
DTEND;TZID=Europe/Ljubljana:20250604T100000
DTSTAMP:20260419T235109Z
UID:fmf-AFLABS-URNIK:premaknjeno-srecanje:202471
ATTENDEE:3. letnik (Aplikativna fizika)
CATEGORIES:Entry,Standard
COLOR:darkgreen
DESCRIPTION:Predmet: Matematična fizika (APF-3)\, Predavanja (P)\nLetniki
 : 3. letnik (Aplikativna fizika)\nIzvajalci: Marko Žnidarič\nProstor: F7
LOCATION:F7
ORGANIZER:Marko Žnidarič
RELATED-TO:fmf-AFLABS-URNIK:srecanje:14966
X-WR-TIMEZONE:Europe/Ljubljana
END:VEVENT
BEGIN:VEVENT
SUMMARY:Matematična fizika (APF-3)\, Predavanja (P)
DTSTART;TZID=Europe/Ljubljana:20250220T080000
DTEND;TZID=Europe/Ljubljana:20250220T110000
DTSTAMP:20260419T235109Z
UID:fmf-AFLABS-URNIK:premaknjeno-srecanje:202472
ATTENDEE:3. letnik (Aplikativna fizika)
CATEGORIES:Entry,Standard
COLOR:darkgreen
DESCRIPTION:Predmet: Matematična fizika (APF-3)\, Predavanja (P)\nLetniki
 : 3. letnik (Aplikativna fizika)\nIzvajalci: Marko Žnidarič\nProstor: F7
LOCATION:F7
ORGANIZER:Marko Žnidarič
RELATED-TO:fmf-AFLABS-URNIK:srecanje:14967
X-WR-TIMEZONE:Europe/Ljubljana
END:VEVENT
BEGIN:VEVENT
SUMMARY:Matematična fizika (APF-3)\, Predavanja (P)
DTSTART;TZID=Europe/Ljubljana:20250227T080000
DTEND;TZID=Europe/Ljubljana:20250227T110000
DTSTAMP:20260419T235109Z
UID:fmf-AFLABS-URNIK:premaknjeno-srecanje:202473
ATTENDEE:3. letnik (Aplikativna fizika)
CATEGORIES:Entry,Standard
COLOR:darkgreen
DESCRIPTION:Predmet: Matematična fizika (APF-3)\, Predavanja (P)\nLetniki
 : 3. letnik (Aplikativna fizika)\nIzvajalci: Marko Žnidarič\nProstor: F7
LOCATION:F7
ORGANIZER:Marko Žnidarič
RELATED-TO:fmf-AFLABS-URNIK:srecanje:14967
X-WR-TIMEZONE:Europe/Ljubljana
END:VEVENT
BEGIN:VEVENT
SUMMARY:Matematična fizika (APF-3)\, Predavanja (P)
DTSTART;TZID=Europe/Ljubljana:20250306T080000
DTEND;TZID=Europe/Ljubljana:20250306T110000
DTSTAMP:20260419T235109Z
UID:fmf-AFLABS-URNIK:premaknjeno-srecanje:202474
ATTENDEE:3. letnik (Aplikativna fizika)
CATEGORIES:Entry,Standard
COLOR:darkgreen
DESCRIPTION:Predmet: Matematična fizika (APF-3)\, Predavanja (P)\nLetniki
 : 3. letnik (Aplikativna fizika)\nIzvajalci: Marko Žnidarič\nProstor: F7
LOCATION:F7
ORGANIZER:Marko Žnidarič
RELATED-TO:fmf-AFLABS-URNIK:srecanje:14967
X-WR-TIMEZONE:Europe/Ljubljana
END:VEVENT
BEGIN:VEVENT
SUMMARY:Matematična fizika (APF-3)\, Predavanja (P)
DTSTART;TZID=Europe/Ljubljana:20250313T080000
DTEND;TZID=Europe/Ljubljana:20250313T110000
DTSTAMP:20260419T235109Z
UID:fmf-AFLABS-URNIK:premaknjeno-srecanje:202475
ATTENDEE:3. letnik (Aplikativna fizika)
CATEGORIES:Entry,Standard
COLOR:darkgreen
DESCRIPTION:Predmet: Matematična fizika (APF-3)\, Predavanja (P)\nLetniki
 : 3. letnik (Aplikativna fizika)\nIzvajalci: Marko Žnidarič\nProstor: F7
LOCATION:F7
ORGANIZER:Marko Žnidarič
RELATED-TO:fmf-AFLABS-URNIK:srecanje:14967
X-WR-TIMEZONE:Europe/Ljubljana
END:VEVENT
BEGIN:VEVENT
SUMMARY:Matematična fizika (APF-3)\, Predavanja (P)
DTSTART;TZID=Europe/Ljubljana:20250320T080000
DTEND;TZID=Europe/Ljubljana:20250320T110000
DTSTAMP:20260419T235109Z
UID:fmf-AFLABS-URNIK:premaknjeno-srecanje:202476
ATTENDEE:3. letnik (Aplikativna fizika)
CATEGORIES:Entry,Standard
COLOR:darkgreen
DESCRIPTION:Predmet: Matematična fizika (APF-3)\, Predavanja (P)\nLetniki
 : 3. letnik (Aplikativna fizika)\nIzvajalci: Marko Žnidarič\nProstor: F7
LOCATION:F7
ORGANIZER:Marko Žnidarič
RELATED-TO:fmf-AFLABS-URNIK:srecanje:14967
X-WR-TIMEZONE:Europe/Ljubljana
END:VEVENT
BEGIN:VEVENT
SUMMARY:Matematična fizika (APF-3)\, Predavanja (P)
DTSTART;TZID=Europe/Ljubljana:20250327T080000
DTEND;TZID=Europe/Ljubljana:20250327T110000
DTSTAMP:20260419T235109Z
UID:fmf-AFLABS-URNIK:premaknjeno-srecanje:202477
ATTENDEE:3. letnik (Aplikativna fizika)
CATEGORIES:Entry,Standard
COLOR:darkgreen
DESCRIPTION:Predmet: Matematična fizika (APF-3)\, Predavanja (P)\nLetniki
 : 3. letnik (Aplikativna fizika)\nIzvajalci: Marko Žnidarič\nProstor: F7
LOCATION:F7
ORGANIZER:Marko Žnidarič
RELATED-TO:fmf-AFLABS-URNIK:srecanje:14967
X-WR-TIMEZONE:Europe/Ljubljana
END:VEVENT
BEGIN:VEVENT
SUMMARY:Matematična fizika (APF-3)\, Predavanja (P)
DTSTART;TZID=Europe/Ljubljana:20250403T080000
DTEND;TZID=Europe/Ljubljana:20250403T110000
DTSTAMP:20260419T235109Z
UID:fmf-AFLABS-URNIK:premaknjeno-srecanje:202478
ATTENDEE:3. letnik (Aplikativna fizika)
CATEGORIES:Entry,Standard
COLOR:darkgreen
DESCRIPTION:Predmet: Matematična fizika (APF-3)\, Predavanja (P)\nLetniki
 : 3. letnik (Aplikativna fizika)\nIzvajalci: Marko Žnidarič\nProstor: F7
LOCATION:F7
ORGANIZER:Marko Žnidarič
RELATED-TO:fmf-AFLABS-URNIK:srecanje:14967
X-WR-TIMEZONE:Europe/Ljubljana
END:VEVENT
BEGIN:VEVENT
SUMMARY:Matematična fizika (APF-3)\, Predavanja (P)
DTSTART;TZID=Europe/Ljubljana:20250410T080000
DTEND;TZID=Europe/Ljubljana:20250410T110000
DTSTAMP:20260419T235109Z
UID:fmf-AFLABS-URNIK:premaknjeno-srecanje:202479
ATTENDEE:3. letnik (Aplikativna fizika)
CATEGORIES:Entry,Standard
COLOR:darkgreen
DESCRIPTION:Predmet: Matematična fizika (APF-3)\, Predavanja (P)\nLetniki
 : 3. letnik (Aplikativna fizika)\nIzvajalci: Marko Žnidarič\nProstor: F7
LOCATION:F7
ORGANIZER:Marko Žnidarič
RELATED-TO:fmf-AFLABS-URNIK:srecanje:14967
X-WR-TIMEZONE:Europe/Ljubljana
END:VEVENT
BEGIN:VEVENT
SUMMARY:Matematična fizika (APF-3)\, Predavanja (P)
DTSTART;TZID=Europe/Ljubljana:20250417T080000
DTEND;TZID=Europe/Ljubljana:20250417T110000
DTSTAMP:20260419T235109Z
UID:fmf-AFLABS-URNIK:premaknjeno-srecanje:202480
ATTENDEE:3. letnik (Aplikativna fizika)
CATEGORIES:Entry,Standard
COLOR:darkgreen
DESCRIPTION:Predmet: Matematična fizika (APF-3)\, Predavanja (P)\nLetniki
 : 3. letnik (Aplikativna fizika)\nIzvajalci: Marko Žnidarič\nProstor: F7
LOCATION:F7
ORGANIZER:Marko Žnidarič
RELATED-TO:fmf-AFLABS-URNIK:srecanje:14967
X-WR-TIMEZONE:Europe/Ljubljana
END:VEVENT
BEGIN:VEVENT
SUMMARY:Matematična fizika (APF-3)\, Predavanja (P)
DTSTART;TZID=Europe/Ljubljana:20250424T080000
DTEND;TZID=Europe/Ljubljana:20250424T110000
DTSTAMP:20260419T235109Z
UID:fmf-AFLABS-URNIK:premaknjeno-srecanje:202481
ATTENDEE:3. letnik (Aplikativna fizika)
CATEGORIES:Entry,Standard
COLOR:darkgreen
DESCRIPTION:Predmet: Matematična fizika (APF-3)\, Predavanja (P)\nLetniki
 : 3. letnik (Aplikativna fizika)\nIzvajalci: Marko Žnidarič\nProstor: F7
LOCATION:F7
ORGANIZER:Marko Žnidarič
RELATED-TO:fmf-AFLABS-URNIK:srecanje:14967
X-WR-TIMEZONE:Europe/Ljubljana
END:VEVENT
BEGIN:VEVENT
SUMMARY:Matematična fizika (APF-3)\, Predavanja (P)
DTSTART;TZID=Europe/Ljubljana:20250501T080000
DTEND;TZID=Europe/Ljubljana:20250501T110000
DTSTAMP:20260419T235109Z
UID:fmf-AFLABS-URNIK:premaknjeno-srecanje:202482
ATTENDEE:3. letnik (Aplikativna fizika)
CATEGORIES:Entry,Standard
COLOR:darkgreen
DESCRIPTION:Predmet: Matematična fizika (APF-3)\, Predavanja (P)\nLetniki
 : 3. letnik (Aplikativna fizika)\nIzvajalci: Marko Žnidarič\nProstor: F7
LOCATION:F7
ORGANIZER:Marko Žnidarič
RELATED-TO:fmf-AFLABS-URNIK:srecanje:14967
X-WR-TIMEZONE:Europe/Ljubljana
END:VEVENT
BEGIN:VEVENT
SUMMARY:Matematična fizika (APF-3)\, Predavanja (P)
DTSTART;TZID=Europe/Ljubljana:20250508T080000
DTEND;TZID=Europe/Ljubljana:20250508T110000
DTSTAMP:20260419T235109Z
UID:fmf-AFLABS-URNIK:premaknjeno-srecanje:202483
ATTENDEE:3. letnik (Aplikativna fizika)
CATEGORIES:Entry,Standard
COLOR:darkgreen
DESCRIPTION:Predmet: Matematična fizika (APF-3)\, Predavanja (P)\nLetniki
 : 3. letnik (Aplikativna fizika)\nIzvajalci: Marko Žnidarič\nProstor: F7
LOCATION:F7
ORGANIZER:Marko Žnidarič
RELATED-TO:fmf-AFLABS-URNIK:srecanje:14967
X-WR-TIMEZONE:Europe/Ljubljana
END:VEVENT
BEGIN:VEVENT
SUMMARY:Matematična fizika (APF-3)\, Predavanja (P)
DTSTART;TZID=Europe/Ljubljana:20250515T080000
DTEND;TZID=Europe/Ljubljana:20250515T110000
DTSTAMP:20260419T235109Z
UID:fmf-AFLABS-URNIK:premaknjeno-srecanje:202484
ATTENDEE:3. letnik (Aplikativna fizika)
CATEGORIES:Entry,Standard
COLOR:darkgreen
DESCRIPTION:Predmet: Matematična fizika (APF-3)\, Predavanja (P)\nLetniki
 : 3. letnik (Aplikativna fizika)\nIzvajalci: Marko Žnidarič\nProstor: F7
LOCATION:F7
ORGANIZER:Marko Žnidarič
RELATED-TO:fmf-AFLABS-URNIK:srecanje:14967
X-WR-TIMEZONE:Europe/Ljubljana
END:VEVENT
BEGIN:VEVENT
SUMMARY:Matematična fizika (APF-3)\, Predavanja (P)
DTSTART;TZID=Europe/Ljubljana:20250522T080000
DTEND;TZID=Europe/Ljubljana:20250522T110000
DTSTAMP:20260419T235109Z
UID:fmf-AFLABS-URNIK:premaknjeno-srecanje:202485
ATTENDEE:3. letnik (Aplikativna fizika)
CATEGORIES:Entry,Standard
COLOR:darkgreen
DESCRIPTION:Predmet: Matematična fizika (APF-3)\, Predavanja (P)\nLetniki
 : 3. letnik (Aplikativna fizika)\nIzvajalci: Marko Žnidarič\nProstor: F7
LOCATION:F7
ORGANIZER:Marko Žnidarič
RELATED-TO:fmf-AFLABS-URNIK:srecanje:14967
X-WR-TIMEZONE:Europe/Ljubljana
END:VEVENT
BEGIN:VEVENT
SUMMARY:Matematična fizika (APF-3)\, Predavanja (P)
DTSTART;TZID=Europe/Ljubljana:20250529T080000
DTEND;TZID=Europe/Ljubljana:20250529T110000
DTSTAMP:20260419T235109Z
UID:fmf-AFLABS-URNIK:premaknjeno-srecanje:202486
ATTENDEE:3. letnik (Aplikativna fizika)
CATEGORIES:Entry,Standard
COLOR:darkgreen
DESCRIPTION:Predmet: Matematična fizika (APF-3)\, Predavanja (P)\nLetniki
 : 3. letnik (Aplikativna fizika)\nIzvajalci: Marko Žnidarič\nProstor: F7
LOCATION:F7
ORGANIZER:Marko Žnidarič
RELATED-TO:fmf-AFLABS-URNIK:srecanje:14967
X-WR-TIMEZONE:Europe/Ljubljana
END:VEVENT
BEGIN:VEVENT
SUMMARY:Matematična fizika (APF-3)\, Predavanja (P)
DTSTART;TZID=Europe/Ljubljana:20250605T080000
DTEND;TZID=Europe/Ljubljana:20250605T110000
DTSTAMP:20260419T235109Z
UID:fmf-AFLABS-URNIK:premaknjeno-srecanje:202487
ATTENDEE:3. letnik (Aplikativna fizika)
CATEGORIES:Entry,Standard
COLOR:darkgreen
DESCRIPTION:Predmet: Matematična fizika (APF-3)\, Predavanja (P)\nLetniki
 : 3. letnik (Aplikativna fizika)\nIzvajalci: Marko Žnidarič\nProstor: F7
LOCATION:F7
ORGANIZER:Marko Žnidarič
RELATED-TO:fmf-AFLABS-URNIK:srecanje:14967
X-WR-TIMEZONE:Europe/Ljubljana
END:VEVENT
END:VCALENDAR
