BEGIN:VCALENDAR
VERSION:2.0
PRODID:-//AFLabs urnik izvoz - fmf//aflabs.si//SI
DTSTAMP:20260423T160355Z
NAME:UL FMF urnik
REFRESH-INTERVAL:PT1H
SOURCE:https://urnik.fmf.uni-lj.si/teacher/92?day=2021-01-18&export=1
URL:https://urnik.fmf.uni-lj.si/teacher/92?day=2021-01-18&export=1
X-PUBLISHED-TTL:PT1H
X-WR-CALNAME:UL FMF urnik
X-WR-TIMEZONE:Europe/Ljubljana
BEGIN:VTIMEZONE
TZID:Europe/Ljubljana
BEGIN:DAYLIGHT
DTSTART:20260329T020000
RDATE:20260329T020000
RDATE:20270328T020000
TZNAME:CEST
TZOFFSETFROM:+0100
TZOFFSETTO:+0200
END:DAYLIGHT
BEGIN:STANDARD
DTSTART:20261025T030000
RDATE:20261025T030000
RDATE:20271031T030000
TZNAME:CET
TZOFFSETFROM:+0200
TZOFFSETTO:+0100
END:STANDARD
END:VTIMEZONE
BEGIN:VEVENT
SUMMARY:GEO SEM (MAT-D)\, Seminar (S)
DTSTART;TZID=Europe/Ljubljana:20201214T100000
DTEND;TZID=Europe/Ljubljana:20201214T120000
DTSTAMP:20260423T160355Z
UID:fmf-AFLABS-URNIK:premaknjeno-srecanje:38169
ATTENDEE:doktorski študij (M)
CATEGORIES:Entry,Standard
COLOR:darkgreen
DESCRIPTION:Predmet: GEO SEM (MAT-D)\, Seminar (S)\nLetniki: doktorski št
 udij (M)\nIzvajalci: Janez Mrčun\nProstor: 3.06
LOCATION:3.06
ORGANIZER:Janez Mrčun
RELATED-TO:fmf-AFLABS-URNIK:srecanje:4842
X-WR-TIMEZONE:Europe/Ljubljana
END:VEVENT
BEGIN:VEVENT
SUMMARY:GEO SEM (MAT-D)\, Seminar (S)
DTSTART;TZID=Europe/Ljubljana:20201221T100000
DTEND;TZID=Europe/Ljubljana:20201221T120000
DTSTAMP:20260423T160355Z
UID:fmf-AFLABS-URNIK:premaknjeno-srecanje:38170
ATTENDEE:doktorski študij (M)
CATEGORIES:Entry,Standard
COLOR:darkgreen
DESCRIPTION:Predmet: GEO SEM (MAT-D)\, Seminar (S)\nLetniki: doktorski št
 udij (M)\nIzvajalci: Janez Mrčun\nProstor: 3.06
LOCATION:3.06
ORGANIZER:Janez Mrčun
RELATED-TO:fmf-AFLABS-URNIK:srecanje:4842
X-WR-TIMEZONE:Europe/Ljubljana
END:VEVENT
BEGIN:VEVENT
SUMMARY:GEO SEM (MAT-D)\, Seminar (S)
DTSTART;TZID=Europe/Ljubljana:20201228T100000
DTEND;TZID=Europe/Ljubljana:20201228T120000
DTSTAMP:20260423T160355Z
UID:fmf-AFLABS-URNIK:premaknjeno-srecanje:38171
ATTENDEE:doktorski študij (M)
CATEGORIES:Entry,Standard
COLOR:darkgreen
DESCRIPTION:Predmet: GEO SEM (MAT-D)\, Seminar (S)\nLetniki: doktorski št
 udij (M)\nIzvajalci: Janez Mrčun\nProstor: 3.06
LOCATION:3.06
ORGANIZER:Janez Mrčun
RELATED-TO:fmf-AFLABS-URNIK:srecanje:4842
X-WR-TIMEZONE:Europe/Ljubljana
END:VEVENT
BEGIN:VEVENT
SUMMARY:GEO SEM (MAT-D)\, Seminar (S)
DTSTART;TZID=Europe/Ljubljana:20210104T100000
DTEND;TZID=Europe/Ljubljana:20210104T120000
DTSTAMP:20260423T160355Z
UID:fmf-AFLABS-URNIK:premaknjeno-srecanje:38172
ATTENDEE:doktorski študij (M)
CATEGORIES:Entry,Standard
COLOR:darkgreen
DESCRIPTION:Predmet: GEO SEM (MAT-D)\, Seminar (S)\nLetniki: doktorski št
 udij (M)\nIzvajalci: Janez Mrčun\nProstor: 3.06
LOCATION:3.06
ORGANIZER:Janez Mrčun
RELATED-TO:fmf-AFLABS-URNIK:srecanje:4842
X-WR-TIMEZONE:Europe/Ljubljana
END:VEVENT
BEGIN:VEVENT
SUMMARY:GEO SEM (MAT-D)\, Seminar (S)
DTSTART;TZID=Europe/Ljubljana:20210111T100000
DTEND;TZID=Europe/Ljubljana:20210111T120000
DTSTAMP:20260423T160355Z
UID:fmf-AFLABS-URNIK:premaknjeno-srecanje:38173
ATTENDEE:doktorski študij (M)
CATEGORIES:Entry,Standard
COLOR:darkgreen
DESCRIPTION:Predmet: GEO SEM (MAT-D)\, Seminar (S)\nLetniki: doktorski št
 udij (M)\nIzvajalci: Janez Mrčun\nProstor: 3.06
LOCATION:3.06
ORGANIZER:Janez Mrčun
RELATED-TO:fmf-AFLABS-URNIK:srecanje:4842
X-WR-TIMEZONE:Europe/Ljubljana
END:VEVENT
BEGIN:VEVENT
SUMMARY:Matematika I (FIZ-1)\, Predavanja (P)
DTSTART;TZID=Europe/Ljubljana:20201214T110000
DTEND;TZID=Europe/Ljubljana:20201214T130000
DTSTAMP:20260423T160355Z
UID:fmf-AFLABS-URNIK:premaknjeno-srecanje:63906
ATTENDEE:1. letnik (Fizika, 1. stopnja)
CATEGORIES:Entry,Standard
COLOR:darkgreen
DESCRIPTION:Predmet: Matematika I (FIZ-1)\, Predavanja (P)\nLetniki: 1. le
 tnik (Fizika\, 1. stopnja)\nIzvajalci: Janez Mrčun\nProstor: VFP
LOCATION:VFP
ORGANIZER:Janez Mrčun
RELATED-TO:fmf-AFLABS-URNIK:srecanje:4974
X-WR-TIMEZONE:Europe/Ljubljana
END:VEVENT
BEGIN:VEVENT
SUMMARY:Matematika I (FIZ-1)\, Predavanja (P)
DTSTART;TZID=Europe/Ljubljana:20201221T110000
DTEND;TZID=Europe/Ljubljana:20201221T130000
DTSTAMP:20260423T160355Z
UID:fmf-AFLABS-URNIK:premaknjeno-srecanje:63907
ATTENDEE:1. letnik (Fizika, 1. stopnja)
CATEGORIES:Entry,Standard
COLOR:darkgreen
DESCRIPTION:Predmet: Matematika I (FIZ-1)\, Predavanja (P)\nLetniki: 1. le
 tnik (Fizika\, 1. stopnja)\nIzvajalci: Janez Mrčun\nProstor: VFP
LOCATION:VFP
ORGANIZER:Janez Mrčun
RELATED-TO:fmf-AFLABS-URNIK:srecanje:4974
X-WR-TIMEZONE:Europe/Ljubljana
END:VEVENT
BEGIN:VEVENT
SUMMARY:Matematika I (FIZ-1)\, Predavanja (P)
DTSTART;TZID=Europe/Ljubljana:20201228T110000
DTEND;TZID=Europe/Ljubljana:20201228T130000
DTSTAMP:20260423T160355Z
UID:fmf-AFLABS-URNIK:premaknjeno-srecanje:63908
ATTENDEE:1. letnik (Fizika, 1. stopnja)
CATEGORIES:Entry,Standard
COLOR:darkgreen
DESCRIPTION:Predmet: Matematika I (FIZ-1)\, Predavanja (P)\nLetniki: 1. le
 tnik (Fizika\, 1. stopnja)\nIzvajalci: Janez Mrčun\nProstor: VFP
LOCATION:VFP
ORGANIZER:Janez Mrčun
RELATED-TO:fmf-AFLABS-URNIK:srecanje:4974
X-WR-TIMEZONE:Europe/Ljubljana
END:VEVENT
BEGIN:VEVENT
SUMMARY:Matematika I (FIZ-1)\, Predavanja (P)
DTSTART;TZID=Europe/Ljubljana:20210104T110000
DTEND;TZID=Europe/Ljubljana:20210104T130000
DTSTAMP:20260423T160355Z
UID:fmf-AFLABS-URNIK:premaknjeno-srecanje:63909
ATTENDEE:1. letnik (Fizika, 1. stopnja)
CATEGORIES:Entry,Standard
COLOR:darkgreen
DESCRIPTION:Predmet: Matematika I (FIZ-1)\, Predavanja (P)\nLetniki: 1. le
 tnik (Fizika\, 1. stopnja)\nIzvajalci: Janez Mrčun\nProstor: VFP
LOCATION:VFP
ORGANIZER:Janez Mrčun
RELATED-TO:fmf-AFLABS-URNIK:srecanje:4974
X-WR-TIMEZONE:Europe/Ljubljana
END:VEVENT
BEGIN:VEVENT
SUMMARY:Matematika I (FIZ-1)\, Predavanja (P)
DTSTART;TZID=Europe/Ljubljana:20210111T110000
DTEND;TZID=Europe/Ljubljana:20210111T130000
DTSTAMP:20260423T160355Z
UID:fmf-AFLABS-URNIK:premaknjeno-srecanje:63910
ATTENDEE:1. letnik (Fizika, 1. stopnja)
CATEGORIES:Entry,Standard
COLOR:darkgreen
DESCRIPTION:Predmet: Matematika I (FIZ-1)\, Predavanja (P)\nLetniki: 1. le
 tnik (Fizika\, 1. stopnja)\nIzvajalci: Janez Mrčun\nProstor: VFP
LOCATION:VFP
ORGANIZER:Janez Mrčun
RELATED-TO:fmf-AFLABS-URNIK:srecanje:4974
X-WR-TIMEZONE:Europe/Ljubljana
END:VEVENT
BEGIN:VEVENT
SUMMARY:Matematika I (FIZ-1)\, Predavanja (P)
DTSTART;TZID=Europe/Ljubljana:20201216T140000
DTEND;TZID=Europe/Ljubljana:20201216T160000
DTSTAMP:20260423T160355Z
UID:fmf-AFLABS-URNIK:premaknjeno-srecanje:64125
ATTENDEE:1. letnik (Fizika, 1. stopnja)
CATEGORIES:Entry,Standard
COLOR:darkgreen
DESCRIPTION:Predmet: Matematika I (FIZ-1)\, Predavanja (P)\nLetniki: 1. le
 tnik (Fizika\, 1. stopnja)\nIzvajalci: Janez Mrčun\nProstor: VFP
LOCATION:VFP
ORGANIZER:Janez Mrčun
RELATED-TO:fmf-AFLABS-URNIK:srecanje:4976
X-WR-TIMEZONE:Europe/Ljubljana
END:VEVENT
BEGIN:VEVENT
SUMMARY:Matematika I (FIZ-1)\, Predavanja (P)
DTSTART;TZID=Europe/Ljubljana:20201223T140000
DTEND;TZID=Europe/Ljubljana:20201223T160000
DTSTAMP:20260423T160355Z
UID:fmf-AFLABS-URNIK:premaknjeno-srecanje:64126
ATTENDEE:1. letnik (Fizika, 1. stopnja)
CATEGORIES:Entry,Standard
COLOR:darkgreen
DESCRIPTION:Predmet: Matematika I (FIZ-1)\, Predavanja (P)\nLetniki: 1. le
 tnik (Fizika\, 1. stopnja)\nIzvajalci: Janez Mrčun\nProstor: VFP
LOCATION:VFP
ORGANIZER:Janez Mrčun
RELATED-TO:fmf-AFLABS-URNIK:srecanje:4976
X-WR-TIMEZONE:Europe/Ljubljana
END:VEVENT
BEGIN:VEVENT
SUMMARY:Matematika I (FIZ-1)\, Predavanja (P)
DTSTART;TZID=Europe/Ljubljana:20201230T140000
DTEND;TZID=Europe/Ljubljana:20201230T160000
DTSTAMP:20260423T160355Z
UID:fmf-AFLABS-URNIK:premaknjeno-srecanje:64127
ATTENDEE:1. letnik (Fizika, 1. stopnja)
CATEGORIES:Entry,Standard
COLOR:darkgreen
DESCRIPTION:Predmet: Matematika I (FIZ-1)\, Predavanja (P)\nLetniki: 1. le
 tnik (Fizika\, 1. stopnja)\nIzvajalci: Janez Mrčun\nProstor: VFP
LOCATION:VFP
ORGANIZER:Janez Mrčun
RELATED-TO:fmf-AFLABS-URNIK:srecanje:4976
X-WR-TIMEZONE:Europe/Ljubljana
END:VEVENT
BEGIN:VEVENT
SUMMARY:Matematika I (FIZ-1)\, Predavanja (P)
DTSTART;TZID=Europe/Ljubljana:20210106T140000
DTEND;TZID=Europe/Ljubljana:20210106T160000
DTSTAMP:20260423T160355Z
UID:fmf-AFLABS-URNIK:premaknjeno-srecanje:64128
ATTENDEE:1. letnik (Fizika, 1. stopnja)
CATEGORIES:Entry,Standard
COLOR:darkgreen
DESCRIPTION:Predmet: Matematika I (FIZ-1)\, Predavanja (P)\nLetniki: 1. le
 tnik (Fizika\, 1. stopnja)\nIzvajalci: Janez Mrčun\nProstor: VFP
LOCATION:VFP
ORGANIZER:Janez Mrčun
RELATED-TO:fmf-AFLABS-URNIK:srecanje:4976
X-WR-TIMEZONE:Europe/Ljubljana
END:VEVENT
BEGIN:VEVENT
SUMMARY:Matematika I (FIZ-1)\, Predavanja (P)
DTSTART;TZID=Europe/Ljubljana:20210113T140000
DTEND;TZID=Europe/Ljubljana:20210113T160000
DTSTAMP:20260423T160355Z
UID:fmf-AFLABS-URNIK:premaknjeno-srecanje:64129
ATTENDEE:1. letnik (Fizika, 1. stopnja)
CATEGORIES:Entry,Standard
COLOR:darkgreen
DESCRIPTION:Predmet: Matematika I (FIZ-1)\, Predavanja (P)\nLetniki: 1. le
 tnik (Fizika\, 1. stopnja)\nIzvajalci: Janez Mrčun\nProstor: VFP
LOCATION:VFP
ORGANIZER:Janez Mrčun
RELATED-TO:fmf-AFLABS-URNIK:srecanje:4976
X-WR-TIMEZONE:Europe/Ljubljana
END:VEVENT
BEGIN:VEVENT
SUMMARY:Matematika I (FIZ-1)\, Predavanja (P)
DTSTART;TZID=Europe/Ljubljana:20201218T100000
DTEND;TZID=Europe/Ljubljana:20201218T120000
DTSTAMP:20260423T160355Z
UID:fmf-AFLABS-URNIK:premaknjeno-srecanje:64346
ATTENDEE:1. letnik (Fizika, 1. stopnja)
CATEGORIES:Entry,Standard
COLOR:darkgreen
DESCRIPTION:Predmet: Matematika I (FIZ-1)\, Predavanja (P)\nLetniki: 1. le
 tnik (Fizika\, 1. stopnja)\nIzvajalci: Janez Mrčun\nProstor: VFP
LOCATION:VFP
ORGANIZER:Janez Mrčun
RELATED-TO:fmf-AFLABS-URNIK:srecanje:4978
X-WR-TIMEZONE:Europe/Ljubljana
END:VEVENT
BEGIN:VEVENT
SUMMARY:Matematika I (FIZ-1)\, Predavanja (P)
DTSTART;TZID=Europe/Ljubljana:20201225T100000
DTEND;TZID=Europe/Ljubljana:20201225T120000
DTSTAMP:20260423T160355Z
UID:fmf-AFLABS-URNIK:premaknjeno-srecanje:64347
ATTENDEE:1. letnik (Fizika, 1. stopnja)
CATEGORIES:Entry,Standard
COLOR:darkgreen
DESCRIPTION:Predmet: Matematika I (FIZ-1)\, Predavanja (P)\nLetniki: 1. le
 tnik (Fizika\, 1. stopnja)\nIzvajalci: Janez Mrčun\nProstor: VFP
LOCATION:VFP
ORGANIZER:Janez Mrčun
RELATED-TO:fmf-AFLABS-URNIK:srecanje:4978
X-WR-TIMEZONE:Europe/Ljubljana
END:VEVENT
BEGIN:VEVENT
SUMMARY:Matematika I (FIZ-1)\, Predavanja (P)
DTSTART;TZID=Europe/Ljubljana:20210101T100000
DTEND;TZID=Europe/Ljubljana:20210101T120000
DTSTAMP:20260423T160355Z
UID:fmf-AFLABS-URNIK:premaknjeno-srecanje:64348
ATTENDEE:1. letnik (Fizika, 1. stopnja)
CATEGORIES:Entry,Standard
COLOR:darkgreen
DESCRIPTION:Predmet: Matematika I (FIZ-1)\, Predavanja (P)\nLetniki: 1. le
 tnik (Fizika\, 1. stopnja)\nIzvajalci: Janez Mrčun\nProstor: VFP
LOCATION:VFP
ORGANIZER:Janez Mrčun
RELATED-TO:fmf-AFLABS-URNIK:srecanje:4978
X-WR-TIMEZONE:Europe/Ljubljana
END:VEVENT
BEGIN:VEVENT
SUMMARY:Matematika I (FIZ-1)\, Predavanja (P)
DTSTART;TZID=Europe/Ljubljana:20210108T100000
DTEND;TZID=Europe/Ljubljana:20210108T120000
DTSTAMP:20260423T160355Z
UID:fmf-AFLABS-URNIK:premaknjeno-srecanje:64349
ATTENDEE:1. letnik (Fizika, 1. stopnja)
CATEGORIES:Entry,Standard
COLOR:darkgreen
DESCRIPTION:Predmet: Matematika I (FIZ-1)\, Predavanja (P)\nLetniki: 1. le
 tnik (Fizika\, 1. stopnja)\nIzvajalci: Janez Mrčun\nProstor: VFP
LOCATION:VFP
ORGANIZER:Janez Mrčun
RELATED-TO:fmf-AFLABS-URNIK:srecanje:4978
X-WR-TIMEZONE:Europe/Ljubljana
END:VEVENT
BEGIN:VEVENT
SUMMARY:Matematika I (FIZ-1)\, Predavanja (P)
DTSTART;TZID=Europe/Ljubljana:20210115T100000
DTEND;TZID=Europe/Ljubljana:20210115T120000
DTSTAMP:20260423T160355Z
UID:fmf-AFLABS-URNIK:premaknjeno-srecanje:64350
ATTENDEE:1. letnik (Fizika, 1. stopnja)
CATEGORIES:Entry,Standard
COLOR:darkgreen
DESCRIPTION:Predmet: Matematika I (FIZ-1)\, Predavanja (P)\nLetniki: 1. le
 tnik (Fizika\, 1. stopnja)\nIzvajalci: Janez Mrčun\nProstor: VFP
LOCATION:VFP
ORGANIZER:Janez Mrčun
RELATED-TO:fmf-AFLABS-URNIK:srecanje:4978
X-WR-TIMEZONE:Europe/Ljubljana
END:VEVENT
BEGIN:VEVENT
SUMMARY:Matematika II (FIZ-1)\, Predavanja (P)
DTSTART;TZID=Europe/Ljubljana:20210217T090000
DTEND;TZID=Europe/Ljubljana:20210217T110000
DTSTAMP:20260423T160355Z
UID:fmf-AFLABS-URNIK:premaknjeno-srecanje:65215
ATTENDEE:1. letnik (Fizika, 1. stopnja)
CATEGORIES:Entry,Standard
COLOR:darkgreen
DESCRIPTION:Predmet: Matematika II (FIZ-1)\, Predavanja (P)\nLetniki: 1. l
 etnik (Fizika\, 1. stopnja)\nIzvajalci: Janez Mrčun\nProstor: VFP
LOCATION:VFP
ORGANIZER:Janez Mrčun
RELATED-TO:fmf-AFLABS-URNIK:srecanje:5713
X-WR-TIMEZONE:Europe/Ljubljana
END:VEVENT
BEGIN:VEVENT
SUMMARY:Matematika II (FIZ-1)\, Predavanja (P)
DTSTART;TZID=Europe/Ljubljana:20210219T110000
DTEND;TZID=Europe/Ljubljana:20210219T130000
DTSTAMP:20260423T160355Z
UID:fmf-AFLABS-URNIK:premaknjeno-srecanje:65261
ATTENDEE:1. letnik (Fizika, 1. stopnja)
CATEGORIES:Entry,Standard
COLOR:darkgreen
DESCRIPTION:Predmet: Matematika II (FIZ-1)\, Predavanja (P)\nLetniki: 1. l
 etnik (Fizika\, 1. stopnja)\nIzvajalci: Janez Mrčun\nProstor: VFP
LOCATION:VFP
ORGANIZER:Janez Mrčun
RELATED-TO:fmf-AFLABS-URNIK:srecanje:5712
X-WR-TIMEZONE:Europe/Ljubljana
END:VEVENT
BEGIN:VEVENT
SUMMARY:Rezervacija
DTSTART;TZID=Europe/Ljubljana:20201218T170000
DTEND;TZID=Europe/Ljubljana:20201218T200000
DTSTAMP:20260423T160355Z
UID:fmf-AFLABS-URNIK:rezervacija:6553
CATEGORIES:Reservation
COLOR:royalblue
DESCRIPTION:Predmeti: \nLetniki: \nIzvajalci: Janez Mrčun\nProstori: 2.05
 \, 3.04\, 3.05\, MFP\, VFP
LOCATION:2.05\, 3.04\, 3.05\, MFP\, VFP
ORGANIZER:Janez Mrčun
X-WR-TIMEZONE:Europe/Ljubljana
END:VEVENT
BEGIN:VEVENT
SUMMARY:Rezervacija
DTSTART;TZID=Europe/Ljubljana:20210120T130000
DTEND;TZID=Europe/Ljubljana:20210120T170000
DTSTAMP:20260423T160355Z
UID:fmf-AFLABS-URNIK:rezervacija:6570
CATEGORIES:Reservation
COLOR:royalblue
DESCRIPTION:Predmeti: \nLetniki: \nIzvajalci: Janez Mrčun\nProstori: 2.01
 \, 2.05\, VFP
LOCATION:2.01\, 2.05\, VFP
ORGANIZER:Janez Mrčun
X-WR-TIMEZONE:Europe/Ljubljana
END:VEVENT
BEGIN:VEVENT
SUMMARY:Rezervacija
DTSTART;TZID=Europe/Ljubljana:20210201T130000
DTEND;TZID=Europe/Ljubljana:20210201T170000
DTSTAMP:20260423T160355Z
UID:fmf-AFLABS-URNIK:rezervacija:6578
CATEGORIES:Reservation
COLOR:royalblue
DESCRIPTION:Predmeti: \nLetniki: \nIzvajalci: Janez Mrčun\nProstori: 2.05
 \, VFP
LOCATION:2.05\, VFP
ORGANIZER:Janez Mrčun
X-WR-TIMEZONE:Europe/Ljubljana
END:VEVENT
END:VCALENDAR
