BEGIN:VCALENDAR
VERSION:2.0
PRODID:-//AFLabs urnik izvoz - fmf//aflabs.si//SI
DTSTAMP:20260421T000830Z
NAME:UL FMF urnik
REFRESH-INTERVAL:PT1H
SOURCE:https://urnik.fmf.uni-lj.si/teacher/92?day=2023-01-23&export=1
URL:https://urnik.fmf.uni-lj.si/teacher/92?day=2023-01-23&export=1
X-PUBLISHED-TTL:PT1H
X-WR-CALNAME:UL FMF urnik
X-WR-TIMEZONE:Europe/Ljubljana
BEGIN:VTIMEZONE
TZID:Europe/Ljubljana
BEGIN:DAYLIGHT
DTSTART:20260329T020000
RDATE:20260329T020000
RDATE:20270328T020000
TZNAME:CEST
TZOFFSETFROM:+0100
TZOFFSETTO:+0200
END:DAYLIGHT
BEGIN:STANDARD
DTSTART:20261025T030000
RDATE:20261025T030000
RDATE:20271031T030000
TZNAME:CET
TZOFFSETFROM:+0200
TZOFFSETTO:+0100
END:STANDARD
END:VTIMEZONE
BEGIN:VEVENT
SUMMARY:GEO SEM (MAT-D)\, Seminar (S)
DTSTART;TZID=Europe/Ljubljana:20221219T100000
DTEND;TZID=Europe/Ljubljana:20221219T120000
DTSTAMP:20260421T000830Z
UID:fmf-AFLABS-URNIK:premaknjeno-srecanje:38200
ATTENDEE:doktorski študij (M)
CATEGORIES:Entry,Standard
COLOR:darkgreen
DESCRIPTION:Predmet: GEO SEM (MAT-D)\, Seminar (S)\nLetniki: doktorski št
 udij (M)\nIzvajalci: Janez Mrčun\nProstor: 3.06
LOCATION:3.06
ORGANIZER:Janez Mrčun
RELATED-TO:fmf-AFLABS-URNIK:srecanje:7651
X-WR-TIMEZONE:Europe/Ljubljana
END:VEVENT
BEGIN:VEVENT
SUMMARY:GEO SEM (MAT-D)\, Seminar (S)
DTSTART;TZID=Europe/Ljubljana:20221226T100000
DTEND;TZID=Europe/Ljubljana:20221226T120000
DTSTAMP:20260421T000830Z
UID:fmf-AFLABS-URNIK:premaknjeno-srecanje:38201
ATTENDEE:doktorski študij (M)
CATEGORIES:Entry,Standard
COLOR:darkgreen
DESCRIPTION:Predmet: GEO SEM (MAT-D)\, Seminar (S)\nLetniki: doktorski št
 udij (M)\nIzvajalci: Janez Mrčun\nProstor: 3.06
LOCATION:3.06
ORGANIZER:Janez Mrčun
RELATED-TO:fmf-AFLABS-URNIK:srecanje:7651
X-WR-TIMEZONE:Europe/Ljubljana
END:VEVENT
BEGIN:VEVENT
SUMMARY:GEO SEM (MAT-D)\, Seminar (S)
DTSTART;TZID=Europe/Ljubljana:20230102T100000
DTEND;TZID=Europe/Ljubljana:20230102T120000
DTSTAMP:20260421T000830Z
UID:fmf-AFLABS-URNIK:premaknjeno-srecanje:38202
ATTENDEE:doktorski študij (M)
CATEGORIES:Entry,Standard
COLOR:darkgreen
DESCRIPTION:Predmet: GEO SEM (MAT-D)\, Seminar (S)\nLetniki: doktorski št
 udij (M)\nIzvajalci: Janez Mrčun\nProstor: 3.06
LOCATION:3.06
ORGANIZER:Janez Mrčun
RELATED-TO:fmf-AFLABS-URNIK:srecanje:7651
X-WR-TIMEZONE:Europe/Ljubljana
END:VEVENT
BEGIN:VEVENT
SUMMARY:GEO SEM (MAT-D)\, Seminar (S)
DTSTART;TZID=Europe/Ljubljana:20230109T100000
DTEND;TZID=Europe/Ljubljana:20230109T120000
DTSTAMP:20260421T000830Z
UID:fmf-AFLABS-URNIK:premaknjeno-srecanje:38203
ATTENDEE:doktorski študij (M)
CATEGORIES:Entry,Standard
COLOR:darkgreen
DESCRIPTION:Predmet: GEO SEM (MAT-D)\, Seminar (S)\nLetniki: doktorski št
 udij (M)\nIzvajalci: Janez Mrčun\nProstor: 3.06
LOCATION:3.06
ORGANIZER:Janez Mrčun
RELATED-TO:fmf-AFLABS-URNIK:srecanje:7651
X-WR-TIMEZONE:Europe/Ljubljana
END:VEVENT
BEGIN:VEVENT
SUMMARY:GEO SEM (MAT-D)\, Seminar (S)
DTSTART;TZID=Europe/Ljubljana:20230116T100000
DTEND;TZID=Europe/Ljubljana:20230116T120000
DTSTAMP:20260421T000830Z
UID:fmf-AFLABS-URNIK:premaknjeno-srecanje:38204
ATTENDEE:doktorski študij (M)
CATEGORIES:Entry,Standard
COLOR:darkgreen
DESCRIPTION:Predmet: GEO SEM (MAT-D)\, Seminar (S)\nLetniki: doktorski št
 udij (M)\nIzvajalci: Janez Mrčun\nProstor: 3.06
LOCATION:3.06
ORGANIZER:Janez Mrčun
RELATED-TO:fmf-AFLABS-URNIK:srecanje:7651
X-WR-TIMEZONE:Europe/Ljubljana
END:VEVENT
BEGIN:VEVENT
SUMMARY:Matematika I (FIZ-1)\, Predavanja (P)
DTSTART;TZID=Europe/Ljubljana:20221219T110000
DTEND;TZID=Europe/Ljubljana:20221219T130000
DTSTAMP:20260421T000830Z
UID:fmf-AFLABS-URNIK:premaknjeno-srecanje:63937
ATTENDEE:1. letnik (Fizika, 1. stopnja)
CATEGORIES:Entry,Standard
COLOR:darkgreen
DESCRIPTION:Predmet: Matematika I (FIZ-1)\, Predavanja (P)\nLetniki: 1. le
 tnik (Fizika\, 1. stopnja)\nIzvajalci: Janez Mrčun\nProstor: VFP
LOCATION:VFP
ORGANIZER:Janez Mrčun
RELATED-TO:fmf-AFLABS-URNIK:srecanje:7780
X-WR-TIMEZONE:Europe/Ljubljana
END:VEVENT
BEGIN:VEVENT
SUMMARY:Matematika I (FIZ-1)\, Predavanja (P)
DTSTART;TZID=Europe/Ljubljana:20221226T110000
DTEND;TZID=Europe/Ljubljana:20221226T130000
DTSTAMP:20260421T000830Z
UID:fmf-AFLABS-URNIK:premaknjeno-srecanje:63938
ATTENDEE:1. letnik (Fizika, 1. stopnja)
CATEGORIES:Entry,Standard
COLOR:darkgreen
DESCRIPTION:Predmet: Matematika I (FIZ-1)\, Predavanja (P)\nLetniki: 1. le
 tnik (Fizika\, 1. stopnja)\nIzvajalci: Janez Mrčun\nProstor: VFP
LOCATION:VFP
ORGANIZER:Janez Mrčun
RELATED-TO:fmf-AFLABS-URNIK:srecanje:7780
X-WR-TIMEZONE:Europe/Ljubljana
END:VEVENT
BEGIN:VEVENT
SUMMARY:Matematika I (FIZ-1)\, Predavanja (P)
DTSTART;TZID=Europe/Ljubljana:20230102T110000
DTEND;TZID=Europe/Ljubljana:20230102T130000
DTSTAMP:20260421T000830Z
UID:fmf-AFLABS-URNIK:premaknjeno-srecanje:63939
ATTENDEE:1. letnik (Fizika, 1. stopnja)
CATEGORIES:Entry,Standard
COLOR:darkgreen
DESCRIPTION:Predmet: Matematika I (FIZ-1)\, Predavanja (P)\nLetniki: 1. le
 tnik (Fizika\, 1. stopnja)\nIzvajalci: Janez Mrčun\nProstor: VFP
LOCATION:VFP
ORGANIZER:Janez Mrčun
RELATED-TO:fmf-AFLABS-URNIK:srecanje:7780
X-WR-TIMEZONE:Europe/Ljubljana
END:VEVENT
BEGIN:VEVENT
SUMMARY:Matematika I (FIZ-1)\, Predavanja (P)
DTSTART;TZID=Europe/Ljubljana:20230109T110000
DTEND;TZID=Europe/Ljubljana:20230109T130000
DTSTAMP:20260421T000830Z
UID:fmf-AFLABS-URNIK:premaknjeno-srecanje:63940
ATTENDEE:1. letnik (Fizika, 1. stopnja)
CATEGORIES:Entry,Standard
COLOR:darkgreen
DESCRIPTION:Predmet: Matematika I (FIZ-1)\, Predavanja (P)\nLetniki: 1. le
 tnik (Fizika\, 1. stopnja)\nIzvajalci: Janez Mrčun\nProstor: VFP
LOCATION:VFP
ORGANIZER:Janez Mrčun
RELATED-TO:fmf-AFLABS-URNIK:srecanje:7780
X-WR-TIMEZONE:Europe/Ljubljana
END:VEVENT
BEGIN:VEVENT
SUMMARY:Matematika I (FIZ-1)\, Predavanja (P)
DTSTART;TZID=Europe/Ljubljana:20230116T110000
DTEND;TZID=Europe/Ljubljana:20230116T130000
DTSTAMP:20260421T000830Z
UID:fmf-AFLABS-URNIK:premaknjeno-srecanje:63941
ATTENDEE:1. letnik (Fizika, 1. stopnja)
CATEGORIES:Entry,Standard
COLOR:darkgreen
DESCRIPTION:Predmet: Matematika I (FIZ-1)\, Predavanja (P)\nLetniki: 1. le
 tnik (Fizika\, 1. stopnja)\nIzvajalci: Janez Mrčun\nProstor: VFP
LOCATION:VFP
ORGANIZER:Janez Mrčun
RELATED-TO:fmf-AFLABS-URNIK:srecanje:7780
X-WR-TIMEZONE:Europe/Ljubljana
END:VEVENT
BEGIN:VEVENT
SUMMARY:Matematika I (FIZ-1)\, Predavanja (P)
DTSTART;TZID=Europe/Ljubljana:20221221T140000
DTEND;TZID=Europe/Ljubljana:20221221T160000
DTSTAMP:20260421T000830Z
UID:fmf-AFLABS-URNIK:premaknjeno-srecanje:64156
ATTENDEE:1. letnik (Fizika, 1. stopnja)
CATEGORIES:Entry,Standard
COLOR:darkgreen
DESCRIPTION:Predmet: Matematika I (FIZ-1)\, Predavanja (P)\nLetniki: 1. le
 tnik (Fizika\, 1. stopnja)\nIzvajalci: Janez Mrčun\nProstor: VFP
LOCATION:VFP
ORGANIZER:Janez Mrčun
RELATED-TO:fmf-AFLABS-URNIK:srecanje:7782
X-WR-TIMEZONE:Europe/Ljubljana
END:VEVENT
BEGIN:VEVENT
SUMMARY:Matematika I (FIZ-1)\, Predavanja (P)
DTSTART;TZID=Europe/Ljubljana:20221228T140000
DTEND;TZID=Europe/Ljubljana:20221228T160000
DTSTAMP:20260421T000830Z
UID:fmf-AFLABS-URNIK:premaknjeno-srecanje:64157
ATTENDEE:1. letnik (Fizika, 1. stopnja)
CATEGORIES:Entry,Standard
COLOR:darkgreen
DESCRIPTION:Predmet: Matematika I (FIZ-1)\, Predavanja (P)\nLetniki: 1. le
 tnik (Fizika\, 1. stopnja)\nIzvajalci: Janez Mrčun\nProstor: VFP
LOCATION:VFP
ORGANIZER:Janez Mrčun
RELATED-TO:fmf-AFLABS-URNIK:srecanje:7782
X-WR-TIMEZONE:Europe/Ljubljana
END:VEVENT
BEGIN:VEVENT
SUMMARY:Matematika I (FIZ-1)\, Predavanja (P)
DTSTART;TZID=Europe/Ljubljana:20230104T140000
DTEND;TZID=Europe/Ljubljana:20230104T160000
DTSTAMP:20260421T000830Z
UID:fmf-AFLABS-URNIK:premaknjeno-srecanje:64158
ATTENDEE:1. letnik (Fizika, 1. stopnja)
CATEGORIES:Entry,Standard
COLOR:darkgreen
DESCRIPTION:Predmet: Matematika I (FIZ-1)\, Predavanja (P)\nLetniki: 1. le
 tnik (Fizika\, 1. stopnja)\nIzvajalci: Janez Mrčun\nProstor: VFP
LOCATION:VFP
ORGANIZER:Janez Mrčun
RELATED-TO:fmf-AFLABS-URNIK:srecanje:7782
X-WR-TIMEZONE:Europe/Ljubljana
END:VEVENT
BEGIN:VEVENT
SUMMARY:Matematika I (FIZ-1)\, Predavanja (P)
DTSTART;TZID=Europe/Ljubljana:20230111T140000
DTEND;TZID=Europe/Ljubljana:20230111T160000
DTSTAMP:20260421T000830Z
UID:fmf-AFLABS-URNIK:premaknjeno-srecanje:64159
ATTENDEE:1. letnik (Fizika, 1. stopnja)
CATEGORIES:Entry,Standard
COLOR:darkgreen
DESCRIPTION:Predmet: Matematika I (FIZ-1)\, Predavanja (P)\nLetniki: 1. le
 tnik (Fizika\, 1. stopnja)\nIzvajalci: Janez Mrčun\nProstor: VFP
LOCATION:VFP
ORGANIZER:Janez Mrčun
RELATED-TO:fmf-AFLABS-URNIK:srecanje:7782
X-WR-TIMEZONE:Europe/Ljubljana
END:VEVENT
BEGIN:VEVENT
SUMMARY:Matematika I (FIZ-1)\, Predavanja (P)
DTSTART;TZID=Europe/Ljubljana:20221223T100000
DTEND;TZID=Europe/Ljubljana:20221223T120000
DTSTAMP:20260421T000830Z
UID:fmf-AFLABS-URNIK:premaknjeno-srecanje:64378
ATTENDEE:1. letnik (Fizika, 1. stopnja)
CATEGORIES:Entry,Standard
COLOR:darkgreen
DESCRIPTION:Predmet: Matematika I (FIZ-1)\, Predavanja (P)\nLetniki: 1. le
 tnik (Fizika\, 1. stopnja)\nIzvajalci: Janez Mrčun\nProstor: VFP
LOCATION:VFP
ORGANIZER:Janez Mrčun
RELATED-TO:fmf-AFLABS-URNIK:srecanje:7784
X-WR-TIMEZONE:Europe/Ljubljana
END:VEVENT
BEGIN:VEVENT
SUMMARY:Matematika I (FIZ-1)\, Predavanja (P)
DTSTART;TZID=Europe/Ljubljana:20221230T100000
DTEND;TZID=Europe/Ljubljana:20221230T120000
DTSTAMP:20260421T000830Z
UID:fmf-AFLABS-URNIK:premaknjeno-srecanje:64379
ATTENDEE:1. letnik (Fizika, 1. stopnja)
CATEGORIES:Entry,Standard
COLOR:darkgreen
DESCRIPTION:Predmet: Matematika I (FIZ-1)\, Predavanja (P)\nLetniki: 1. le
 tnik (Fizika\, 1. stopnja)\nIzvajalci: Janez Mrčun\nProstor: VFP
LOCATION:VFP
ORGANIZER:Janez Mrčun
RELATED-TO:fmf-AFLABS-URNIK:srecanje:7784
X-WR-TIMEZONE:Europe/Ljubljana
END:VEVENT
BEGIN:VEVENT
SUMMARY:Matematika I (FIZ-1)\, Predavanja (P)
DTSTART;TZID=Europe/Ljubljana:20230106T100000
DTEND;TZID=Europe/Ljubljana:20230106T120000
DTSTAMP:20260421T000830Z
UID:fmf-AFLABS-URNIK:premaknjeno-srecanje:64380
ATTENDEE:1. letnik (Fizika, 1. stopnja)
CATEGORIES:Entry,Standard
COLOR:darkgreen
DESCRIPTION:Predmet: Matematika I (FIZ-1)\, Predavanja (P)\nLetniki: 1. le
 tnik (Fizika\, 1. stopnja)\nIzvajalci: Janez Mrčun\nProstor: VFP
LOCATION:VFP
ORGANIZER:Janez Mrčun
RELATED-TO:fmf-AFLABS-URNIK:srecanje:7784
X-WR-TIMEZONE:Europe/Ljubljana
END:VEVENT
BEGIN:VEVENT
SUMMARY:Matematika I (FIZ-1)\, Predavanja (P)
DTSTART;TZID=Europe/Ljubljana:20230113T100000
DTEND;TZID=Europe/Ljubljana:20230113T120000
DTSTAMP:20260421T000830Z
UID:fmf-AFLABS-URNIK:premaknjeno-srecanje:64381
ATTENDEE:1. letnik (Fizika, 1. stopnja)
CATEGORIES:Entry,Standard
COLOR:darkgreen
DESCRIPTION:Predmet: Matematika I (FIZ-1)\, Predavanja (P)\nLetniki: 1. le
 tnik (Fizika\, 1. stopnja)\nIzvajalci: Janez Mrčun\nProstor: VFP
LOCATION:VFP
ORGANIZER:Janez Mrčun
RELATED-TO:fmf-AFLABS-URNIK:srecanje:7784
X-WR-TIMEZONE:Europe/Ljubljana
END:VEVENT
BEGIN:VEVENT
SUMMARY:Matematika II (FIZ-1)\, Predavanja (P)
DTSTART;TZID=Europe/Ljubljana:20230215T090000
DTEND;TZID=Europe/Ljubljana:20230215T110000
DTSTAMP:20260421T000830Z
UID:fmf-AFLABS-URNIK:premaknjeno-srecanje:65245
ATTENDEE:1. letnik (Fizika, 1. stopnja)
CATEGORIES:Entry,Standard
COLOR:darkgreen
DESCRIPTION:Predmet: Matematika II (FIZ-1)\, Predavanja (P)\nLetniki: 1. l
 etnik (Fizika\, 1. stopnja)\nIzvajalci: Janez Mrčun\nProstor: VFP
LOCATION:VFP
ORGANIZER:Janez Mrčun
RELATED-TO:fmf-AFLABS-URNIK:srecanje:8519
X-WR-TIMEZONE:Europe/Ljubljana
END:VEVENT
BEGIN:VEVENT
SUMMARY:Matematika II (FIZ-1)\, Predavanja (P)
DTSTART;TZID=Europe/Ljubljana:20230222T090000
DTEND;TZID=Europe/Ljubljana:20230222T110000
DTSTAMP:20260421T000830Z
UID:fmf-AFLABS-URNIK:premaknjeno-srecanje:65246
ATTENDEE:1. letnik (Fizika, 1. stopnja)
CATEGORIES:Entry,Standard
COLOR:darkgreen
DESCRIPTION:Predmet: Matematika II (FIZ-1)\, Predavanja (P)\nLetniki: 1. l
 etnik (Fizika\, 1. stopnja)\nIzvajalci: Janez Mrčun\nProstor: VFP
LOCATION:VFP
ORGANIZER:Janez Mrčun
RELATED-TO:fmf-AFLABS-URNIK:srecanje:8519
X-WR-TIMEZONE:Europe/Ljubljana
END:VEVENT
BEGIN:VEVENT
SUMMARY:Matematika II (FIZ-1)\, Predavanja (P)
DTSTART;TZID=Europe/Ljubljana:20230217T110000
DTEND;TZID=Europe/Ljubljana:20230217T130000
DTSTAMP:20260421T000830Z
UID:fmf-AFLABS-URNIK:premaknjeno-srecanje:65291
ATTENDEE:1. letnik (Fizika, 1. stopnja)
CATEGORIES:Entry,Standard
COLOR:darkgreen
DESCRIPTION:Predmet: Matematika II (FIZ-1)\, Predavanja (P)\nLetniki: 1. l
 etnik (Fizika\, 1. stopnja)\nIzvajalci: Janez Mrčun\nProstor: VFP
LOCATION:VFP
ORGANIZER:Janez Mrčun
RELATED-TO:fmf-AFLABS-URNIK:srecanje:8520
X-WR-TIMEZONE:Europe/Ljubljana
END:VEVENT
BEGIN:VEVENT
SUMMARY:Matematika II (FIZ-1)\, Predavanja (P)
DTSTART;TZID=Europe/Ljubljana:20230224T110000
DTEND;TZID=Europe/Ljubljana:20230224T130000
DTSTAMP:20260421T000830Z
UID:fmf-AFLABS-URNIK:premaknjeno-srecanje:65292
ATTENDEE:1. letnik (Fizika, 1. stopnja)
CATEGORIES:Entry,Standard
COLOR:darkgreen
DESCRIPTION:Predmet: Matematika II (FIZ-1)\, Predavanja (P)\nLetniki: 1. l
 etnik (Fizika\, 1. stopnja)\nIzvajalci: Janez Mrčun\nProstor: VFP
LOCATION:VFP
ORGANIZER:Janez Mrčun
RELATED-TO:fmf-AFLABS-URNIK:srecanje:8520
X-WR-TIMEZONE:Europe/Ljubljana
END:VEVENT
BEGIN:VEVENT
SUMMARY:Rezervacija
DTSTART;TZID=Europe/Ljubljana:20230117T090000
DTEND;TZID=Europe/Ljubljana:20230117T110000
DTSTAMP:20260421T000830Z
UID:fmf-AFLABS-URNIK:rezervacija:10876
ATTENDEE:1. letnik (Fizika, 1. stopnja)
CATEGORIES:Reservation
COLOR:royalblue
DESCRIPTION:Predmeti: Matematika I (FIZ-1)\nLetniki: 1. letnik (Fizika\, 1
 . stopnja)\nIzvajalci: Janez Mrčun\nProstori: VFP
LOCATION:VFP
ORGANIZER:Janez Mrčun
X-WR-TIMEZONE:Europe/Ljubljana
END:VEVENT
BEGIN:VEVENT
SUMMARY:Rezervacija
DTSTART;TZID=Europe/Ljubljana:20230117T110000
DTEND;TZID=Europe/Ljubljana:20230117T140000
DTSTAMP:20260421T000830Z
UID:fmf-AFLABS-URNIK:rezervacija:10892
ATTENDEE:1. letnik (Fizika, 1. stopnja)
CATEGORIES:Reservation
COLOR:royalblue
DESCRIPTION:Predmeti: Matematika I (FIZ-1)\nLetniki: 1. letnik (Fizika\, 1
 . stopnja)\nIzvajalci: Janez Mrčun\nProstori: VFP
LOCATION:VFP
ORGANIZER:Janez Mrčun
X-WR-TIMEZONE:Europe/Ljubljana
END:VEVENT
BEGIN:VEVENT
SUMMARY:Rezervacija
DTSTART;TZID=Europe/Ljubljana:20230117T140000
DTEND;TZID=Europe/Ljubljana:20230117T160000
DTSTAMP:20260421T000830Z
UID:fmf-AFLABS-URNIK:rezervacija:10904
ATTENDEE:1. letnik (Fizika, 1. stopnja)
CATEGORIES:Reservation
COLOR:royalblue
DESCRIPTION:Predmeti: Matematika I (FIZ-1)\nLetniki: 1. letnik (Fizika\, 1
 . stopnja)\nIzvajalci: Janez Mrčun\nProstori: F6
LOCATION:F6
ORGANIZER:Janez Mrčun
X-WR-TIMEZONE:Europe/Ljubljana
END:VEVENT
BEGIN:VEVENT
SUMMARY:Rezervacija
DTSTART;TZID=Europe/Ljubljana:20230117T140000
DTEND;TZID=Europe/Ljubljana:20230117T160000
DTSTAMP:20260421T000830Z
UID:fmf-AFLABS-URNIK:rezervacija:10905
ATTENDEE:1. letnik (Fizika, 1. stopnja)
CATEGORIES:Reservation
COLOR:royalblue
DESCRIPTION:Predmeti: Matematika I (FIZ-1)\nLetniki: 1. letnik (Fizika\, 1
 . stopnja)\nIzvajalci: Janez Mrčun\nProstori: F8
LOCATION:F8
ORGANIZER:Janez Mrčun
X-WR-TIMEZONE:Europe/Ljubljana
END:VEVENT
BEGIN:VEVENT
SUMMARY:Rezervacija
DTSTART;TZID=Europe/Ljubljana:20230119T090000
DTEND;TZID=Europe/Ljubljana:20230119T120000
DTSTAMP:20260421T000830Z
UID:fmf-AFLABS-URNIK:rezervacija:10934
ATTENDEE:1. letnik (Fizika, 1. stopnja)
CATEGORIES:Reservation
COLOR:royalblue
DESCRIPTION:Predmeti: Matematika I (FIZ-1)\nLetniki: 1. letnik (Fizika\, 1
 . stopnja)\nIzvajalci: Janez Mrčun\nProstori: MFP\, VFP
LOCATION:MFP\, VFP
ORGANIZER:Janez Mrčun
X-WR-TIMEZONE:Europe/Ljubljana
END:VEVENT
BEGIN:VEVENT
SUMMARY:Rezervacija
DTSTART;TZID=Europe/Ljubljana:20230119T120000
DTEND;TZID=Europe/Ljubljana:20230119T130000
DTSTAMP:20260421T000830Z
UID:fmf-AFLABS-URNIK:rezervacija:10942
ATTENDEE:1. letnik (Fizika, 1. stopnja)
CATEGORIES:Reservation
COLOR:royalblue
DESCRIPTION:Predmeti: Matematika I (FIZ-1)\nLetniki: 1. letnik (Fizika\, 1
 . stopnja)\nIzvajalci: Janez Mrčun\nProstori: VFP
LOCATION:VFP
ORGANIZER:Janez Mrčun
X-WR-TIMEZONE:Europe/Ljubljana
END:VEVENT
BEGIN:VEVENT
SUMMARY:Rezervacija
DTSTART;TZID=Europe/Ljubljana:20230125T080000
DTEND;TZID=Europe/Ljubljana:20230125T130000
DTSTAMP:20260421T000830Z
UID:fmf-AFLABS-URNIK:rezervacija:11015
CATEGORIES:Reservation
COLOR:royalblue
DESCRIPTION:Predmeti: \nLetniki: \nIzvajalci: Janez Mrčun\nProstori: 2.02
LOCATION:2.02
ORGANIZER:Janez Mrčun
X-WR-TIMEZONE:Europe/Ljubljana
END:VEVENT
BEGIN:VEVENT
SUMMARY:Rezervacija
DTSTART;TZID=Europe/Ljubljana:20230130T080000
DTEND;TZID=Europe/Ljubljana:20230130T130000
DTSTAMP:20260421T000830Z
UID:fmf-AFLABS-URNIK:rezervacija:11071
CATEGORIES:Reservation
COLOR:royalblue
DESCRIPTION:Predmeti: \nLetniki: \nIzvajalci: Janez Mrčun\nProstori: 2.02
LOCATION:2.02
ORGANIZER:Janez Mrčun
X-WR-TIMEZONE:Europe/Ljubljana
END:VEVENT
BEGIN:VEVENT
SUMMARY:Rezervacija
DTSTART;TZID=Europe/Ljubljana:20230131T080000
DTEND;TZID=Europe/Ljubljana:20230131T130000
DTSTAMP:20260421T000830Z
UID:fmf-AFLABS-URNIK:rezervacija:11090
CATEGORIES:Reservation
COLOR:royalblue
DESCRIPTION:Predmeti: \nLetniki: \nIzvajalci: Janez Mrčun\nProstori: 2.02
LOCATION:2.02
ORGANIZER:Janez Mrčun
X-WR-TIMEZONE:Europe/Ljubljana
END:VEVENT
BEGIN:VEVENT
SUMMARY:Rezervacija
DTSTART;TZID=Europe/Ljubljana:20230201T080000
DTEND;TZID=Europe/Ljubljana:20230201T130000
DTSTAMP:20260421T000830Z
UID:fmf-AFLABS-URNIK:rezervacija:11110
CATEGORIES:Reservation
COLOR:royalblue
DESCRIPTION:Predmeti: \nLetniki: \nIzvajalci: Janez Mrčun\nProstori: 3.04
LOCATION:3.04
ORGANIZER:Janez Mrčun
X-WR-TIMEZONE:Europe/Ljubljana
END:VEVENT
BEGIN:VEVENT
SUMMARY:Rezervacija
DTSTART;TZID=Europe/Ljubljana:20230202T080000
DTEND;TZID=Europe/Ljubljana:20230202T130000
DTSTAMP:20260421T000830Z
UID:fmf-AFLABS-URNIK:rezervacija:11130
CATEGORIES:Reservation
COLOR:royalblue
DESCRIPTION:Predmeti: \nLetniki: \nIzvajalci: Janez Mrčun\nProstori: 2.02
LOCATION:2.02
ORGANIZER:Janez Mrčun
X-WR-TIMEZONE:Europe/Ljubljana
END:VEVENT
BEGIN:VEVENT
SUMMARY:Rezervacija
DTSTART;TZID=Europe/Ljubljana:20230203T080000
DTEND;TZID=Europe/Ljubljana:20230203T130000
DTSTAMP:20260421T000830Z
UID:fmf-AFLABS-URNIK:rezervacija:11148
CATEGORIES:Reservation
COLOR:royalblue
DESCRIPTION:Predmeti: \nLetniki: \nIzvajalci: Janez Mrčun\nProstori: 3.04
LOCATION:3.04
ORGANIZER:Janez Mrčun
X-WR-TIMEZONE:Europe/Ljubljana
END:VEVENT
BEGIN:VEVENT
SUMMARY:Rezervacija
DTSTART;TZID=Europe/Ljubljana:20230203T090000
DTEND;TZID=Europe/Ljubljana:20230203T120000
DTSTAMP:20260421T000830Z
UID:fmf-AFLABS-URNIK:rezervacija:11157
CATEGORIES:Reservation
COLOR:royalblue
DESCRIPTION:Predmeti: \nLetniki: \nIzvajalci: Janez Mrčun\nProstori: VFP
LOCATION:VFP
ORGANIZER:Janez Mrčun
X-WR-TIMEZONE:Europe/Ljubljana
END:VEVENT
BEGIN:VEVENT
SUMMARY:Rezervacija
DTSTART;TZID=Europe/Ljubljana:20230203T120000
DTEND;TZID=Europe/Ljubljana:20230203T130000
DTSTAMP:20260421T000830Z
UID:fmf-AFLABS-URNIK:rezervacija:11165
CATEGORIES:Reservation
COLOR:royalblue
DESCRIPTION:Predmeti: \nLetniki: \nIzvajalci: Janez Mrčun\nProstori: VFP
LOCATION:VFP
ORGANIZER:Janez Mrčun
X-WR-TIMEZONE:Europe/Ljubljana
END:VEVENT
BEGIN:VEVENT
SUMMARY:Rezervacija
DTSTART;TZID=Europe/Ljubljana:20230206T080000
DTEND;TZID=Europe/Ljubljana:20230206T130000
DTSTAMP:20260421T000830Z
UID:fmf-AFLABS-URNIK:rezervacija:11175
CATEGORIES:Reservation
COLOR:royalblue
DESCRIPTION:Predmeti: \nLetniki: \nIzvajalci: Janez Mrčun\nProstori: 2.02
LOCATION:2.02
ORGANIZER:Janez Mrčun
X-WR-TIMEZONE:Europe/Ljubljana
END:VEVENT
BEGIN:VEVENT
SUMMARY:Rezervacija
DTSTART;TZID=Europe/Ljubljana:20230207T080000
DTEND;TZID=Europe/Ljubljana:20230207T130000
DTSTAMP:20260421T000830Z
UID:fmf-AFLABS-URNIK:rezervacija:11195
CATEGORIES:Reservation
COLOR:royalblue
DESCRIPTION:Predmeti: \nLetniki: \nIzvajalci: Janez Mrčun\nProstori: 3.04
LOCATION:3.04
ORGANIZER:Janez Mrčun
X-WR-TIMEZONE:Europe/Ljubljana
END:VEVENT
BEGIN:VEVENT
SUMMARY:Rezervacija
DTSTART;TZID=Europe/Ljubljana:20230209T080000
DTEND;TZID=Europe/Ljubljana:20230209T130000
DTSTAMP:20260421T000830Z
UID:fmf-AFLABS-URNIK:rezervacija:11215
CATEGORIES:Reservation
COLOR:royalblue
DESCRIPTION:Predmeti: \nLetniki: \nIzvajalci: Janez Mrčun\nProstori: 2.02
LOCATION:2.02
ORGANIZER:Janez Mrčun
X-WR-TIMEZONE:Europe/Ljubljana
END:VEVENT
BEGIN:VEVENT
SUMMARY:Rezervacija
DTSTART;TZID=Europe/Ljubljana:20230210T080000
DTEND;TZID=Europe/Ljubljana:20230210T130000
DTSTAMP:20260421T000830Z
UID:fmf-AFLABS-URNIK:rezervacija:11228
CATEGORIES:Reservation
COLOR:royalblue
DESCRIPTION:Predmeti: \nLetniki: \nIzvajalci: Janez Mrčun\nProstori: 2.02
LOCATION:2.02
ORGANIZER:Janez Mrčun
X-WR-TIMEZONE:Europe/Ljubljana
END:VEVENT
END:VCALENDAR
