BEGIN:VCALENDAR
VERSION:2.0
PRODID:-//AFLabs urnik izvoz - fmf//aflabs.si//SI
DTSTAMP:20260420T045616Z
NAME:UL FMF urnik
REFRESH-INTERVAL:PT1H
SOURCE:https://urnik.fmf.uni-lj.si/teacher/92?day=2023-05-29&export=1
URL:https://urnik.fmf.uni-lj.si/teacher/92?day=2023-05-29&export=1
X-PUBLISHED-TTL:PT1H
X-WR-CALNAME:UL FMF urnik
X-WR-TIMEZONE:Europe/Ljubljana
BEGIN:VTIMEZONE
TZID:Europe/Ljubljana
BEGIN:DAYLIGHT
DTSTART:20260329T020000
RDATE:20260329T020000
RDATE:20270328T020000
TZNAME:CEST
TZOFFSETFROM:+0100
TZOFFSETTO:+0200
END:DAYLIGHT
BEGIN:STANDARD
DTSTART:20261025T030000
RDATE:20261025T030000
RDATE:20271031T030000
TZNAME:CET
TZOFFSETFROM:+0200
TZOFFSETTO:+0100
END:STANDARD
END:VTIMEZONE
BEGIN:VEVENT
SUMMARY:Matematika II (FIZ-1)\, Predavanja (P)
DTSTART;TZID=Europe/Ljubljana:20230215T090000
DTEND;TZID=Europe/Ljubljana:20230215T110000
DTSTAMP:20260420T045616Z
UID:fmf-AFLABS-URNIK:premaknjeno-srecanje:65245
ATTENDEE:1. letnik (Fizika, 1. stopnja)
CATEGORIES:Entry,Standard
COLOR:darkgreen
DESCRIPTION:Predmet: Matematika II (FIZ-1)\, Predavanja (P)\nLetniki: 1. l
 etnik (Fizika\, 1. stopnja)\nIzvajalci: Janez Mrčun\nProstor: VFP
LOCATION:VFP
ORGANIZER:Janez Mrčun
RELATED-TO:fmf-AFLABS-URNIK:srecanje:8519
X-WR-TIMEZONE:Europe/Ljubljana
END:VEVENT
BEGIN:VEVENT
SUMMARY:Matematika II (FIZ-1)\, Predavanja (P)
DTSTART;TZID=Europe/Ljubljana:20230222T090000
DTEND;TZID=Europe/Ljubljana:20230222T110000
DTSTAMP:20260420T045616Z
UID:fmf-AFLABS-URNIK:premaknjeno-srecanje:65246
ATTENDEE:1. letnik (Fizika, 1. stopnja)
CATEGORIES:Entry,Standard
COLOR:darkgreen
DESCRIPTION:Predmet: Matematika II (FIZ-1)\, Predavanja (P)\nLetniki: 1. l
 etnik (Fizika\, 1. stopnja)\nIzvajalci: Janez Mrčun\nProstor: VFP
LOCATION:VFP
ORGANIZER:Janez Mrčun
RELATED-TO:fmf-AFLABS-URNIK:srecanje:8519
X-WR-TIMEZONE:Europe/Ljubljana
END:VEVENT
BEGIN:VEVENT
SUMMARY:Matematika II (FIZ-1)\, Predavanja (P)
DTSTART;TZID=Europe/Ljubljana:20230301T090000
DTEND;TZID=Europe/Ljubljana:20230301T110000
DTSTAMP:20260420T045616Z
UID:fmf-AFLABS-URNIK:premaknjeno-srecanje:65247
ATTENDEE:1. letnik (Fizika, 1. stopnja)
CATEGORIES:Entry,Standard
COLOR:darkgreen
DESCRIPTION:Predmet: Matematika II (FIZ-1)\, Predavanja (P)\nLetniki: 1. l
 etnik (Fizika\, 1. stopnja)\nIzvajalci: Janez Mrčun\nProstor: VFP
LOCATION:VFP
ORGANIZER:Janez Mrčun
RELATED-TO:fmf-AFLABS-URNIK:srecanje:8519
X-WR-TIMEZONE:Europe/Ljubljana
END:VEVENT
BEGIN:VEVENT
SUMMARY:Matematika II (FIZ-1)\, Predavanja (P)
DTSTART;TZID=Europe/Ljubljana:20230308T090000
DTEND;TZID=Europe/Ljubljana:20230308T110000
DTSTAMP:20260420T045616Z
UID:fmf-AFLABS-URNIK:premaknjeno-srecanje:65248
ATTENDEE:1. letnik (Fizika, 1. stopnja)
CATEGORIES:Entry,Standard
COLOR:darkgreen
DESCRIPTION:Predmet: Matematika II (FIZ-1)\, Predavanja (P)\nLetniki: 1. l
 etnik (Fizika\, 1. stopnja)\nIzvajalci: Janez Mrčun\nProstor: VFP
LOCATION:VFP
ORGANIZER:Janez Mrčun
RELATED-TO:fmf-AFLABS-URNIK:srecanje:8519
X-WR-TIMEZONE:Europe/Ljubljana
END:VEVENT
BEGIN:VEVENT
SUMMARY:Matematika II (FIZ-1)\, Predavanja (P)
DTSTART;TZID=Europe/Ljubljana:20230315T090000
DTEND;TZID=Europe/Ljubljana:20230315T110000
DTSTAMP:20260420T045616Z
UID:fmf-AFLABS-URNIK:premaknjeno-srecanje:65249
ATTENDEE:1. letnik (Fizika, 1. stopnja)
CATEGORIES:Entry,Standard
COLOR:darkgreen
DESCRIPTION:Predmet: Matematika II (FIZ-1)\, Predavanja (P)\nLetniki: 1. l
 etnik (Fizika\, 1. stopnja)\nIzvajalci: Janez Mrčun\nProstor: VFP
LOCATION:VFP
ORGANIZER:Janez Mrčun
RELATED-TO:fmf-AFLABS-URNIK:srecanje:8519
X-WR-TIMEZONE:Europe/Ljubljana
END:VEVENT
BEGIN:VEVENT
SUMMARY:Matematika II (FIZ-1)\, Predavanja (P)
DTSTART;TZID=Europe/Ljubljana:20230322T090000
DTEND;TZID=Europe/Ljubljana:20230322T110000
DTSTAMP:20260420T045616Z
UID:fmf-AFLABS-URNIK:premaknjeno-srecanje:65250
ATTENDEE:1. letnik (Fizika, 1. stopnja)
CATEGORIES:Entry,Standard
COLOR:darkgreen
DESCRIPTION:Predmet: Matematika II (FIZ-1)\, Predavanja (P)\nLetniki: 1. l
 etnik (Fizika\, 1. stopnja)\nIzvajalci: Janez Mrčun\nProstor: VFP
LOCATION:VFP
ORGANIZER:Janez Mrčun
RELATED-TO:fmf-AFLABS-URNIK:srecanje:8519
X-WR-TIMEZONE:Europe/Ljubljana
END:VEVENT
BEGIN:VEVENT
SUMMARY:Matematika II (FIZ-1)\, Predavanja (P)
DTSTART;TZID=Europe/Ljubljana:20230329T090000
DTEND;TZID=Europe/Ljubljana:20230329T110000
DTSTAMP:20260420T045616Z
UID:fmf-AFLABS-URNIK:premaknjeno-srecanje:65251
ATTENDEE:1. letnik (Fizika, 1. stopnja)
CATEGORIES:Entry,Standard
COLOR:darkgreen
DESCRIPTION:Predmet: Matematika II (FIZ-1)\, Predavanja (P)\nLetniki: 1. l
 etnik (Fizika\, 1. stopnja)\nIzvajalci: Janez Mrčun\nProstor: VFP
LOCATION:VFP
ORGANIZER:Janez Mrčun
RELATED-TO:fmf-AFLABS-URNIK:srecanje:8519
X-WR-TIMEZONE:Europe/Ljubljana
END:VEVENT
BEGIN:VEVENT
SUMMARY:Matematika II (FIZ-1)\, Predavanja (P)
DTSTART;TZID=Europe/Ljubljana:20230405T090000
DTEND;TZID=Europe/Ljubljana:20230405T110000
DTSTAMP:20260420T045616Z
UID:fmf-AFLABS-URNIK:premaknjeno-srecanje:65252
ATTENDEE:1. letnik (Fizika, 1. stopnja)
CATEGORIES:Entry,Standard
COLOR:darkgreen
DESCRIPTION:Predmet: Matematika II (FIZ-1)\, Predavanja (P)\nLetniki: 1. l
 etnik (Fizika\, 1. stopnja)\nIzvajalci: Janez Mrčun\nProstor: VFP
LOCATION:VFP
ORGANIZER:Janez Mrčun
RELATED-TO:fmf-AFLABS-URNIK:srecanje:8519
X-WR-TIMEZONE:Europe/Ljubljana
END:VEVENT
BEGIN:VEVENT
SUMMARY:Matematika II (FIZ-1)\, Predavanja (P)
DTSTART;TZID=Europe/Ljubljana:20230412T090000
DTEND;TZID=Europe/Ljubljana:20230412T110000
DTSTAMP:20260420T045616Z
UID:fmf-AFLABS-URNIK:premaknjeno-srecanje:65253
ATTENDEE:1. letnik (Fizika, 1. stopnja)
CATEGORIES:Entry,Standard
COLOR:darkgreen
DESCRIPTION:Predmet: Matematika II (FIZ-1)\, Predavanja (P)\nLetniki: 1. l
 etnik (Fizika\, 1. stopnja)\nIzvajalci: Janez Mrčun\nProstor: VFP
LOCATION:VFP
ORGANIZER:Janez Mrčun
RELATED-TO:fmf-AFLABS-URNIK:srecanje:8519
X-WR-TIMEZONE:Europe/Ljubljana
END:VEVENT
BEGIN:VEVENT
SUMMARY:Matematika II (FIZ-1)\, Predavanja (P)
DTSTART;TZID=Europe/Ljubljana:20230419T090000
DTEND;TZID=Europe/Ljubljana:20230419T110000
DTSTAMP:20260420T045616Z
UID:fmf-AFLABS-URNIK:premaknjeno-srecanje:65254
ATTENDEE:1. letnik (Fizika, 1. stopnja)
CATEGORIES:Entry,Standard
COLOR:darkgreen
DESCRIPTION:Predmet: Matematika II (FIZ-1)\, Predavanja (P)\nLetniki: 1. l
 etnik (Fizika\, 1. stopnja)\nIzvajalci: Janez Mrčun\nProstor: VFP
LOCATION:VFP
ORGANIZER:Janez Mrčun
RELATED-TO:fmf-AFLABS-URNIK:srecanje:8519
X-WR-TIMEZONE:Europe/Ljubljana
END:VEVENT
BEGIN:VEVENT
SUMMARY:Matematika II (FIZ-1)\, Predavanja (P)
DTSTART;TZID=Europe/Ljubljana:20230426T090000
DTEND;TZID=Europe/Ljubljana:20230426T110000
DTSTAMP:20260420T045616Z
UID:fmf-AFLABS-URNIK:premaknjeno-srecanje:65255
ATTENDEE:1. letnik (Fizika, 1. stopnja)
CATEGORIES:Entry,Standard
COLOR:darkgreen
DESCRIPTION:Predmet: Matematika II (FIZ-1)\, Predavanja (P)\nLetniki: 1. l
 etnik (Fizika\, 1. stopnja)\nIzvajalci: Janez Mrčun\nProstor: VFP
LOCATION:VFP
ORGANIZER:Janez Mrčun
RELATED-TO:fmf-AFLABS-URNIK:srecanje:8519
X-WR-TIMEZONE:Europe/Ljubljana
END:VEVENT
BEGIN:VEVENT
SUMMARY:Matematika II (FIZ-1)\, Predavanja (P)
DTSTART;TZID=Europe/Ljubljana:20230503T090000
DTEND;TZID=Europe/Ljubljana:20230503T110000
DTSTAMP:20260420T045616Z
UID:fmf-AFLABS-URNIK:premaknjeno-srecanje:65256
ATTENDEE:1. letnik (Fizika, 1. stopnja)
CATEGORIES:Entry,Standard
COLOR:darkgreen
DESCRIPTION:Predmet: Matematika II (FIZ-1)\, Predavanja (P)\nLetniki: 1. l
 etnik (Fizika\, 1. stopnja)\nIzvajalci: Janez Mrčun\nProstor: VFP
LOCATION:VFP
ORGANIZER:Janez Mrčun
RELATED-TO:fmf-AFLABS-URNIK:srecanje:8519
X-WR-TIMEZONE:Europe/Ljubljana
END:VEVENT
BEGIN:VEVENT
SUMMARY:Matematika II (FIZ-1)\, Predavanja (P)
DTSTART;TZID=Europe/Ljubljana:20230510T090000
DTEND;TZID=Europe/Ljubljana:20230510T110000
DTSTAMP:20260420T045616Z
UID:fmf-AFLABS-URNIK:premaknjeno-srecanje:65257
ATTENDEE:1. letnik (Fizika, 1. stopnja)
CATEGORIES:Entry,Standard
COLOR:darkgreen
DESCRIPTION:Predmet: Matematika II (FIZ-1)\, Predavanja (P)\nLetniki: 1. l
 etnik (Fizika\, 1. stopnja)\nIzvajalci: Janez Mrčun\nProstor: VFP
LOCATION:VFP
ORGANIZER:Janez Mrčun
RELATED-TO:fmf-AFLABS-URNIK:srecanje:8519
X-WR-TIMEZONE:Europe/Ljubljana
END:VEVENT
BEGIN:VEVENT
SUMMARY:Matematika II (FIZ-1)\, Predavanja (P)
DTSTART;TZID=Europe/Ljubljana:20230517T090000
DTEND;TZID=Europe/Ljubljana:20230517T110000
DTSTAMP:20260420T045616Z
UID:fmf-AFLABS-URNIK:premaknjeno-srecanje:65258
ATTENDEE:1. letnik (Fizika, 1. stopnja)
CATEGORIES:Entry,Standard
COLOR:darkgreen
DESCRIPTION:Predmet: Matematika II (FIZ-1)\, Predavanja (P)\nLetniki: 1. l
 etnik (Fizika\, 1. stopnja)\nIzvajalci: Janez Mrčun\nProstor: VFP
LOCATION:VFP
ORGANIZER:Janez Mrčun
RELATED-TO:fmf-AFLABS-URNIK:srecanje:8519
X-WR-TIMEZONE:Europe/Ljubljana
END:VEVENT
BEGIN:VEVENT
SUMMARY:Matematika II (FIZ-1)\, Predavanja (P)
DTSTART;TZID=Europe/Ljubljana:20230524T090000
DTEND;TZID=Europe/Ljubljana:20230524T110000
DTSTAMP:20260420T045616Z
UID:fmf-AFLABS-URNIK:premaknjeno-srecanje:65259
ATTENDEE:1. letnik (Fizika, 1. stopnja)
CATEGORIES:Entry,Standard
COLOR:darkgreen
DESCRIPTION:Predmet: Matematika II (FIZ-1)\, Predavanja (P)\nLetniki: 1. l
 etnik (Fizika\, 1. stopnja)\nIzvajalci: Janez Mrčun\nProstor: VFP
LOCATION:VFP
ORGANIZER:Janez Mrčun
RELATED-TO:fmf-AFLABS-URNIK:srecanje:8519
X-WR-TIMEZONE:Europe/Ljubljana
END:VEVENT
BEGIN:VEVENT
SUMMARY:Matematika II (FIZ-1)\, Predavanja (P)
DTSTART;TZID=Europe/Ljubljana:20230531T090000
DTEND;TZID=Europe/Ljubljana:20230531T110000
DTSTAMP:20260420T045616Z
UID:fmf-AFLABS-URNIK:premaknjeno-srecanje:65260
ATTENDEE:1. letnik (Fizika, 1. stopnja)
CATEGORIES:Entry,Standard
COLOR:darkgreen
DESCRIPTION:Predmet: Matematika II (FIZ-1)\, Predavanja (P)\nLetniki: 1. l
 etnik (Fizika\, 1. stopnja)\nIzvajalci: Janez Mrčun\nProstor: VFP
LOCATION:VFP
ORGANIZER:Janez Mrčun
RELATED-TO:fmf-AFLABS-URNIK:srecanje:8519
X-WR-TIMEZONE:Europe/Ljubljana
END:VEVENT
BEGIN:VEVENT
SUMMARY:Matematika II (FIZ-1)\, Predavanja (P)
DTSTART;TZID=Europe/Ljubljana:20230217T110000
DTEND;TZID=Europe/Ljubljana:20230217T130000
DTSTAMP:20260420T045616Z
UID:fmf-AFLABS-URNIK:premaknjeno-srecanje:65291
ATTENDEE:1. letnik (Fizika, 1. stopnja)
CATEGORIES:Entry,Standard
COLOR:darkgreen
DESCRIPTION:Predmet: Matematika II (FIZ-1)\, Predavanja (P)\nLetniki: 1. l
 etnik (Fizika\, 1. stopnja)\nIzvajalci: Janez Mrčun\nProstor: VFP
LOCATION:VFP
ORGANIZER:Janez Mrčun
RELATED-TO:fmf-AFLABS-URNIK:srecanje:8520
X-WR-TIMEZONE:Europe/Ljubljana
END:VEVENT
BEGIN:VEVENT
SUMMARY:Matematika II (FIZ-1)\, Predavanja (P)
DTSTART;TZID=Europe/Ljubljana:20230224T110000
DTEND;TZID=Europe/Ljubljana:20230224T130000
DTSTAMP:20260420T045616Z
UID:fmf-AFLABS-URNIK:premaknjeno-srecanje:65292
ATTENDEE:1. letnik (Fizika, 1. stopnja)
CATEGORIES:Entry,Standard
COLOR:darkgreen
DESCRIPTION:Predmet: Matematika II (FIZ-1)\, Predavanja (P)\nLetniki: 1. l
 etnik (Fizika\, 1. stopnja)\nIzvajalci: Janez Mrčun\nProstor: VFP
LOCATION:VFP
ORGANIZER:Janez Mrčun
RELATED-TO:fmf-AFLABS-URNIK:srecanje:8520
X-WR-TIMEZONE:Europe/Ljubljana
END:VEVENT
BEGIN:VEVENT
SUMMARY:Matematika II (FIZ-1)\, Predavanja (P)
DTSTART;TZID=Europe/Ljubljana:20230303T110000
DTEND;TZID=Europe/Ljubljana:20230303T130000
DTSTAMP:20260420T045616Z
UID:fmf-AFLABS-URNIK:premaknjeno-srecanje:65293
ATTENDEE:1. letnik (Fizika, 1. stopnja)
CATEGORIES:Entry,Standard
COLOR:darkgreen
DESCRIPTION:Predmet: Matematika II (FIZ-1)\, Predavanja (P)\nLetniki: 1. l
 etnik (Fizika\, 1. stopnja)\nIzvajalci: Janez Mrčun\nProstor: VFP
LOCATION:VFP
ORGANIZER:Janez Mrčun
RELATED-TO:fmf-AFLABS-URNIK:srecanje:8520
X-WR-TIMEZONE:Europe/Ljubljana
END:VEVENT
BEGIN:VEVENT
SUMMARY:Matematika II (FIZ-1)\, Predavanja (P)
DTSTART;TZID=Europe/Ljubljana:20230310T110000
DTEND;TZID=Europe/Ljubljana:20230310T130000
DTSTAMP:20260420T045616Z
UID:fmf-AFLABS-URNIK:premaknjeno-srecanje:65294
ATTENDEE:1. letnik (Fizika, 1. stopnja)
CATEGORIES:Entry,Standard
COLOR:darkgreen
DESCRIPTION:Predmet: Matematika II (FIZ-1)\, Predavanja (P)\nLetniki: 1. l
 etnik (Fizika\, 1. stopnja)\nIzvajalci: Janez Mrčun\nProstor: VFP
LOCATION:VFP
ORGANIZER:Janez Mrčun
RELATED-TO:fmf-AFLABS-URNIK:srecanje:8520
X-WR-TIMEZONE:Europe/Ljubljana
END:VEVENT
BEGIN:VEVENT
SUMMARY:Matematika II (FIZ-1)\, Predavanja (P)
DTSTART;TZID=Europe/Ljubljana:20230317T110000
DTEND;TZID=Europe/Ljubljana:20230317T130000
DTSTAMP:20260420T045616Z
UID:fmf-AFLABS-URNIK:premaknjeno-srecanje:65295
ATTENDEE:1. letnik (Fizika, 1. stopnja)
CATEGORIES:Entry,Standard
COLOR:darkgreen
DESCRIPTION:Predmet: Matematika II (FIZ-1)\, Predavanja (P)\nLetniki: 1. l
 etnik (Fizika\, 1. stopnja)\nIzvajalci: Janez Mrčun\nProstor: VFP
LOCATION:VFP
ORGANIZER:Janez Mrčun
RELATED-TO:fmf-AFLABS-URNIK:srecanje:8520
X-WR-TIMEZONE:Europe/Ljubljana
END:VEVENT
BEGIN:VEVENT
SUMMARY:Matematika II (FIZ-1)\, Predavanja (P)
DTSTART;TZID=Europe/Ljubljana:20230324T110000
DTEND;TZID=Europe/Ljubljana:20230324T130000
DTSTAMP:20260420T045616Z
UID:fmf-AFLABS-URNIK:premaknjeno-srecanje:65296
ATTENDEE:1. letnik (Fizika, 1. stopnja)
CATEGORIES:Entry,Standard
COLOR:darkgreen
DESCRIPTION:Predmet: Matematika II (FIZ-1)\, Predavanja (P)\nLetniki: 1. l
 etnik (Fizika\, 1. stopnja)\nIzvajalci: Janez Mrčun\nProstor: VFP
LOCATION:VFP
ORGANIZER:Janez Mrčun
RELATED-TO:fmf-AFLABS-URNIK:srecanje:8520
X-WR-TIMEZONE:Europe/Ljubljana
END:VEVENT
BEGIN:VEVENT
SUMMARY:Matematika II (FIZ-1)\, Predavanja (P)
DTSTART;TZID=Europe/Ljubljana:20230331T110000
DTEND;TZID=Europe/Ljubljana:20230331T130000
DTSTAMP:20260420T045616Z
UID:fmf-AFLABS-URNIK:premaknjeno-srecanje:65297
ATTENDEE:1. letnik (Fizika, 1. stopnja)
CATEGORIES:Entry,Standard
COLOR:darkgreen
DESCRIPTION:Predmet: Matematika II (FIZ-1)\, Predavanja (P)\nLetniki: 1. l
 etnik (Fizika\, 1. stopnja)\nIzvajalci: Janez Mrčun\nProstor: VFP
LOCATION:VFP
ORGANIZER:Janez Mrčun
RELATED-TO:fmf-AFLABS-URNIK:srecanje:8520
X-WR-TIMEZONE:Europe/Ljubljana
END:VEVENT
BEGIN:VEVENT
SUMMARY:Matematika II (FIZ-1)\, Predavanja (P)
DTSTART;TZID=Europe/Ljubljana:20230407T110000
DTEND;TZID=Europe/Ljubljana:20230407T130000
DTSTAMP:20260420T045616Z
UID:fmf-AFLABS-URNIK:premaknjeno-srecanje:65298
ATTENDEE:1. letnik (Fizika, 1. stopnja)
CATEGORIES:Entry,Standard
COLOR:darkgreen
DESCRIPTION:Predmet: Matematika II (FIZ-1)\, Predavanja (P)\nLetniki: 1. l
 etnik (Fizika\, 1. stopnja)\nIzvajalci: Janez Mrčun\nProstor: VFP
LOCATION:VFP
ORGANIZER:Janez Mrčun
RELATED-TO:fmf-AFLABS-URNIK:srecanje:8520
X-WR-TIMEZONE:Europe/Ljubljana
END:VEVENT
BEGIN:VEVENT
SUMMARY:Matematika II (FIZ-1)\, Predavanja (P)
DTSTART;TZID=Europe/Ljubljana:20230414T110000
DTEND;TZID=Europe/Ljubljana:20230414T130000
DTSTAMP:20260420T045616Z
UID:fmf-AFLABS-URNIK:premaknjeno-srecanje:65299
ATTENDEE:1. letnik (Fizika, 1. stopnja)
CATEGORIES:Entry,Standard
COLOR:darkgreen
DESCRIPTION:Predmet: Matematika II (FIZ-1)\, Predavanja (P)\nLetniki: 1. l
 etnik (Fizika\, 1. stopnja)\nIzvajalci: Janez Mrčun\nProstor: VFP
LOCATION:VFP
ORGANIZER:Janez Mrčun
RELATED-TO:fmf-AFLABS-URNIK:srecanje:8520
X-WR-TIMEZONE:Europe/Ljubljana
END:VEVENT
BEGIN:VEVENT
SUMMARY:Matematika II (FIZ-1)\, Predavanja (P)
DTSTART;TZID=Europe/Ljubljana:20230421T110000
DTEND;TZID=Europe/Ljubljana:20230421T130000
DTSTAMP:20260420T045616Z
UID:fmf-AFLABS-URNIK:premaknjeno-srecanje:65300
ATTENDEE:1. letnik (Fizika, 1. stopnja)
CATEGORIES:Entry,Standard
COLOR:darkgreen
DESCRIPTION:Predmet: Matematika II (FIZ-1)\, Predavanja (P)\nLetniki: 1. l
 etnik (Fizika\, 1. stopnja)\nIzvajalci: Janez Mrčun\nProstor: VFP
LOCATION:VFP
ORGANIZER:Janez Mrčun
RELATED-TO:fmf-AFLABS-URNIK:srecanje:8520
X-WR-TIMEZONE:Europe/Ljubljana
END:VEVENT
BEGIN:VEVENT
SUMMARY:Matematika II (FIZ-1)\, Predavanja (P)
DTSTART;TZID=Europe/Ljubljana:20230428T110000
DTEND;TZID=Europe/Ljubljana:20230428T130000
DTSTAMP:20260420T045616Z
UID:fmf-AFLABS-URNIK:premaknjeno-srecanje:65301
ATTENDEE:1. letnik (Fizika, 1. stopnja)
CATEGORIES:Entry,Standard
COLOR:darkgreen
DESCRIPTION:Predmet: Matematika II (FIZ-1)\, Predavanja (P)\nLetniki: 1. l
 etnik (Fizika\, 1. stopnja)\nIzvajalci: Janez Mrčun\nProstor: VFP
LOCATION:VFP
ORGANIZER:Janez Mrčun
RELATED-TO:fmf-AFLABS-URNIK:srecanje:8520
X-WR-TIMEZONE:Europe/Ljubljana
END:VEVENT
BEGIN:VEVENT
SUMMARY:Matematika II (FIZ-1)\, Predavanja (P)
DTSTART;TZID=Europe/Ljubljana:20230505T110000
DTEND;TZID=Europe/Ljubljana:20230505T130000
DTSTAMP:20260420T045616Z
UID:fmf-AFLABS-URNIK:premaknjeno-srecanje:65302
ATTENDEE:1. letnik (Fizika, 1. stopnja)
CATEGORIES:Entry,Standard
COLOR:darkgreen
DESCRIPTION:Predmet: Matematika II (FIZ-1)\, Predavanja (P)\nLetniki: 1. l
 etnik (Fizika\, 1. stopnja)\nIzvajalci: Janez Mrčun\nProstor: VFP
LOCATION:VFP
ORGANIZER:Janez Mrčun
RELATED-TO:fmf-AFLABS-URNIK:srecanje:8520
X-WR-TIMEZONE:Europe/Ljubljana
END:VEVENT
BEGIN:VEVENT
SUMMARY:Matematika II (FIZ-1)\, Predavanja (P)
DTSTART;TZID=Europe/Ljubljana:20230512T110000
DTEND;TZID=Europe/Ljubljana:20230512T130000
DTSTAMP:20260420T045616Z
UID:fmf-AFLABS-URNIK:premaknjeno-srecanje:65303
ATTENDEE:1. letnik (Fizika, 1. stopnja)
CATEGORIES:Entry,Standard
COLOR:darkgreen
DESCRIPTION:Predmet: Matematika II (FIZ-1)\, Predavanja (P)\nLetniki: 1. l
 etnik (Fizika\, 1. stopnja)\nIzvajalci: Janez Mrčun\nProstor: VFP
LOCATION:VFP
ORGANIZER:Janez Mrčun
RELATED-TO:fmf-AFLABS-URNIK:srecanje:8520
X-WR-TIMEZONE:Europe/Ljubljana
END:VEVENT
BEGIN:VEVENT
SUMMARY:Matematika II (FIZ-1)\, Predavanja (P)
DTSTART;TZID=Europe/Ljubljana:20230519T110000
DTEND;TZID=Europe/Ljubljana:20230519T130000
DTSTAMP:20260420T045616Z
UID:fmf-AFLABS-URNIK:premaknjeno-srecanje:65304
ATTENDEE:1. letnik (Fizika, 1. stopnja)
CATEGORIES:Entry,Standard
COLOR:darkgreen
DESCRIPTION:Predmet: Matematika II (FIZ-1)\, Predavanja (P)\nLetniki: 1. l
 etnik (Fizika\, 1. stopnja)\nIzvajalci: Janez Mrčun\nProstor: VFP
LOCATION:VFP
ORGANIZER:Janez Mrčun
RELATED-TO:fmf-AFLABS-URNIK:srecanje:8520
X-WR-TIMEZONE:Europe/Ljubljana
END:VEVENT
BEGIN:VEVENT
SUMMARY:Matematika II (FIZ-1)\, Predavanja (P)
DTSTART;TZID=Europe/Ljubljana:20230526T110000
DTEND;TZID=Europe/Ljubljana:20230526T130000
DTSTAMP:20260420T045616Z
UID:fmf-AFLABS-URNIK:premaknjeno-srecanje:65305
ATTENDEE:1. letnik (Fizika, 1. stopnja)
CATEGORIES:Entry,Standard
COLOR:darkgreen
DESCRIPTION:Predmet: Matematika II (FIZ-1)\, Predavanja (P)\nLetniki: 1. l
 etnik (Fizika\, 1. stopnja)\nIzvajalci: Janez Mrčun\nProstor: VFP
LOCATION:VFP
ORGANIZER:Janez Mrčun
RELATED-TO:fmf-AFLABS-URNIK:srecanje:8520
X-WR-TIMEZONE:Europe/Ljubljana
END:VEVENT
BEGIN:VEVENT
SUMMARY:Matematika II (FIZ-1)\, Predavanja (P)
DTSTART;TZID=Europe/Ljubljana:20230602T110000
DTEND;TZID=Europe/Ljubljana:20230602T130000
DTSTAMP:20260420T045616Z
UID:fmf-AFLABS-URNIK:premaknjeno-srecanje:65306
ATTENDEE:1. letnik (Fizika, 1. stopnja)
CATEGORIES:Entry,Standard
COLOR:darkgreen
DESCRIPTION:Predmet: Matematika II (FIZ-1)\, Predavanja (P)\nLetniki: 1. l
 etnik (Fizika\, 1. stopnja)\nIzvajalci: Janez Mrčun\nProstor: VFP
LOCATION:VFP
ORGANIZER:Janez Mrčun
RELATED-TO:fmf-AFLABS-URNIK:srecanje:8520
X-WR-TIMEZONE:Europe/Ljubljana
END:VEVENT
BEGIN:VEVENT
SUMMARY:Rezervacija
DTSTART;TZID=Europe/Ljubljana:20230315T120000
DTEND;TZID=Europe/Ljubljana:20230315T140000
DTSTAMP:20260420T045616Z
UID:fmf-AFLABS-URNIK:rezervacija:11444
CATEGORIES:Reservation
COLOR:royalblue
DESCRIPTION:Predmeti: \nLetniki: \nIzvajalci: Janez Mrčun\nProstori: 3.07
LOCATION:3.07
ORGANIZER:Janez Mrčun
X-WR-TIMEZONE:Europe/Ljubljana
END:VEVENT
BEGIN:VEVENT
SUMMARY:Rezervacija
DTSTART;TZID=Europe/Ljubljana:20230405T080000
DTEND;TZID=Europe/Ljubljana:20230405T090000
DTSTAMP:20260420T045616Z
UID:fmf-AFLABS-URNIK:rezervacija:11563
ATTENDEE:1. letnik (Fizika, 1. stopnja)
CATEGORIES:Reservation
COLOR:royalblue
DESCRIPTION:Predmeti: Matematika II (FIZ-1)\nLetniki: 1. letnik (Fizika\, 
 1. stopnja)\nIzvajalci: Janez Mrčun\nProstori: VFP
LOCATION:VFP
ORGANIZER:Janez Mrčun
X-WR-TIMEZONE:Europe/Ljubljana
END:VEVENT
BEGIN:VEVENT
SUMMARY:Rezervacija
DTSTART;TZID=Europe/Ljubljana:20230419T080000
DTEND;TZID=Europe/Ljubljana:20230419T090000
DTSTAMP:20260420T045616Z
UID:fmf-AFLABS-URNIK:rezervacija:11665
ATTENDEE:1. letnik (Fizika, 1. stopnja)
CATEGORIES:Reservation
COLOR:royalblue
DESCRIPTION:Predmeti: Matematika II (FIZ-1)\nLetniki: 1. letnik (Fizika\, 
 1. stopnja)\nIzvajalci: Janez Mrčun\nProstori: VFP
LOCATION:VFP
ORGANIZER:Janez Mrčun
X-WR-TIMEZONE:Europe/Ljubljana
END:VEVENT
BEGIN:VEVENT
SUMMARY:Rezervacija
DTSTART;TZID=Europe/Ljubljana:20230421T160000
DTEND;TZID=Europe/Ljubljana:20230421T200000
DTSTAMP:20260420T045616Z
UID:fmf-AFLABS-URNIK:rezervacija:11715
ATTENDEE:1. letnik (Fizika, 1. stopnja)
CATEGORIES:Reservation
COLOR:royalblue
DESCRIPTION:Predmeti: Matematika II (FIZ-1)\nLetniki: 1. letnik (Fizika\, 
 1. stopnja)\nIzvajalci: Janez Mrčun\nProstori: F1\, MFP\, VFP
LOCATION:F1\, MFP\, VFP
ORGANIZER:Janez Mrčun
X-WR-TIMEZONE:Europe/Ljubljana
END:VEVENT
BEGIN:VEVENT
SUMMARY:Rezervacija
DTSTART;TZID=Europe/Ljubljana:20230504T140000
DTEND;TZID=Europe/Ljubljana:20230504T160000
DTSTAMP:20260420T045616Z
UID:fmf-AFLABS-URNIK:rezervacija:11767
CATEGORIES:Reservation
COLOR:royalblue
DESCRIPTION:Predmeti: \nLetniki: \nIzvajalci: Janez Mrčun\nProstori: P.02
LOCATION:P.02
ORGANIZER:Janez Mrčun
X-WR-TIMEZONE:Europe/Ljubljana
END:VEVENT
BEGIN:VEVENT
SUMMARY:Rezervacija
DTSTART;TZID=Europe/Ljubljana:20230517T080000
DTEND;TZID=Europe/Ljubljana:20230517T090000
DTSTAMP:20260420T045616Z
UID:fmf-AFLABS-URNIK:rezervacija:11849
ATTENDEE:1. letnik (Fizika, 1. stopnja)
CATEGORIES:Reservation
COLOR:royalblue
DESCRIPTION:Predmeti: Matematika II (FIZ-1)\nLetniki: 1. letnik (Fizika\, 
 1. stopnja)\nIzvajalci: Janez Mrčun\nProstori: VFP
LOCATION:VFP
ORGANIZER:Janez Mrčun
X-WR-TIMEZONE:Europe/Ljubljana
END:VEVENT
BEGIN:VEVENT
SUMMARY:Rezervacija
DTSTART;TZID=Europe/Ljubljana:20230524T080000
DTEND;TZID=Europe/Ljubljana:20230524T090000
DTSTAMP:20260420T045616Z
UID:fmf-AFLABS-URNIK:rezervacija:11916
ATTENDEE:1. letnik (Fizika, 1. stopnja)
CATEGORIES:Reservation
COLOR:royalblue
DESCRIPTION:Predmeti: Matematika II (FIZ-1)\nLetniki: 1. letnik (Fizika\, 
 1. stopnja)\nIzvajalci: Janez Mrčun\nProstori: VFP
LOCATION:VFP
ORGANIZER:Janez Mrčun
X-WR-TIMEZONE:Europe/Ljubljana
END:VEVENT
BEGIN:VEVENT
SUMMARY:Rezervacija
DTSTART;TZID=Europe/Ljubljana:20230602T160000
DTEND;TZID=Europe/Ljubljana:20230602T200000
DTSTAMP:20260420T045616Z
UID:fmf-AFLABS-URNIK:rezervacija:12051
ATTENDEE:1. letnik (Fizika, 1. stopnja)
CATEGORIES:Reservation
COLOR:royalblue
DESCRIPTION:Predmeti: Matematika II (FIZ-1)\nLetniki: 1. letnik (Fizika\, 
 1. stopnja)\nIzvajalci: Janez Mrčun\nProstori: F1\, MFP\, VFP
LOCATION:F1\, MFP\, VFP
ORGANIZER:Janez Mrčun
X-WR-TIMEZONE:Europe/Ljubljana
END:VEVENT
BEGIN:VEVENT
SUMMARY:Rezervacija
DTSTART;TZID=Europe/Ljubljana:20230614T070000
DTEND;TZID=Europe/Ljubljana:20230614T130000
DTSTAMP:20260420T045616Z
UID:fmf-AFLABS-URNIK:rezervacija:12195
CATEGORIES:Reservation
COLOR:royalblue
DESCRIPTION:Predmeti: \nLetniki: \nIzvajalci: Janez Mrčun\nProstori: 3.04
LOCATION:3.04
ORGANIZER:Janez Mrčun
X-WR-TIMEZONE:Europe/Ljubljana
END:VEVENT
BEGIN:VEVENT
SUMMARY:Rezervacija
DTSTART;TZID=Europe/Ljubljana:20230615T070000
DTEND;TZID=Europe/Ljubljana:20230615T130000
DTSTAMP:20260420T045616Z
UID:fmf-AFLABS-URNIK:rezervacija:12223
CATEGORIES:Reservation
COLOR:royalblue
DESCRIPTION:Predmeti: \nLetniki: \nIzvajalci: Janez Mrčun\nProstori: 3.04
LOCATION:3.04
ORGANIZER:Janez Mrčun
X-WR-TIMEZONE:Europe/Ljubljana
END:VEVENT
BEGIN:VEVENT
SUMMARY:Rezervacija
DTSTART;TZID=Europe/Ljubljana:20230616T090000
DTEND;TZID=Europe/Ljubljana:20230616T120000
DTSTAMP:20260420T045616Z
UID:fmf-AFLABS-URNIK:rezervacija:12254
CATEGORIES:Reservation
COLOR:royalblue
DESCRIPTION:Predmeti: \nLetniki: \nIzvajalci: Janez Mrčun\nProstori: VFP
LOCATION:VFP
ORGANIZER:Janez Mrčun
X-WR-TIMEZONE:Europe/Ljubljana
END:VEVENT
BEGIN:VEVENT
SUMMARY:Rezervacija
DTSTART;TZID=Europe/Ljubljana:20230619T070000
DTEND;TZID=Europe/Ljubljana:20230619T130000
DTSTAMP:20260420T045616Z
UID:fmf-AFLABS-URNIK:rezervacija:12268
CATEGORIES:Reservation
COLOR:royalblue
DESCRIPTION:Predmeti: \nLetniki: \nIzvajalci: Janez Mrčun\nProstori: 3.04
LOCATION:3.04
ORGANIZER:Janez Mrčun
X-WR-TIMEZONE:Europe/Ljubljana
END:VEVENT
BEGIN:VEVENT
SUMMARY:Rezervacija
DTSTART;TZID=Europe/Ljubljana:20230620T070000
DTEND;TZID=Europe/Ljubljana:20230620T130000
DTSTAMP:20260420T045616Z
UID:fmf-AFLABS-URNIK:rezervacija:12304
CATEGORIES:Reservation
COLOR:royalblue
DESCRIPTION:Predmeti: \nLetniki: \nIzvajalci: Janez Mrčun\nProstori: 3.04
LOCATION:3.04
ORGANIZER:Janez Mrčun
X-WR-TIMEZONE:Europe/Ljubljana
END:VEVENT
BEGIN:VEVENT
SUMMARY:Rezervacija
DTSTART;TZID=Europe/Ljubljana:20230621T070000
DTEND;TZID=Europe/Ljubljana:20230621T130000
DTSTAMP:20260420T045616Z
UID:fmf-AFLABS-URNIK:rezervacija:12322
CATEGORIES:Reservation
COLOR:royalblue
DESCRIPTION:Predmeti: \nLetniki: \nIzvajalci: Janez Mrčun\nProstori: 3.04
LOCATION:3.04
ORGANIZER:Janez Mrčun
X-WR-TIMEZONE:Europe/Ljubljana
END:VEVENT
BEGIN:VEVENT
SUMMARY:Rezervacija
DTSTART;TZID=Europe/Ljubljana:20230626T070000
DTEND;TZID=Europe/Ljubljana:20230626T130000
DTSTAMP:20260420T045616Z
UID:fmf-AFLABS-URNIK:rezervacija:12393
CATEGORIES:Reservation
COLOR:royalblue
DESCRIPTION:Predmeti: \nLetniki: \nIzvajalci: Janez Mrčun\nProstori: 3.04
LOCATION:3.04
ORGANIZER:Janez Mrčun
X-WR-TIMEZONE:Europe/Ljubljana
END:VEVENT
BEGIN:VEVENT
SUMMARY:Rezervacija
DTSTART;TZID=Europe/Ljubljana:20230627T090000
DTEND;TZID=Europe/Ljubljana:20230627T120000
DTSTAMP:20260420T045616Z
UID:fmf-AFLABS-URNIK:rezervacija:12423
CATEGORIES:Reservation
COLOR:royalblue
DESCRIPTION:Predmeti: \nLetniki: \nIzvajalci: Janez Mrčun\nProstori: VFP
LOCATION:VFP
ORGANIZER:Janez Mrčun
X-WR-TIMEZONE:Europe/Ljubljana
END:VEVENT
BEGIN:VEVENT
SUMMARY:Rezervacija
DTSTART;TZID=Europe/Ljubljana:20230627T120000
DTEND;TZID=Europe/Ljubljana:20230627T130000
DTSTAMP:20260420T045616Z
UID:fmf-AFLABS-URNIK:rezervacija:12431
CATEGORIES:Reservation
COLOR:royalblue
DESCRIPTION:Predmeti: \nLetniki: \nIzvajalci: Janez Mrčun\nProstori: VFP
LOCATION:VFP
ORGANIZER:Janez Mrčun
X-WR-TIMEZONE:Europe/Ljubljana
END:VEVENT
BEGIN:VEVENT
SUMMARY:Rezervacija
DTSTART;TZID=Europe/Ljubljana:20230628T070000
DTEND;TZID=Europe/Ljubljana:20230628T130000
DTSTAMP:20260420T045616Z
UID:fmf-AFLABS-URNIK:rezervacija:12441
CATEGORIES:Reservation
COLOR:royalblue
DESCRIPTION:Predmeti: \nLetniki: \nIzvajalci: Janez Mrčun\nProstori: 3.04
LOCATION:3.04
ORGANIZER:Janez Mrčun
X-WR-TIMEZONE:Europe/Ljubljana
END:VEVENT
BEGIN:VEVENT
SUMMARY:Rezervacija
DTSTART;TZID=Europe/Ljubljana:20230629T070000
DTEND;TZID=Europe/Ljubljana:20230629T130000
DTSTAMP:20260420T045616Z
UID:fmf-AFLABS-URNIK:rezervacija:12558
CATEGORIES:Reservation
COLOR:royalblue
DESCRIPTION:Predmeti: \nLetniki: \nIzvajalci: Janez Mrčun\nProstori: 3.04
LOCATION:3.04
ORGANIZER:Janez Mrčun
X-WR-TIMEZONE:Europe/Ljubljana
END:VEVENT
BEGIN:VEVENT
SUMMARY:Rezervacija
DTSTART;TZID=Europe/Ljubljana:20230630T070000
DTEND;TZID=Europe/Ljubljana:20230630T130000
DTSTAMP:20260420T045616Z
UID:fmf-AFLABS-URNIK:rezervacija:12580
CATEGORIES:Reservation
COLOR:royalblue
DESCRIPTION:Predmeti: \nLetniki: \nIzvajalci: Janez Mrčun\nProstori: 3.04
LOCATION:3.04
ORGANIZER:Janez Mrčun
X-WR-TIMEZONE:Europe/Ljubljana
END:VEVENT
BEGIN:VEVENT
SUMMARY:Rezervacija
DTSTART;TZID=Europe/Ljubljana:20230703T070000
DTEND;TZID=Europe/Ljubljana:20230703T130000
DTSTAMP:20260420T045616Z
UID:fmf-AFLABS-URNIK:rezervacija:12607
CATEGORIES:Reservation
COLOR:royalblue
DESCRIPTION:Predmeti: \nLetniki: \nIzvajalci: Janez Mrčun\nProstori: 3.04
LOCATION:3.04
ORGANIZER:Janez Mrčun
X-WR-TIMEZONE:Europe/Ljubljana
END:VEVENT
END:VCALENDAR
