BEGIN:VCALENDAR
VERSION:2.0
PRODID:-//AFLabs urnik izvoz - fmf//aflabs.si//SI
DTSTAMP:20260421T043126Z
NAME:UL FMF urnik
REFRESH-INTERVAL:PT1H
SOURCE:https://urnik.fmf.uni-lj.si/teacher/92?day=2023-07-10&export=1
URL:https://urnik.fmf.uni-lj.si/teacher/92?day=2023-07-10&export=1
X-PUBLISHED-TTL:PT1H
X-WR-CALNAME:UL FMF urnik
X-WR-TIMEZONE:Europe/Ljubljana
BEGIN:VTIMEZONE
TZID:Europe/Ljubljana
BEGIN:DAYLIGHT
DTSTART:20260329T020000
RDATE:20260329T020000
RDATE:20270328T020000
TZNAME:CEST
TZOFFSETFROM:+0100
TZOFFSETTO:+0200
END:DAYLIGHT
BEGIN:STANDARD
DTSTART:20261025T030000
RDATE:20261025T030000
RDATE:20271031T030000
TZNAME:CET
TZOFFSETFROM:+0200
TZOFFSETTO:+0100
END:STANDARD
END:VTIMEZONE
BEGIN:VEVENT
SUMMARY:Rezervacija
DTSTART;TZID=Europe/Ljubljana:20230614T070000
DTEND;TZID=Europe/Ljubljana:20230614T130000
DTSTAMP:20260421T043126Z
UID:fmf-AFLABS-URNIK:rezervacija:12195
CATEGORIES:Reservation
COLOR:royalblue
DESCRIPTION:Predmeti: \nLetniki: \nIzvajalci: Janez Mrčun\nProstori: 3.04
LOCATION:3.04
ORGANIZER:Janez Mrčun
X-WR-TIMEZONE:Europe/Ljubljana
END:VEVENT
BEGIN:VEVENT
SUMMARY:Rezervacija
DTSTART;TZID=Europe/Ljubljana:20230615T070000
DTEND;TZID=Europe/Ljubljana:20230615T130000
DTSTAMP:20260421T043126Z
UID:fmf-AFLABS-URNIK:rezervacija:12223
CATEGORIES:Reservation
COLOR:royalblue
DESCRIPTION:Predmeti: \nLetniki: \nIzvajalci: Janez Mrčun\nProstori: 3.04
LOCATION:3.04
ORGANIZER:Janez Mrčun
X-WR-TIMEZONE:Europe/Ljubljana
END:VEVENT
BEGIN:VEVENT
SUMMARY:Rezervacija
DTSTART;TZID=Europe/Ljubljana:20230616T090000
DTEND;TZID=Europe/Ljubljana:20230616T120000
DTSTAMP:20260421T043126Z
UID:fmf-AFLABS-URNIK:rezervacija:12254
CATEGORIES:Reservation
COLOR:royalblue
DESCRIPTION:Predmeti: \nLetniki: \nIzvajalci: Janez Mrčun\nProstori: VFP
LOCATION:VFP
ORGANIZER:Janez Mrčun
X-WR-TIMEZONE:Europe/Ljubljana
END:VEVENT
BEGIN:VEVENT
SUMMARY:Rezervacija
DTSTART;TZID=Europe/Ljubljana:20230619T070000
DTEND;TZID=Europe/Ljubljana:20230619T130000
DTSTAMP:20260421T043126Z
UID:fmf-AFLABS-URNIK:rezervacija:12268
CATEGORIES:Reservation
COLOR:royalblue
DESCRIPTION:Predmeti: \nLetniki: \nIzvajalci: Janez Mrčun\nProstori: 3.04
LOCATION:3.04
ORGANIZER:Janez Mrčun
X-WR-TIMEZONE:Europe/Ljubljana
END:VEVENT
BEGIN:VEVENT
SUMMARY:Rezervacija
DTSTART;TZID=Europe/Ljubljana:20230620T070000
DTEND;TZID=Europe/Ljubljana:20230620T130000
DTSTAMP:20260421T043126Z
UID:fmf-AFLABS-URNIK:rezervacija:12304
CATEGORIES:Reservation
COLOR:royalblue
DESCRIPTION:Predmeti: \nLetniki: \nIzvajalci: Janez Mrčun\nProstori: 3.04
LOCATION:3.04
ORGANIZER:Janez Mrčun
X-WR-TIMEZONE:Europe/Ljubljana
END:VEVENT
BEGIN:VEVENT
SUMMARY:Rezervacija
DTSTART;TZID=Europe/Ljubljana:20230621T070000
DTEND;TZID=Europe/Ljubljana:20230621T130000
DTSTAMP:20260421T043126Z
UID:fmf-AFLABS-URNIK:rezervacija:12322
CATEGORIES:Reservation
COLOR:royalblue
DESCRIPTION:Predmeti: \nLetniki: \nIzvajalci: Janez Mrčun\nProstori: 3.04
LOCATION:3.04
ORGANIZER:Janez Mrčun
X-WR-TIMEZONE:Europe/Ljubljana
END:VEVENT
BEGIN:VEVENT
SUMMARY:Rezervacija
DTSTART;TZID=Europe/Ljubljana:20230626T070000
DTEND;TZID=Europe/Ljubljana:20230626T130000
DTSTAMP:20260421T043126Z
UID:fmf-AFLABS-URNIK:rezervacija:12393
CATEGORIES:Reservation
COLOR:royalblue
DESCRIPTION:Predmeti: \nLetniki: \nIzvajalci: Janez Mrčun\nProstori: 3.04
LOCATION:3.04
ORGANIZER:Janez Mrčun
X-WR-TIMEZONE:Europe/Ljubljana
END:VEVENT
BEGIN:VEVENT
SUMMARY:Rezervacija
DTSTART;TZID=Europe/Ljubljana:20230627T090000
DTEND;TZID=Europe/Ljubljana:20230627T120000
DTSTAMP:20260421T043126Z
UID:fmf-AFLABS-URNIK:rezervacija:12423
CATEGORIES:Reservation
COLOR:royalblue
DESCRIPTION:Predmeti: \nLetniki: \nIzvajalci: Janez Mrčun\nProstori: VFP
LOCATION:VFP
ORGANIZER:Janez Mrčun
X-WR-TIMEZONE:Europe/Ljubljana
END:VEVENT
BEGIN:VEVENT
SUMMARY:Rezervacija
DTSTART;TZID=Europe/Ljubljana:20230627T120000
DTEND;TZID=Europe/Ljubljana:20230627T130000
DTSTAMP:20260421T043126Z
UID:fmf-AFLABS-URNIK:rezervacija:12431
CATEGORIES:Reservation
COLOR:royalblue
DESCRIPTION:Predmeti: \nLetniki: \nIzvajalci: Janez Mrčun\nProstori: VFP
LOCATION:VFP
ORGANIZER:Janez Mrčun
X-WR-TIMEZONE:Europe/Ljubljana
END:VEVENT
BEGIN:VEVENT
SUMMARY:Rezervacija
DTSTART;TZID=Europe/Ljubljana:20230628T070000
DTEND;TZID=Europe/Ljubljana:20230628T130000
DTSTAMP:20260421T043126Z
UID:fmf-AFLABS-URNIK:rezervacija:12441
CATEGORIES:Reservation
COLOR:royalblue
DESCRIPTION:Predmeti: \nLetniki: \nIzvajalci: Janez Mrčun\nProstori: 3.04
LOCATION:3.04
ORGANIZER:Janez Mrčun
X-WR-TIMEZONE:Europe/Ljubljana
END:VEVENT
BEGIN:VEVENT
SUMMARY:Rezervacija
DTSTART;TZID=Europe/Ljubljana:20230629T070000
DTEND;TZID=Europe/Ljubljana:20230629T130000
DTSTAMP:20260421T043126Z
UID:fmf-AFLABS-URNIK:rezervacija:12558
CATEGORIES:Reservation
COLOR:royalblue
DESCRIPTION:Predmeti: \nLetniki: \nIzvajalci: Janez Mrčun\nProstori: 3.04
LOCATION:3.04
ORGANIZER:Janez Mrčun
X-WR-TIMEZONE:Europe/Ljubljana
END:VEVENT
BEGIN:VEVENT
SUMMARY:Rezervacija
DTSTART;TZID=Europe/Ljubljana:20230630T070000
DTEND;TZID=Europe/Ljubljana:20230630T130000
DTSTAMP:20260421T043126Z
UID:fmf-AFLABS-URNIK:rezervacija:12580
CATEGORIES:Reservation
COLOR:royalblue
DESCRIPTION:Predmeti: \nLetniki: \nIzvajalci: Janez Mrčun\nProstori: 3.04
LOCATION:3.04
ORGANIZER:Janez Mrčun
X-WR-TIMEZONE:Europe/Ljubljana
END:VEVENT
BEGIN:VEVENT
SUMMARY:Rezervacija
DTSTART;TZID=Europe/Ljubljana:20230703T070000
DTEND;TZID=Europe/Ljubljana:20230703T130000
DTSTAMP:20260421T043126Z
UID:fmf-AFLABS-URNIK:rezervacija:12607
CATEGORIES:Reservation
COLOR:royalblue
DESCRIPTION:Predmeti: \nLetniki: \nIzvajalci: Janez Mrčun\nProstori: 3.04
LOCATION:3.04
ORGANIZER:Janez Mrčun
X-WR-TIMEZONE:Europe/Ljubljana
END:VEVENT
BEGIN:VEVENT
SUMMARY:Rezervacija
DTSTART;TZID=Europe/Ljubljana:20230705T070000
DTEND;TZID=Europe/Ljubljana:20230705T130000
DTSTAMP:20260421T043126Z
UID:fmf-AFLABS-URNIK:rezervacija:12650
CATEGORIES:Reservation
COLOR:royalblue
DESCRIPTION:Predmeti: \nLetniki: \nIzvajalci: Janez Mrčun\nProstori: 3.04
LOCATION:3.04
ORGANIZER:Janez Mrčun
X-WR-TIMEZONE:Europe/Ljubljana
END:VEVENT
BEGIN:VEVENT
SUMMARY:Rezervacija
DTSTART;TZID=Europe/Ljubljana:20230814T090000
DTEND;TZID=Europe/Ljubljana:20230814T120000
DTSTAMP:20260421T043126Z
UID:fmf-AFLABS-URNIK:rezervacija:12776
CATEGORIES:Reservation
COLOR:royalblue
DESCRIPTION:Predmeti: \nLetniki: \nIzvajalci: Janez Mrčun\nProstori: VFP
LOCATION:VFP
ORGANIZER:Janez Mrčun
X-WR-TIMEZONE:Europe/Ljubljana
END:VEVENT
END:VCALENDAR
