BEGIN:VCALENDAR
VERSION:2.0
PRODID:-//AFLabs urnik izvoz - fmf//aflabs.si//SI
DTSTAMP:20260422T030335Z
NAME:UL FMF urnik
REFRESH-INTERVAL:PT1H
SOURCE:https://urnik.fmf.uni-lj.si/teacher/92?day=2023-09-04&export=1
URL:https://urnik.fmf.uni-lj.si/teacher/92?day=2023-09-04&export=1
X-PUBLISHED-TTL:PT1H
X-WR-CALNAME:UL FMF urnik
X-WR-TIMEZONE:Europe/Ljubljana
BEGIN:VTIMEZONE
TZID:Europe/Ljubljana
BEGIN:DAYLIGHT
DTSTART:20260329T020000
RDATE:20260329T020000
RDATE:20270328T020000
TZNAME:CEST
TZOFFSETFROM:+0100
TZOFFSETTO:+0200
END:DAYLIGHT
BEGIN:STANDARD
DTSTART:20261025T030000
RDATE:20261025T030000
RDATE:20271031T030000
TZNAME:CET
TZOFFSETFROM:+0200
TZOFFSETTO:+0100
END:STANDARD
END:VTIMEZONE
BEGIN:VEVENT
SUMMARY:GEO SEM (MAT-D)\, Seminar (S)
DTSTART;TZID=Europe/Ljubljana:20231002T100000
DTEND;TZID=Europe/Ljubljana:20231002T120000
DTSTAMP:20260422T030335Z
UID:fmf-AFLABS-URNIK:premaknjeno-srecanje:38205
ATTENDEE:doktorski študij (M)
CATEGORIES:Entry,Standard
COLOR:darkgreen
DESCRIPTION:Predmet: GEO SEM (MAT-D)\, Seminar (S)\nLetniki: doktorski št
 udij (M)\nIzvajalci: Janez Mrčun\nProstor: 3.06
LOCATION:3.06
ORGANIZER:Janez Mrčun
RELATED-TO:fmf-AFLABS-URNIK:srecanje:9160
X-WR-TIMEZONE:Europe/Ljubljana
END:VEVENT
BEGIN:VEVENT
SUMMARY:GEO SEM (MAT-D)\, Seminar (S)
DTSTART;TZID=Europe/Ljubljana:20231009T100000
DTEND;TZID=Europe/Ljubljana:20231009T120000
DTSTAMP:20260422T030335Z
UID:fmf-AFLABS-URNIK:premaknjeno-srecanje:38206
ATTENDEE:doktorski študij (M)
CATEGORIES:Entry,Standard
COLOR:darkgreen
DESCRIPTION:Predmet: GEO SEM (MAT-D)\, Seminar (S)\nLetniki: doktorski št
 udij (M)\nIzvajalci: Janez Mrčun\nProstor: 3.06
LOCATION:3.06
ORGANIZER:Janez Mrčun
RELATED-TO:fmf-AFLABS-URNIK:srecanje:9160
X-WR-TIMEZONE:Europe/Ljubljana
END:VEVENT
BEGIN:VEVENT
SUMMARY:Matematika I (FIZ-1)\, Predavanja (P)
DTSTART;TZID=Europe/Ljubljana:20231002T110000
DTEND;TZID=Europe/Ljubljana:20231002T130000
DTSTAMP:20260422T030335Z
UID:fmf-AFLABS-URNIK:premaknjeno-srecanje:63942
ATTENDEE:1. letnik (Fizika, 1. stopnja)
CATEGORIES:Entry,Standard
COLOR:darkgreen
DESCRIPTION:Predmet: Matematika I (FIZ-1)\, Predavanja (P)\nLetniki: 1. le
 tnik (Fizika\, 1. stopnja)\nIzvajalci: Janez Mrčun\nProstor: VFP
LOCATION:VFP
ORGANIZER:Janez Mrčun
RELATED-TO:fmf-AFLABS-URNIK:srecanje:9283
X-WR-TIMEZONE:Europe/Ljubljana
END:VEVENT
BEGIN:VEVENT
SUMMARY:Matematika I (FIZ-1)\, Predavanja (P)
DTSTART;TZID=Europe/Ljubljana:20231009T110000
DTEND;TZID=Europe/Ljubljana:20231009T130000
DTSTAMP:20260422T030335Z
UID:fmf-AFLABS-URNIK:premaknjeno-srecanje:63943
ATTENDEE:1. letnik (Fizika, 1. stopnja)
CATEGORIES:Entry,Standard
COLOR:darkgreen
DESCRIPTION:Predmet: Matematika I (FIZ-1)\, Predavanja (P)\nLetniki: 1. le
 tnik (Fizika\, 1. stopnja)\nIzvajalci: Janez Mrčun\nProstor: VFP
LOCATION:VFP
ORGANIZER:Janez Mrčun
RELATED-TO:fmf-AFLABS-URNIK:srecanje:9283
X-WR-TIMEZONE:Europe/Ljubljana
END:VEVENT
BEGIN:VEVENT
SUMMARY:Matematika I (FIZ-1)\, Predavanja (P)
DTSTART;TZID=Europe/Ljubljana:20231004T140000
DTEND;TZID=Europe/Ljubljana:20231004T160000
DTSTAMP:20260422T030335Z
UID:fmf-AFLABS-URNIK:premaknjeno-srecanje:64160
ATTENDEE:1. letnik (Fizika, 1. stopnja)
CATEGORIES:Entry,Standard
COLOR:darkgreen
DESCRIPTION:Predmet: Matematika I (FIZ-1)\, Predavanja (P)\nLetniki: 1. le
 tnik (Fizika\, 1. stopnja)\nIzvajalci: Janez Mrčun\nProstor: VFP
LOCATION:VFP
ORGANIZER:Janez Mrčun
RELATED-TO:fmf-AFLABS-URNIK:srecanje:9286
X-WR-TIMEZONE:Europe/Ljubljana
END:VEVENT
BEGIN:VEVENT
SUMMARY:Dodatna poglavja iz matematike za fizike (FIZ-M1\, FIZ-M2)\, Preda
 vanja (P)
DTSTART;TZID=Europe/Ljubljana:20231005T080000
DTEND;TZID=Europe/Ljubljana:20231005T110000
DTSTAMP:20260422T030335Z
UID:fmf-AFLABS-URNIK:premaknjeno-srecanje:17184
ATTENDEE:1. letnik (Fizika, 2. stopnja)
ATTENDEE:2. letnik (Fizika, 2. stopnja)
CATEGORIES:Entry,Standard
COLOR:darkgreen
DESCRIPTION:Predmet: Dodatna poglavja iz matematike za fizike (FIZ-M1\, FI
 Z-M2)\, Predavanja (P)\nLetniki: 1. letnik (Fizika\, 2. stopnja)\, 2. letn
 ik (Fizika\, 2. stopnja)\nIzvajalci: Janez Mrčun\nProstor: F5
LOCATION:F5
ORGANIZER:Janez Mrčun
RELATED-TO:fmf-AFLABS-URNIK:srecanje:9034
X-WR-TIMEZONE:Europe/Ljubljana
END:VEVENT
BEGIN:VEVENT
SUMMARY:Matematika I (FIZ-1)\, Predavanja (P)
DTSTART;TZID=Europe/Ljubljana:20231006T100000
DTEND;TZID=Europe/Ljubljana:20231006T120000
DTSTAMP:20260422T030335Z
UID:fmf-AFLABS-URNIK:premaknjeno-srecanje:64382
ATTENDEE:1. letnik (Fizika, 1. stopnja)
CATEGORIES:Entry,Standard
COLOR:darkgreen
DESCRIPTION:Predmet: Matematika I (FIZ-1)\, Predavanja (P)\nLetniki: 1. le
 tnik (Fizika\, 1. stopnja)\nIzvajalci: Janez Mrčun\nProstor: VFP
LOCATION:VFP
ORGANIZER:Janez Mrčun
RELATED-TO:fmf-AFLABS-URNIK:srecanje:9287
X-WR-TIMEZONE:Europe/Ljubljana
END:VEVENT
BEGIN:VEVENT
SUMMARY:Rezervacija
DTSTART;TZID=Europe/Ljubljana:20230814T090000
DTEND;TZID=Europe/Ljubljana:20230814T120000
DTSTAMP:20260422T030335Z
UID:fmf-AFLABS-URNIK:rezervacija:12776
CATEGORIES:Reservation
COLOR:royalblue
DESCRIPTION:Predmeti: \nLetniki: \nIzvajalci: Janez Mrčun\nProstori: VFP
LOCATION:VFP
ORGANIZER:Janez Mrčun
X-WR-TIMEZONE:Europe/Ljubljana
END:VEVENT
BEGIN:VEVENT
SUMMARY:Rezervacija
DTSTART;TZID=Europe/Ljubljana:20230816T080000
DTEND;TZID=Europe/Ljubljana:20230816T110000
DTSTAMP:20260422T030335Z
UID:fmf-AFLABS-URNIK:rezervacija:12784
CATEGORIES:Reservation
COLOR:royalblue
DESCRIPTION:Predmeti: \nLetniki: \nIzvajalci: Janez Mrčun\nProstori: 3.05
LOCATION:3.05
ORGANIZER:Janez Mrčun
X-WR-TIMEZONE:Europe/Ljubljana
END:VEVENT
BEGIN:VEVENT
SUMMARY:Rezervacija
DTSTART;TZID=Europe/Ljubljana:20230821T070000
DTEND;TZID=Europe/Ljubljana:20230821T130000
DTSTAMP:20260422T030335Z
UID:fmf-AFLABS-URNIK:rezervacija:12830
CATEGORIES:Reservation
COLOR:royalblue
DESCRIPTION:Predmeti: \nLetniki: \nIzvajalci: Janez Mrčun\nProstori: 3.04
LOCATION:3.04
ORGANIZER:Janez Mrčun
X-WR-TIMEZONE:Europe/Ljubljana
END:VEVENT
BEGIN:VEVENT
SUMMARY:Rezervacija
DTSTART;TZID=Europe/Ljubljana:20230822T090000
DTEND;TZID=Europe/Ljubljana:20230822T120000
DTSTAMP:20260422T030335Z
UID:fmf-AFLABS-URNIK:rezervacija:12856
CATEGORIES:Reservation
COLOR:royalblue
DESCRIPTION:Predmeti: \nLetniki: \nIzvajalci: Janez Mrčun\nProstori: VFP
LOCATION:VFP
ORGANIZER:Janez Mrčun
X-WR-TIMEZONE:Europe/Ljubljana
END:VEVENT
BEGIN:VEVENT
SUMMARY:Rezervacija
DTSTART;TZID=Europe/Ljubljana:20230822T120000
DTEND;TZID=Europe/Ljubljana:20230822T130000
DTSTAMP:20260422T030335Z
UID:fmf-AFLABS-URNIK:rezervacija:12866
CATEGORIES:Reservation
COLOR:royalblue
DESCRIPTION:Predmeti: \nLetniki: \nIzvajalci: Janez Mrčun\nProstori: MFP
LOCATION:MFP
ORGANIZER:Janez Mrčun
X-WR-TIMEZONE:Europe/Ljubljana
END:VEVENT
BEGIN:VEVENT
SUMMARY:Rezervacija
DTSTART;TZID=Europe/Ljubljana:20230829T090000
DTEND;TZID=Europe/Ljubljana:20230829T120000
DTSTAMP:20260422T030335Z
UID:fmf-AFLABS-URNIK:rezervacija:12963
CATEGORIES:Reservation
COLOR:royalblue
DESCRIPTION:Predmeti: \nLetniki: \nIzvajalci: Janez Mrčun\nProstori: VFP
LOCATION:VFP
ORGANIZER:Janez Mrčun
X-WR-TIMEZONE:Europe/Ljubljana
END:VEVENT
BEGIN:VEVENT
SUMMARY:Rezervacija
DTSTART;TZID=Europe/Ljubljana:20230830T070000
DTEND;TZID=Europe/Ljubljana:20230830T130000
DTSTAMP:20260422T030335Z
UID:fmf-AFLABS-URNIK:rezervacija:12980
CATEGORIES:Reservation
COLOR:royalblue
DESCRIPTION:Predmeti: \nLetniki: \nIzvajalci: Janez Mrčun\nProstori: 3.05
LOCATION:3.05
ORGANIZER:Janez Mrčun
X-WR-TIMEZONE:Europe/Ljubljana
END:VEVENT
BEGIN:VEVENT
SUMMARY:Rezervacija
DTSTART;TZID=Europe/Ljubljana:20230904T070000
DTEND;TZID=Europe/Ljubljana:20230904T130000
DTSTAMP:20260422T030335Z
UID:fmf-AFLABS-URNIK:rezervacija:13096
CATEGORIES:Reservation
COLOR:royalblue
DESCRIPTION:Predmeti: \nLetniki: \nIzvajalci: Janez Mrčun\nProstori: 3.04
LOCATION:3.04
ORGANIZER:Janez Mrčun
X-WR-TIMEZONE:Europe/Ljubljana
END:VEVENT
BEGIN:VEVENT
SUMMARY:Rezervacija
DTSTART;TZID=Europe/Ljubljana:20230906T090000
DTEND;TZID=Europe/Ljubljana:20230906T100000
DTSTAMP:20260422T030335Z
UID:fmf-AFLABS-URNIK:rezervacija:13167
CATEGORIES:Reservation
COLOR:royalblue
DESCRIPTION:Predmeti: \nLetniki: \nIzvajalci: Janez Mrčun\nProstori: 3.07
LOCATION:3.07
ORGANIZER:Janez Mrčun
X-WR-TIMEZONE:Europe/Ljubljana
END:VEVENT
END:VCALENDAR
