BEGIN:VCALENDAR
VERSION:2.0
PRODID:-//AFLabs urnik izvoz - fmf//aflabs.si//SI
DTSTAMP:20260425T120405Z
NAME:UL FMF urnik
REFRESH-INTERVAL:PT1H
SOURCE:https://urnik.fmf.uni-lj.si/teacher/95?day=2023-05-22&export=1
URL:https://urnik.fmf.uni-lj.si/teacher/95?day=2023-05-22&export=1
X-PUBLISHED-TTL:PT1H
X-WR-CALNAME:UL FMF urnik
X-WR-TIMEZONE:Europe/Ljubljana
BEGIN:VTIMEZONE
TZID:Europe/Ljubljana
BEGIN:DAYLIGHT
DTSTART:20260329T020000
RDATE:20260329T020000
RDATE:20270328T020000
TZNAME:CEST
TZOFFSETFROM:+0100
TZOFFSETTO:+0200
END:DAYLIGHT
BEGIN:STANDARD
DTSTART:20261025T030000
RDATE:20261025T030000
RDATE:20271031T030000
TZNAME:CET
TZOFFSETFROM:+0200
TZOFFSETTO:+0100
END:STANDARD
END:VTIMEZONE
BEGIN:VEVENT
SUMMARY:Proseminar A (FIZ-1)\, Predavanja (P)
DTSTART;TZID=Europe/Ljubljana:20230214T110000
DTEND;TZID=Europe/Ljubljana:20230214T130000
DTSTAMP:20260425T120405Z
UID:fmf-AFLABS-URNIK:premaknjeno-srecanje:88698
ATTENDEE:1. letnik (Fizika, 1. stopnja)
CATEGORIES:Entry,Standard
COLOR:darkgreen
DESCRIPTION:Predmet: Proseminar A (FIZ-1)\, Predavanja (P)\nLetniki: 1. le
 tnik (Fizika\, 1. stopnja)\nIzvajalci: Saša Prelovšek Komelj\nProstor: M
 FP
LOCATION:MFP
ORGANIZER:Saša Prelovšek Komelj
RELATED-TO:fmf-AFLABS-URNIK:srecanje:8658
X-WR-TIMEZONE:Europe/Ljubljana
END:VEVENT
BEGIN:VEVENT
SUMMARY:Proseminar A (FIZ-1)\, Predavanja (P)
DTSTART;TZID=Europe/Ljubljana:20230221T110000
DTEND;TZID=Europe/Ljubljana:20230221T130000
DTSTAMP:20260425T120405Z
UID:fmf-AFLABS-URNIK:premaknjeno-srecanje:88699
ATTENDEE:1. letnik (Fizika, 1. stopnja)
CATEGORIES:Entry,Standard
COLOR:darkgreen
DESCRIPTION:Predmet: Proseminar A (FIZ-1)\, Predavanja (P)\nLetniki: 1. le
 tnik (Fizika\, 1. stopnja)\nIzvajalci: Saša Prelovšek Komelj\nProstor: M
 FP
LOCATION:MFP
ORGANIZER:Saša Prelovšek Komelj
RELATED-TO:fmf-AFLABS-URNIK:srecanje:8658
X-WR-TIMEZONE:Europe/Ljubljana
END:VEVENT
BEGIN:VEVENT
SUMMARY:Proseminar A (FIZ-1)\, Predavanja (P)
DTSTART;TZID=Europe/Ljubljana:20230228T110000
DTEND;TZID=Europe/Ljubljana:20230228T130000
DTSTAMP:20260425T120405Z
UID:fmf-AFLABS-URNIK:premaknjeno-srecanje:88700
ATTENDEE:1. letnik (Fizika, 1. stopnja)
CATEGORIES:Entry,Standard
COLOR:darkgreen
DESCRIPTION:Predmet: Proseminar A (FIZ-1)\, Predavanja (P)\nLetniki: 1. le
 tnik (Fizika\, 1. stopnja)\nIzvajalci: Saša Prelovšek Komelj\nProstor: M
 FP
LOCATION:MFP
ORGANIZER:Saša Prelovšek Komelj
RELATED-TO:fmf-AFLABS-URNIK:srecanje:8658
X-WR-TIMEZONE:Europe/Ljubljana
END:VEVENT
BEGIN:VEVENT
SUMMARY:Proseminar A (FIZ-1)\, Predavanja (P)
DTSTART;TZID=Europe/Ljubljana:20230307T110000
DTEND;TZID=Europe/Ljubljana:20230307T130000
DTSTAMP:20260425T120405Z
UID:fmf-AFLABS-URNIK:premaknjeno-srecanje:88701
ATTENDEE:1. letnik (Fizika, 1. stopnja)
CATEGORIES:Entry,Standard
COLOR:darkgreen
DESCRIPTION:Predmet: Proseminar A (FIZ-1)\, Predavanja (P)\nLetniki: 1. le
 tnik (Fizika\, 1. stopnja)\nIzvajalci: Saša Prelovšek Komelj\nProstor: M
 FP
LOCATION:MFP
ORGANIZER:Saša Prelovšek Komelj
RELATED-TO:fmf-AFLABS-URNIK:srecanje:8658
X-WR-TIMEZONE:Europe/Ljubljana
END:VEVENT
BEGIN:VEVENT
SUMMARY:Proseminar A (FIZ-1)\, Predavanja (P)
DTSTART;TZID=Europe/Ljubljana:20230314T110000
DTEND;TZID=Europe/Ljubljana:20230314T130000
DTSTAMP:20260425T120405Z
UID:fmf-AFLABS-URNIK:premaknjeno-srecanje:88702
ATTENDEE:1. letnik (Fizika, 1. stopnja)
CATEGORIES:Entry,Standard
COLOR:darkgreen
DESCRIPTION:Predmet: Proseminar A (FIZ-1)\, Predavanja (P)\nLetniki: 1. le
 tnik (Fizika\, 1. stopnja)\nIzvajalci: Saša Prelovšek Komelj\nProstor: M
 FP
LOCATION:MFP
ORGANIZER:Saša Prelovšek Komelj
RELATED-TO:fmf-AFLABS-URNIK:srecanje:8658
X-WR-TIMEZONE:Europe/Ljubljana
END:VEVENT
BEGIN:VEVENT
SUMMARY:Proseminar A (FIZ-1)\, Predavanja (P)
DTSTART;TZID=Europe/Ljubljana:20230321T110000
DTEND;TZID=Europe/Ljubljana:20230321T130000
DTSTAMP:20260425T120405Z
UID:fmf-AFLABS-URNIK:premaknjeno-srecanje:88703
ATTENDEE:1. letnik (Fizika, 1. stopnja)
CATEGORIES:Entry,Standard
COLOR:darkgreen
DESCRIPTION:Predmet: Proseminar A (FIZ-1)\, Predavanja (P)\nLetniki: 1. le
 tnik (Fizika\, 1. stopnja)\nIzvajalci: Saša Prelovšek Komelj\nProstor: M
 FP
LOCATION:MFP
ORGANIZER:Saša Prelovšek Komelj
RELATED-TO:fmf-AFLABS-URNIK:srecanje:8658
X-WR-TIMEZONE:Europe/Ljubljana
END:VEVENT
BEGIN:VEVENT
SUMMARY:Proseminar A (FIZ-1)\, Predavanja (P)
DTSTART;TZID=Europe/Ljubljana:20230328T110000
DTEND;TZID=Europe/Ljubljana:20230328T130000
DTSTAMP:20260425T120405Z
UID:fmf-AFLABS-URNIK:premaknjeno-srecanje:88704
ATTENDEE:1. letnik (Fizika, 1. stopnja)
CATEGORIES:Entry,Standard
COLOR:darkgreen
DESCRIPTION:Predmet: Proseminar A (FIZ-1)\, Predavanja (P)\nLetniki: 1. le
 tnik (Fizika\, 1. stopnja)\nIzvajalci: Saša Prelovšek Komelj\nProstor: M
 FP
LOCATION:MFP
ORGANIZER:Saša Prelovšek Komelj
RELATED-TO:fmf-AFLABS-URNIK:srecanje:8658
X-WR-TIMEZONE:Europe/Ljubljana
END:VEVENT
BEGIN:VEVENT
SUMMARY:Proseminar A (FIZ-1)\, Predavanja (P)
DTSTART;TZID=Europe/Ljubljana:20230404T110000
DTEND;TZID=Europe/Ljubljana:20230404T130000
DTSTAMP:20260425T120405Z
UID:fmf-AFLABS-URNIK:premaknjeno-srecanje:88705
ATTENDEE:1. letnik (Fizika, 1. stopnja)
CATEGORIES:Entry,Standard
COLOR:darkgreen
DESCRIPTION:Predmet: Proseminar A (FIZ-1)\, Predavanja (P)\nLetniki: 1. le
 tnik (Fizika\, 1. stopnja)\nIzvajalci: Saša Prelovšek Komelj\nProstor: M
 FP
LOCATION:MFP
ORGANIZER:Saša Prelovšek Komelj
RELATED-TO:fmf-AFLABS-URNIK:srecanje:8658
X-WR-TIMEZONE:Europe/Ljubljana
END:VEVENT
BEGIN:VEVENT
SUMMARY:Proseminar A (FIZ-1)\, Predavanja (P)
DTSTART;TZID=Europe/Ljubljana:20230411T110000
DTEND;TZID=Europe/Ljubljana:20230411T130000
DTSTAMP:20260425T120405Z
UID:fmf-AFLABS-URNIK:premaknjeno-srecanje:88706
ATTENDEE:1. letnik (Fizika, 1. stopnja)
CATEGORIES:Entry,Standard
COLOR:darkgreen
DESCRIPTION:Predmet: Proseminar A (FIZ-1)\, Predavanja (P)\nLetniki: 1. le
 tnik (Fizika\, 1. stopnja)\nIzvajalci: Saša Prelovšek Komelj\nProstor: M
 FP
LOCATION:MFP
ORGANIZER:Saša Prelovšek Komelj
RELATED-TO:fmf-AFLABS-URNIK:srecanje:8658
X-WR-TIMEZONE:Europe/Ljubljana
END:VEVENT
BEGIN:VEVENT
SUMMARY:Proseminar A (FIZ-1)\, Predavanja (P)
DTSTART;TZID=Europe/Ljubljana:20230418T110000
DTEND;TZID=Europe/Ljubljana:20230418T130000
DTSTAMP:20260425T120405Z
UID:fmf-AFLABS-URNIK:premaknjeno-srecanje:88707
ATTENDEE:1. letnik (Fizika, 1. stopnja)
CATEGORIES:Entry,Standard
COLOR:darkgreen
DESCRIPTION:Predmet: Proseminar A (FIZ-1)\, Predavanja (P)\nLetniki: 1. le
 tnik (Fizika\, 1. stopnja)\nIzvajalci: Saša Prelovšek Komelj\nProstor: M
 FP
LOCATION:MFP
ORGANIZER:Saša Prelovšek Komelj
RELATED-TO:fmf-AFLABS-URNIK:srecanje:8658
X-WR-TIMEZONE:Europe/Ljubljana
END:VEVENT
BEGIN:VEVENT
SUMMARY:Proseminar A (FIZ-1)\, Predavanja (P)
DTSTART;TZID=Europe/Ljubljana:20230425T110000
DTEND;TZID=Europe/Ljubljana:20230425T130000
DTSTAMP:20260425T120405Z
UID:fmf-AFLABS-URNIK:premaknjeno-srecanje:88708
ATTENDEE:1. letnik (Fizika, 1. stopnja)
CATEGORIES:Entry,Standard
COLOR:darkgreen
DESCRIPTION:Predmet: Proseminar A (FIZ-1)\, Predavanja (P)\nLetniki: 1. le
 tnik (Fizika\, 1. stopnja)\nIzvajalci: Saša Prelovšek Komelj\nProstor: M
 FP
LOCATION:MFP
ORGANIZER:Saša Prelovšek Komelj
RELATED-TO:fmf-AFLABS-URNIK:srecanje:8658
X-WR-TIMEZONE:Europe/Ljubljana
END:VEVENT
BEGIN:VEVENT
SUMMARY:Proseminar A (FIZ-1)\, Predavanja (P)
DTSTART;TZID=Europe/Ljubljana:20230502T110000
DTEND;TZID=Europe/Ljubljana:20230502T130000
DTSTAMP:20260425T120405Z
UID:fmf-AFLABS-URNIK:premaknjeno-srecanje:88709
ATTENDEE:1. letnik (Fizika, 1. stopnja)
CATEGORIES:Entry,Standard
COLOR:darkgreen
DESCRIPTION:Predmet: Proseminar A (FIZ-1)\, Predavanja (P)\nLetniki: 1. le
 tnik (Fizika\, 1. stopnja)\nIzvajalci: Saša Prelovšek Komelj\nProstor: M
 FP
LOCATION:MFP
ORGANIZER:Saša Prelovšek Komelj
RELATED-TO:fmf-AFLABS-URNIK:srecanje:8658
X-WR-TIMEZONE:Europe/Ljubljana
END:VEVENT
BEGIN:VEVENT
SUMMARY:Proseminar A (FIZ-1)\, Predavanja (P)
DTSTART;TZID=Europe/Ljubljana:20230509T110000
DTEND;TZID=Europe/Ljubljana:20230509T130000
DTSTAMP:20260425T120405Z
UID:fmf-AFLABS-URNIK:premaknjeno-srecanje:88710
ATTENDEE:1. letnik (Fizika, 1. stopnja)
CATEGORIES:Entry,Standard
COLOR:darkgreen
DESCRIPTION:Predmet: Proseminar A (FIZ-1)\, Predavanja (P)\nLetniki: 1. le
 tnik (Fizika\, 1. stopnja)\nIzvajalci: Saša Prelovšek Komelj\nProstor: M
 FP
LOCATION:MFP
ORGANIZER:Saša Prelovšek Komelj
RELATED-TO:fmf-AFLABS-URNIK:srecanje:8658
X-WR-TIMEZONE:Europe/Ljubljana
END:VEVENT
BEGIN:VEVENT
SUMMARY:Proseminar A (FIZ-1)\, Predavanja (P)
DTSTART;TZID=Europe/Ljubljana:20230516T110000
DTEND;TZID=Europe/Ljubljana:20230516T130000
DTSTAMP:20260425T120405Z
UID:fmf-AFLABS-URNIK:premaknjeno-srecanje:88711
ATTENDEE:1. letnik (Fizika, 1. stopnja)
CATEGORIES:Entry,Standard
COLOR:darkgreen
DESCRIPTION:Predmet: Proseminar A (FIZ-1)\, Predavanja (P)\nLetniki: 1. le
 tnik (Fizika\, 1. stopnja)\nIzvajalci: Saša Prelovšek Komelj\nProstor: M
 FP
LOCATION:MFP
ORGANIZER:Saša Prelovšek Komelj
RELATED-TO:fmf-AFLABS-URNIK:srecanje:8658
X-WR-TIMEZONE:Europe/Ljubljana
END:VEVENT
BEGIN:VEVENT
SUMMARY:Proseminar A (FIZ-1)\, Predavanja (P)
DTSTART;TZID=Europe/Ljubljana:20230523T110000
DTEND;TZID=Europe/Ljubljana:20230523T130000
DTSTAMP:20260425T120405Z
UID:fmf-AFLABS-URNIK:premaknjeno-srecanje:88712
ATTENDEE:1. letnik (Fizika, 1. stopnja)
CATEGORIES:Entry,Standard
COLOR:darkgreen
DESCRIPTION:Predmet: Proseminar A (FIZ-1)\, Predavanja (P)\nLetniki: 1. le
 tnik (Fizika\, 1. stopnja)\nIzvajalci: Saša Prelovšek Komelj\nProstor: M
 FP
LOCATION:MFP
ORGANIZER:Saša Prelovšek Komelj
RELATED-TO:fmf-AFLABS-URNIK:srecanje:8658
X-WR-TIMEZONE:Europe/Ljubljana
END:VEVENT
BEGIN:VEVENT
SUMMARY:Proseminar A (FIZ-1)\, Predavanja (P)
DTSTART;TZID=Europe/Ljubljana:20230530T110000
DTEND;TZID=Europe/Ljubljana:20230530T130000
DTSTAMP:20260425T120405Z
UID:fmf-AFLABS-URNIK:premaknjeno-srecanje:88713
ATTENDEE:1. letnik (Fizika, 1. stopnja)
CATEGORIES:Entry,Standard
COLOR:darkgreen
DESCRIPTION:Predmet: Proseminar A (FIZ-1)\, Predavanja (P)\nLetniki: 1. le
 tnik (Fizika\, 1. stopnja)\nIzvajalci: Saša Prelovšek Komelj\nProstor: M
 FP
LOCATION:MFP
ORGANIZER:Saša Prelovšek Komelj
RELATED-TO:fmf-AFLABS-URNIK:srecanje:8658
X-WR-TIMEZONE:Europe/Ljubljana
END:VEVENT
BEGIN:VEVENT
SUMMARY:Seminar (FIZ-3)\, Seminar (S)\, [2]
DTSTART;TZID=Europe/Ljubljana:20230215T080000
DTEND;TZID=Europe/Ljubljana:20230215T100000
DTSTAMP:20260425T120405Z
UID:fmf-AFLABS-URNIK:premaknjeno-srecanje:100973
ATTENDEE:3. letnik (Fizika, 1. stopnja)
CATEGORIES:Entry,Standard
COLOR:darkgreen
DESCRIPTION:Predmet: Seminar (FIZ-3)\, Seminar (S)\, [2]\nLetniki: 3. letn
 ik (Fizika\, 1. stopnja)\nIzvajalci: Saša Prelovšek Komelj\nProstor: F4
LOCATION:F4
ORGANIZER:Saša Prelovšek Komelj
RELATED-TO:fmf-AFLABS-URNIK:srecanje:8710
X-WR-TIMEZONE:Europe/Ljubljana
END:VEVENT
BEGIN:VEVENT
SUMMARY:Seminar (FIZ-3)\, Seminar (S)\, [2]
DTSTART;TZID=Europe/Ljubljana:20230222T080000
DTEND;TZID=Europe/Ljubljana:20230222T100000
DTSTAMP:20260425T120405Z
UID:fmf-AFLABS-URNIK:premaknjeno-srecanje:100974
ATTENDEE:3. letnik (Fizika, 1. stopnja)
CATEGORIES:Entry,Standard
COLOR:darkgreen
DESCRIPTION:Predmet: Seminar (FIZ-3)\, Seminar (S)\, [2]\nLetniki: 3. letn
 ik (Fizika\, 1. stopnja)\nIzvajalci: Saša Prelovšek Komelj\nProstor: F4
LOCATION:F4
ORGANIZER:Saša Prelovšek Komelj
RELATED-TO:fmf-AFLABS-URNIK:srecanje:8710
X-WR-TIMEZONE:Europe/Ljubljana
END:VEVENT
BEGIN:VEVENT
SUMMARY:Seminar (FIZ-3)\, Seminar (S)\, [2]
DTSTART;TZID=Europe/Ljubljana:20230301T080000
DTEND;TZID=Europe/Ljubljana:20230301T100000
DTSTAMP:20260425T120405Z
UID:fmf-AFLABS-URNIK:premaknjeno-srecanje:100975
ATTENDEE:3. letnik (Fizika, 1. stopnja)
CATEGORIES:Entry,Standard
COLOR:darkgreen
DESCRIPTION:Predmet: Seminar (FIZ-3)\, Seminar (S)\, [2]\nLetniki: 3. letn
 ik (Fizika\, 1. stopnja)\nIzvajalci: Saša Prelovšek Komelj\nProstor: F4
LOCATION:F4
ORGANIZER:Saša Prelovšek Komelj
RELATED-TO:fmf-AFLABS-URNIK:srecanje:8710
X-WR-TIMEZONE:Europe/Ljubljana
END:VEVENT
BEGIN:VEVENT
SUMMARY:Seminar (FIZ-3)\, Seminar (S)\, [2]
DTSTART;TZID=Europe/Ljubljana:20230308T080000
DTEND;TZID=Europe/Ljubljana:20230308T100000
DTSTAMP:20260425T120405Z
UID:fmf-AFLABS-URNIK:premaknjeno-srecanje:100976
ATTENDEE:3. letnik (Fizika, 1. stopnja)
CATEGORIES:Entry,Standard
COLOR:darkgreen
DESCRIPTION:Predmet: Seminar (FIZ-3)\, Seminar (S)\, [2]\nLetniki: 3. letn
 ik (Fizika\, 1. stopnja)\nIzvajalci: Saša Prelovšek Komelj\nProstor: F4
LOCATION:F4
ORGANIZER:Saša Prelovšek Komelj
RELATED-TO:fmf-AFLABS-URNIK:srecanje:8710
X-WR-TIMEZONE:Europe/Ljubljana
END:VEVENT
BEGIN:VEVENT
SUMMARY:Seminar (FIZ-3)\, Seminar (S)\, [2]
DTSTART;TZID=Europe/Ljubljana:20230315T080000
DTEND;TZID=Europe/Ljubljana:20230315T100000
DTSTAMP:20260425T120405Z
UID:fmf-AFLABS-URNIK:premaknjeno-srecanje:100977
ATTENDEE:3. letnik (Fizika, 1. stopnja)
CATEGORIES:Entry,Standard
COLOR:darkgreen
DESCRIPTION:Predmet: Seminar (FIZ-3)\, Seminar (S)\, [2]\nLetniki: 3. letn
 ik (Fizika\, 1. stopnja)\nIzvajalci: Saša Prelovšek Komelj\nProstor: F4
LOCATION:F4
ORGANIZER:Saša Prelovšek Komelj
RELATED-TO:fmf-AFLABS-URNIK:srecanje:8710
X-WR-TIMEZONE:Europe/Ljubljana
END:VEVENT
BEGIN:VEVENT
SUMMARY:Seminar (FIZ-3)\, Seminar (S)\, [2]
DTSTART;TZID=Europe/Ljubljana:20230322T080000
DTEND;TZID=Europe/Ljubljana:20230322T100000
DTSTAMP:20260425T120405Z
UID:fmf-AFLABS-URNIK:premaknjeno-srecanje:100978
ATTENDEE:3. letnik (Fizika, 1. stopnja)
CATEGORIES:Entry,Standard
COLOR:darkgreen
DESCRIPTION:Predmet: Seminar (FIZ-3)\, Seminar (S)\, [2]\nLetniki: 3. letn
 ik (Fizika\, 1. stopnja)\nIzvajalci: Saša Prelovšek Komelj\nProstor: F4
LOCATION:F4
ORGANIZER:Saša Prelovšek Komelj
RELATED-TO:fmf-AFLABS-URNIK:srecanje:8710
X-WR-TIMEZONE:Europe/Ljubljana
END:VEVENT
BEGIN:VEVENT
SUMMARY:Seminar (FIZ-3)\, Seminar (S)\, [2]
DTSTART;TZID=Europe/Ljubljana:20230329T080000
DTEND;TZID=Europe/Ljubljana:20230329T100000
DTSTAMP:20260425T120405Z
UID:fmf-AFLABS-URNIK:premaknjeno-srecanje:100979
ATTENDEE:3. letnik (Fizika, 1. stopnja)
CATEGORIES:Entry,Standard
COLOR:darkgreen
DESCRIPTION:Predmet: Seminar (FIZ-3)\, Seminar (S)\, [2]\nLetniki: 3. letn
 ik (Fizika\, 1. stopnja)\nIzvajalci: Saša Prelovšek Komelj\nProstor: F4
LOCATION:F4
ORGANIZER:Saša Prelovšek Komelj
RELATED-TO:fmf-AFLABS-URNIK:srecanje:8710
X-WR-TIMEZONE:Europe/Ljubljana
END:VEVENT
BEGIN:VEVENT
SUMMARY:Seminar (FIZ-3)\, Seminar (S)\, [2]
DTSTART;TZID=Europe/Ljubljana:20230405T080000
DTEND;TZID=Europe/Ljubljana:20230405T100000
DTSTAMP:20260425T120405Z
UID:fmf-AFLABS-URNIK:premaknjeno-srecanje:100980
ATTENDEE:3. letnik (Fizika, 1. stopnja)
CATEGORIES:Entry,Standard
COLOR:darkgreen
DESCRIPTION:Predmet: Seminar (FIZ-3)\, Seminar (S)\, [2]\nLetniki: 3. letn
 ik (Fizika\, 1. stopnja)\nIzvajalci: Saša Prelovšek Komelj\nProstor: F4
LOCATION:F4
ORGANIZER:Saša Prelovšek Komelj
RELATED-TO:fmf-AFLABS-URNIK:srecanje:8710
X-WR-TIMEZONE:Europe/Ljubljana
END:VEVENT
BEGIN:VEVENT
SUMMARY:Seminar (FIZ-3)\, Seminar (S)\, [2]
DTSTART;TZID=Europe/Ljubljana:20230412T080000
DTEND;TZID=Europe/Ljubljana:20230412T100000
DTSTAMP:20260425T120405Z
UID:fmf-AFLABS-URNIK:premaknjeno-srecanje:100981
ATTENDEE:3. letnik (Fizika, 1. stopnja)
CATEGORIES:Entry,Standard
COLOR:darkgreen
DESCRIPTION:Predmet: Seminar (FIZ-3)\, Seminar (S)\, [2]\nLetniki: 3. letn
 ik (Fizika\, 1. stopnja)\nIzvajalci: Saša Prelovšek Komelj\nProstor: F4
LOCATION:F4
ORGANIZER:Saša Prelovšek Komelj
RELATED-TO:fmf-AFLABS-URNIK:srecanje:8710
X-WR-TIMEZONE:Europe/Ljubljana
END:VEVENT
BEGIN:VEVENT
SUMMARY:Seminar (FIZ-3)\, Seminar (S)\, [2]
DTSTART;TZID=Europe/Ljubljana:20230419T080000
DTEND;TZID=Europe/Ljubljana:20230419T100000
DTSTAMP:20260425T120405Z
UID:fmf-AFLABS-URNIK:premaknjeno-srecanje:100982
ATTENDEE:3. letnik (Fizika, 1. stopnja)
CATEGORIES:Entry,Standard
COLOR:darkgreen
DESCRIPTION:Predmet: Seminar (FIZ-3)\, Seminar (S)\, [2]\nLetniki: 3. letn
 ik (Fizika\, 1. stopnja)\nIzvajalci: Saša Prelovšek Komelj\nProstor: F4
LOCATION:F4
ORGANIZER:Saša Prelovšek Komelj
RELATED-TO:fmf-AFLABS-URNIK:srecanje:8710
X-WR-TIMEZONE:Europe/Ljubljana
END:VEVENT
BEGIN:VEVENT
SUMMARY:Seminar (FIZ-3)\, Seminar (S)\, [2]
DTSTART;TZID=Europe/Ljubljana:20230426T080000
DTEND;TZID=Europe/Ljubljana:20230426T100000
DTSTAMP:20260425T120405Z
UID:fmf-AFLABS-URNIK:premaknjeno-srecanje:100983
ATTENDEE:3. letnik (Fizika, 1. stopnja)
CATEGORIES:Entry,Standard
COLOR:darkgreen
DESCRIPTION:Predmet: Seminar (FIZ-3)\, Seminar (S)\, [2]\nLetniki: 3. letn
 ik (Fizika\, 1. stopnja)\nIzvajalci: Saša Prelovšek Komelj\nProstor: F4
LOCATION:F4
ORGANIZER:Saša Prelovšek Komelj
RELATED-TO:fmf-AFLABS-URNIK:srecanje:8710
X-WR-TIMEZONE:Europe/Ljubljana
END:VEVENT
BEGIN:VEVENT
SUMMARY:Seminar (FIZ-3)\, Seminar (S)\, [2]
DTSTART;TZID=Europe/Ljubljana:20230503T080000
DTEND;TZID=Europe/Ljubljana:20230503T100000
DTSTAMP:20260425T120405Z
UID:fmf-AFLABS-URNIK:premaknjeno-srecanje:100984
ATTENDEE:3. letnik (Fizika, 1. stopnja)
CATEGORIES:Entry,Standard
COLOR:darkgreen
DESCRIPTION:Predmet: Seminar (FIZ-3)\, Seminar (S)\, [2]\nLetniki: 3. letn
 ik (Fizika\, 1. stopnja)\nIzvajalci: Saša Prelovšek Komelj\nProstor: F4
LOCATION:F4
ORGANIZER:Saša Prelovšek Komelj
RELATED-TO:fmf-AFLABS-URNIK:srecanje:8710
X-WR-TIMEZONE:Europe/Ljubljana
END:VEVENT
BEGIN:VEVENT
SUMMARY:Seminar (FIZ-3)\, Seminar (S)\, [2]
DTSTART;TZID=Europe/Ljubljana:20230510T080000
DTEND;TZID=Europe/Ljubljana:20230510T100000
DTSTAMP:20260425T120405Z
UID:fmf-AFLABS-URNIK:premaknjeno-srecanje:100985
ATTENDEE:3. letnik (Fizika, 1. stopnja)
CATEGORIES:Entry,Standard
COLOR:darkgreen
DESCRIPTION:Predmet: Seminar (FIZ-3)\, Seminar (S)\, [2]\nLetniki: 3. letn
 ik (Fizika\, 1. stopnja)\nIzvajalci: Saša Prelovšek Komelj\nProstor: F4
LOCATION:F4
ORGANIZER:Saša Prelovšek Komelj
RELATED-TO:fmf-AFLABS-URNIK:srecanje:8710
X-WR-TIMEZONE:Europe/Ljubljana
END:VEVENT
BEGIN:VEVENT
SUMMARY:Seminar (FIZ-3)\, Seminar (S)\, [2]
DTSTART;TZID=Europe/Ljubljana:20230517T080000
DTEND;TZID=Europe/Ljubljana:20230517T100000
DTSTAMP:20260425T120405Z
UID:fmf-AFLABS-URNIK:premaknjeno-srecanje:100986
ATTENDEE:3. letnik (Fizika, 1. stopnja)
CATEGORIES:Entry,Standard
COLOR:darkgreen
DESCRIPTION:Predmet: Seminar (FIZ-3)\, Seminar (S)\, [2]\nLetniki: 3. letn
 ik (Fizika\, 1. stopnja)\nIzvajalci: Saša Prelovšek Komelj\nProstor: F4
LOCATION:F4
ORGANIZER:Saša Prelovšek Komelj
RELATED-TO:fmf-AFLABS-URNIK:srecanje:8710
X-WR-TIMEZONE:Europe/Ljubljana
END:VEVENT
BEGIN:VEVENT
SUMMARY:Seminar (FIZ-3)\, Seminar (S)\, [2]
DTSTART;TZID=Europe/Ljubljana:20230524T080000
DTEND;TZID=Europe/Ljubljana:20230524T100000
DTSTAMP:20260425T120405Z
UID:fmf-AFLABS-URNIK:premaknjeno-srecanje:100987
ATTENDEE:3. letnik (Fizika, 1. stopnja)
CATEGORIES:Entry,Standard
COLOR:darkgreen
DESCRIPTION:Predmet: Seminar (FIZ-3)\, Seminar (S)\, [2]\nLetniki: 3. letn
 ik (Fizika\, 1. stopnja)\nIzvajalci: Saša Prelovšek Komelj\nProstor: F4
LOCATION:F4
ORGANIZER:Saša Prelovšek Komelj
RELATED-TO:fmf-AFLABS-URNIK:srecanje:8710
X-WR-TIMEZONE:Europe/Ljubljana
END:VEVENT
BEGIN:VEVENT
SUMMARY:Seminar (FIZ-3)\, Seminar (S)\, [2]
DTSTART;TZID=Europe/Ljubljana:20230531T080000
DTEND;TZID=Europe/Ljubljana:20230531T100000
DTSTAMP:20260425T120405Z
UID:fmf-AFLABS-URNIK:premaknjeno-srecanje:100988
ATTENDEE:3. letnik (Fizika, 1. stopnja)
CATEGORIES:Entry,Standard
COLOR:darkgreen
DESCRIPTION:Predmet: Seminar (FIZ-3)\, Seminar (S)\, [2]\nLetniki: 3. letn
 ik (Fizika\, 1. stopnja)\nIzvajalci: Saša Prelovšek Komelj\nProstor: F4
LOCATION:F4
ORGANIZER:Saša Prelovšek Komelj
RELATED-TO:fmf-AFLABS-URNIK:srecanje:8710
X-WR-TIMEZONE:Europe/Ljubljana
END:VEVENT
END:VCALENDAR
