BEGIN:VCALENDAR
VERSION:2.0
PRODID:-//AFLabs urnik izvoz - fmf//aflabs.si//SI
DTSTAMP:20260425T120139Z
NAME:UL FMF urnik
REFRESH-INTERVAL:PT1H
SOURCE:https://urnik.fmf.uni-lj.si/teacher/964?day=2021-10-18&export=1
URL:https://urnik.fmf.uni-lj.si/teacher/964?day=2021-10-18&export=1
X-PUBLISHED-TTL:PT1H
X-WR-CALNAME:UL FMF urnik
X-WR-TIMEZONE:Europe/Ljubljana
BEGIN:VTIMEZONE
TZID:Europe/Ljubljana
BEGIN:DAYLIGHT
DTSTART:20260329T020000
RDATE:20260329T020000
RDATE:20270328T020000
TZNAME:CEST
TZOFFSETFROM:+0100
TZOFFSETTO:+0200
END:DAYLIGHT
BEGIN:STANDARD
DTSTART:20261025T030000
RDATE:20261025T030000
RDATE:20271031T030000
TZNAME:CET
TZOFFSETFROM:+0200
TZOFFSETTO:+0100
END:STANDARD
END:VTIMEZONE
BEGIN:VEVENT
SUMMARY:Rezervacija
DTSTART;TZID=Europe/Ljubljana:20211021T140000
DTEND;TZID=Europe/Ljubljana:20211021T150000
DTSTAMP:20260425T120139Z
UID:fmf-AFLABS-URNIK:rezervacija:7937
ATTENDEE:2. letnik (Fizika, 2. stopnja)
ATTENDEE:2. letnik (Jedrska tehnika, 2. stopnja)
ATTENDEE:2. letnik (Medicinska fizika, 2. stopnja)
ATTENDEE:2. letnik (Pedagoška fizika, 2. stopnja)
CATEGORIES:Reservation
COLOR:royalblue
DESCRIPTION:Predmeti: Seminar II (FIZ-M2\, JET-2\, MEF-2\, PEF-2)\nLetniki
 : 2. letnik (Fizika\, 2. stopnja)\, 2. letnik (Jedrska tehnika\, 2. stopnj
 a)\, 2. letnik (Medicinska fizika\, 2. stopnja)\, 2. letnik (Pedagoška fi
 zika\, 2. stopnja)\nIzvajalci: Rainer Oliver Kaltenbaek\nProstori: MFP
LOCATION:MFP
ORGANIZER:Rainer Oliver Kaltenbaek
X-WR-TIMEZONE:Europe/Ljubljana
END:VEVENT
END:VCALENDAR
