BEGIN:VCALENDAR
VERSION:2.0
PRODID:-//AFLabs urnik izvoz - fmf//aflabs.si//SI
DTSTAMP:20260423T115950Z
NAME:UL FMF urnik
REFRESH-INTERVAL:PT1H
SOURCE:https://urnik.fmf.uni-lj.si/teacher/964?day=2024-11-04&export=1
URL:https://urnik.fmf.uni-lj.si/teacher/964?day=2024-11-04&export=1
X-PUBLISHED-TTL:PT1H
X-WR-CALNAME:UL FMF urnik
X-WR-TIMEZONE:Europe/Ljubljana
BEGIN:VTIMEZONE
TZID:Europe/Ljubljana
BEGIN:DAYLIGHT
DTSTART:20260329T020000
RDATE:20260329T020000
RDATE:20270328T020000
TZNAME:CEST
TZOFFSETFROM:+0100
TZOFFSETTO:+0200
END:DAYLIGHT
BEGIN:STANDARD
DTSTART:20261025T030000
RDATE:20261025T030000
RDATE:20271031T030000
TZNAME:CET
TZOFFSETFROM:+0200
TZOFFSETTO:+0100
END:STANDARD
END:VTIMEZONE
BEGIN:VEVENT
SUMMARY:Kvantna optika (FIZ-M2)\, Predavanja (P)
DTSTART;TZID=Europe/Ljubljana:20241003T080000
DTEND;TZID=Europe/Ljubljana:20241003T100000
DTSTAMP:20260423T115950Z
UID:fmf-AFLABS-URNIK:premaknjeno-srecanje:181432
ATTENDEE:2. letnik (Fizika, 2. stopnja)
CATEGORIES:Entry,Standard
COLOR:darkgreen
DESCRIPTION:Predmet: Kvantna optika (FIZ-M2)\, Predavanja (P)\nLetniki: 2.
  letnik (Fizika\, 2. stopnja)\nIzvajalci: Rainer Oliver Kaltenbaek\nProsto
 r: F5
LOCATION:F5
ORGANIZER:Rainer Oliver Kaltenbaek
RELATED-TO:fmf-AFLABS-URNIK:srecanje:14556
X-WR-TIMEZONE:Europe/Ljubljana
END:VEVENT
BEGIN:VEVENT
SUMMARY:Kvantna optika (FIZ-M2)\, Predavanja (P)
DTSTART;TZID=Europe/Ljubljana:20241010T080000
DTEND;TZID=Europe/Ljubljana:20241010T100000
DTSTAMP:20260423T115950Z
UID:fmf-AFLABS-URNIK:premaknjeno-srecanje:181433
ATTENDEE:2. letnik (Fizika, 2. stopnja)
CATEGORIES:Entry,Standard
COLOR:darkgreen
DESCRIPTION:Predmet: Kvantna optika (FIZ-M2)\, Predavanja (P)\nLetniki: 2.
  letnik (Fizika\, 2. stopnja)\nIzvajalci: Rainer Oliver Kaltenbaek\nProsto
 r: F5
LOCATION:F5
ORGANIZER:Rainer Oliver Kaltenbaek
RELATED-TO:fmf-AFLABS-URNIK:srecanje:14556
X-WR-TIMEZONE:Europe/Ljubljana
END:VEVENT
BEGIN:VEVENT
SUMMARY:Kvantna optika (FIZ-M2)\, Predavanja (P)
DTSTART;TZID=Europe/Ljubljana:20241017T080000
DTEND;TZID=Europe/Ljubljana:20241017T100000
DTSTAMP:20260423T115950Z
UID:fmf-AFLABS-URNIK:premaknjeno-srecanje:181434
ATTENDEE:2. letnik (Fizika, 2. stopnja)
CATEGORIES:Entry,Standard
COLOR:darkgreen
DESCRIPTION:Predmet: Kvantna optika (FIZ-M2)\, Predavanja (P)\nLetniki: 2.
  letnik (Fizika\, 2. stopnja)\nIzvajalci: Rainer Oliver Kaltenbaek\nProsto
 r: F5
LOCATION:F5
ORGANIZER:Rainer Oliver Kaltenbaek
RELATED-TO:fmf-AFLABS-URNIK:srecanje:14556
X-WR-TIMEZONE:Europe/Ljubljana
END:VEVENT
BEGIN:VEVENT
SUMMARY:Kvantna optika (FIZ-M2)\, Predavanja (P)
DTSTART;TZID=Europe/Ljubljana:20241024T080000
DTEND;TZID=Europe/Ljubljana:20241024T100000
DTSTAMP:20260423T115950Z
UID:fmf-AFLABS-URNIK:premaknjeno-srecanje:181435
ATTENDEE:2. letnik (Fizika, 2. stopnja)
CATEGORIES:Entry,Standard
COLOR:darkgreen
DESCRIPTION:Predmet: Kvantna optika (FIZ-M2)\, Predavanja (P)\nLetniki: 2.
  letnik (Fizika\, 2. stopnja)\nIzvajalci: Rainer Oliver Kaltenbaek\nProsto
 r: F5
LOCATION:F5
ORGANIZER:Rainer Oliver Kaltenbaek
RELATED-TO:fmf-AFLABS-URNIK:srecanje:14556
X-WR-TIMEZONE:Europe/Ljubljana
END:VEVENT
BEGIN:VEVENT
SUMMARY:Kvantna optika (FIZ-M2)\, Predavanja (P)
DTSTART;TZID=Europe/Ljubljana:20241031T080000
DTEND;TZID=Europe/Ljubljana:20241031T100000
DTSTAMP:20260423T115950Z
UID:fmf-AFLABS-URNIK:premaknjeno-srecanje:181436
ATTENDEE:2. letnik (Fizika, 2. stopnja)
CATEGORIES:Entry,Standard
COLOR:darkgreen
DESCRIPTION:Predmet: Kvantna optika (FIZ-M2)\, Predavanja (P)\nLetniki: 2.
  letnik (Fizika\, 2. stopnja)\nIzvajalci: Rainer Oliver Kaltenbaek\nProsto
 r: F5
LOCATION:F5
ORGANIZER:Rainer Oliver Kaltenbaek
RELATED-TO:fmf-AFLABS-URNIK:srecanje:14556
X-WR-TIMEZONE:Europe/Ljubljana
END:VEVENT
BEGIN:VEVENT
SUMMARY:Kvantna optika (FIZ-M2)\, Predavanja (P)
DTSTART;TZID=Europe/Ljubljana:20241107T080000
DTEND;TZID=Europe/Ljubljana:20241107T100000
DTSTAMP:20260423T115950Z
UID:fmf-AFLABS-URNIK:premaknjeno-srecanje:181437
ATTENDEE:2. letnik (Fizika, 2. stopnja)
CATEGORIES:Entry,Standard
COLOR:darkgreen
DESCRIPTION:Predmet: Kvantna optika (FIZ-M2)\, Predavanja (P)\nLetniki: 2.
  letnik (Fizika\, 2. stopnja)\nIzvajalci: Rainer Oliver Kaltenbaek\nProsto
 r: F5
LOCATION:F5
ORGANIZER:Rainer Oliver Kaltenbaek
RELATED-TO:fmf-AFLABS-URNIK:srecanje:14556
X-WR-TIMEZONE:Europe/Ljubljana
END:VEVENT
BEGIN:VEVENT
SUMMARY:Kvantna optika (FIZ-M2)\, Predavanja (P)
DTSTART;TZID=Europe/Ljubljana:20241114T080000
DTEND;TZID=Europe/Ljubljana:20241114T100000
DTSTAMP:20260423T115950Z
UID:fmf-AFLABS-URNIK:premaknjeno-srecanje:181438
ATTENDEE:2. letnik (Fizika, 2. stopnja)
CATEGORIES:Entry,Standard
COLOR:darkgreen
DESCRIPTION:Predmet: Kvantna optika (FIZ-M2)\, Predavanja (P)\nLetniki: 2.
  letnik (Fizika\, 2. stopnja)\nIzvajalci: Rainer Oliver Kaltenbaek\nProsto
 r: F5
LOCATION:F5
ORGANIZER:Rainer Oliver Kaltenbaek
RELATED-TO:fmf-AFLABS-URNIK:srecanje:14556
X-WR-TIMEZONE:Europe/Ljubljana
END:VEVENT
BEGIN:VEVENT
SUMMARY:Kvantna optika (FIZ-M2)\, Predavanja (P)
DTSTART;TZID=Europe/Ljubljana:20241121T080000
DTEND;TZID=Europe/Ljubljana:20241121T100000
DTSTAMP:20260423T115950Z
UID:fmf-AFLABS-URNIK:premaknjeno-srecanje:181439
ATTENDEE:2. letnik (Fizika, 2. stopnja)
CATEGORIES:Entry,Standard
COLOR:darkgreen
DESCRIPTION:Predmet: Kvantna optika (FIZ-M2)\, Predavanja (P)\nLetniki: 2.
  letnik (Fizika\, 2. stopnja)\nIzvajalci: Rainer Oliver Kaltenbaek\nProsto
 r: F5
LOCATION:F5
ORGANIZER:Rainer Oliver Kaltenbaek
RELATED-TO:fmf-AFLABS-URNIK:srecanje:14556
X-WR-TIMEZONE:Europe/Ljubljana
END:VEVENT
BEGIN:VEVENT
SUMMARY:Kvantna optika (FIZ-M2)\, Predavanja (P)
DTSTART;TZID=Europe/Ljubljana:20241128T080000
DTEND;TZID=Europe/Ljubljana:20241128T100000
DTSTAMP:20260423T115950Z
UID:fmf-AFLABS-URNIK:premaknjeno-srecanje:181440
ATTENDEE:2. letnik (Fizika, 2. stopnja)
CATEGORIES:Entry,Standard
COLOR:darkgreen
DESCRIPTION:Predmet: Kvantna optika (FIZ-M2)\, Predavanja (P)\nLetniki: 2.
  letnik (Fizika\, 2. stopnja)\nIzvajalci: Rainer Oliver Kaltenbaek\nProsto
 r: F5
LOCATION:F5
ORGANIZER:Rainer Oliver Kaltenbaek
RELATED-TO:fmf-AFLABS-URNIK:srecanje:14556
X-WR-TIMEZONE:Europe/Ljubljana
END:VEVENT
BEGIN:VEVENT
SUMMARY:Kvantna optika (FIZ-M2)\, Predavanja (P)
DTSTART;TZID=Europe/Ljubljana:20241205T080000
DTEND;TZID=Europe/Ljubljana:20241205T100000
DTSTAMP:20260423T115950Z
UID:fmf-AFLABS-URNIK:premaknjeno-srecanje:181441
ATTENDEE:2. letnik (Fizika, 2. stopnja)
CATEGORIES:Entry,Standard
COLOR:darkgreen
DESCRIPTION:Predmet: Kvantna optika (FIZ-M2)\, Predavanja (P)\nLetniki: 2.
  letnik (Fizika\, 2. stopnja)\nIzvajalci: Rainer Oliver Kaltenbaek\nProsto
 r: F5
LOCATION:F5
ORGANIZER:Rainer Oliver Kaltenbaek
RELATED-TO:fmf-AFLABS-URNIK:srecanje:14556
X-WR-TIMEZONE:Europe/Ljubljana
END:VEVENT
BEGIN:VEVENT
SUMMARY:Kvantna optika (FIZ-M2)\, Predavanja (P)
DTSTART;TZID=Europe/Ljubljana:20241212T080000
DTEND;TZID=Europe/Ljubljana:20241212T100000
DTSTAMP:20260423T115950Z
UID:fmf-AFLABS-URNIK:premaknjeno-srecanje:181442
ATTENDEE:2. letnik (Fizika, 2. stopnja)
CATEGORIES:Entry,Standard
COLOR:darkgreen
DESCRIPTION:Predmet: Kvantna optika (FIZ-M2)\, Predavanja (P)\nLetniki: 2.
  letnik (Fizika\, 2. stopnja)\nIzvajalci: Rainer Oliver Kaltenbaek\nProsto
 r: F5
LOCATION:F5
ORGANIZER:Rainer Oliver Kaltenbaek
RELATED-TO:fmf-AFLABS-URNIK:srecanje:14556
X-WR-TIMEZONE:Europe/Ljubljana
END:VEVENT
BEGIN:VEVENT
SUMMARY:Kvantna optika (FIZ-M2)\, Predavanja (P)
DTSTART;TZID=Europe/Ljubljana:20241219T080000
DTEND;TZID=Europe/Ljubljana:20241219T100000
DTSTAMP:20260423T115950Z
UID:fmf-AFLABS-URNIK:premaknjeno-srecanje:181443
ATTENDEE:2. letnik (Fizika, 2. stopnja)
CATEGORIES:Entry,Standard
COLOR:darkgreen
DESCRIPTION:Predmet: Kvantna optika (FIZ-M2)\, Predavanja (P)\nLetniki: 2.
  letnik (Fizika\, 2. stopnja)\nIzvajalci: Rainer Oliver Kaltenbaek\nProsto
 r: F5
LOCATION:F5
ORGANIZER:Rainer Oliver Kaltenbaek
RELATED-TO:fmf-AFLABS-URNIK:srecanje:14556
X-WR-TIMEZONE:Europe/Ljubljana
END:VEVENT
BEGIN:VEVENT
SUMMARY:Kvantna optika (FIZ-M2)\, Predavanja (P)
DTSTART;TZID=Europe/Ljubljana:20241226T080000
DTEND;TZID=Europe/Ljubljana:20241226T100000
DTSTAMP:20260423T115950Z
UID:fmf-AFLABS-URNIK:premaknjeno-srecanje:181444
ATTENDEE:2. letnik (Fizika, 2. stopnja)
CATEGORIES:Entry,Standard
COLOR:darkgreen
DESCRIPTION:Predmet: Kvantna optika (FIZ-M2)\, Predavanja (P)\nLetniki: 2.
  letnik (Fizika\, 2. stopnja)\nIzvajalci: Rainer Oliver Kaltenbaek\nProsto
 r: F5
LOCATION:F5
ORGANIZER:Rainer Oliver Kaltenbaek
RELATED-TO:fmf-AFLABS-URNIK:srecanje:14556
X-WR-TIMEZONE:Europe/Ljubljana
END:VEVENT
BEGIN:VEVENT
SUMMARY:Kvantna optika (FIZ-M2)\, Predavanja (P)
DTSTART;TZID=Europe/Ljubljana:20250102T080000
DTEND;TZID=Europe/Ljubljana:20250102T100000
DTSTAMP:20260423T115950Z
UID:fmf-AFLABS-URNIK:premaknjeno-srecanje:181445
ATTENDEE:2. letnik (Fizika, 2. stopnja)
CATEGORIES:Entry,Standard
COLOR:darkgreen
DESCRIPTION:Predmet: Kvantna optika (FIZ-M2)\, Predavanja (P)\nLetniki: 2.
  letnik (Fizika\, 2. stopnja)\nIzvajalci: Rainer Oliver Kaltenbaek\nProsto
 r: F5
LOCATION:F5
ORGANIZER:Rainer Oliver Kaltenbaek
RELATED-TO:fmf-AFLABS-URNIK:srecanje:14556
X-WR-TIMEZONE:Europe/Ljubljana
END:VEVENT
BEGIN:VEVENT
SUMMARY:Kvantna optika (FIZ-M2)\, Predavanja (P)
DTSTART;TZID=Europe/Ljubljana:20250109T080000
DTEND;TZID=Europe/Ljubljana:20250109T100000
DTSTAMP:20260423T115950Z
UID:fmf-AFLABS-URNIK:premaknjeno-srecanje:181446
ATTENDEE:2. letnik (Fizika, 2. stopnja)
CATEGORIES:Entry,Standard
COLOR:darkgreen
DESCRIPTION:Predmet: Kvantna optika (FIZ-M2)\, Predavanja (P)\nLetniki: 2.
  letnik (Fizika\, 2. stopnja)\nIzvajalci: Rainer Oliver Kaltenbaek\nProsto
 r: F5
LOCATION:F5
ORGANIZER:Rainer Oliver Kaltenbaek
RELATED-TO:fmf-AFLABS-URNIK:srecanje:14556
X-WR-TIMEZONE:Europe/Ljubljana
END:VEVENT
BEGIN:VEVENT
SUMMARY:Kvantna optika (FIZ-M2)\, Predavanja (P)
DTSTART;TZID=Europe/Ljubljana:20250116T080000
DTEND;TZID=Europe/Ljubljana:20250116T100000
DTSTAMP:20260423T115950Z
UID:fmf-AFLABS-URNIK:premaknjeno-srecanje:186898
ATTENDEE:2. letnik (Fizika, 2. stopnja)
CATEGORIES:Entry,Standard
COLOR:darkgreen
DESCRIPTION:Predmet: Kvantna optika (FIZ-M2)\, Predavanja (P)\nLetniki: 2.
  letnik (Fizika\, 2. stopnja)\nIzvajalci: Rainer Oliver Kaltenbaek\nProsto
 r: F5
LOCATION:F5
ORGANIZER:Rainer Oliver Kaltenbaek
RELATED-TO:fmf-AFLABS-URNIK:srecanje:14556
X-WR-TIMEZONE:Europe/Ljubljana
END:VEVENT
BEGIN:VEVENT
SUMMARY:Kvantna optika (FIZ-M2)\, Vaje (V)
DTSTART;TZID=Europe/Ljubljana:20241003T100000
DTEND;TZID=Europe/Ljubljana:20241003T110000
DTSTAMP:20260423T115950Z
UID:fmf-AFLABS-URNIK:premaknjeno-srecanje:181447
ATTENDEE:2. letnik (Fizika, 2. stopnja)
CATEGORIES:Entry,Standard
COLOR:darkgreen
DESCRIPTION:Predmet: Kvantna optika (FIZ-M2)\, Vaje (V)\nLetniki: 2. letni
 k (Fizika\, 2. stopnja)\nIzvajalci: Rainer Oliver Kaltenbaek\nProstor: F7
LOCATION:F7
ORGANIZER:Rainer Oliver Kaltenbaek
RELATED-TO:fmf-AFLABS-URNIK:srecanje:14557
X-WR-TIMEZONE:Europe/Ljubljana
END:VEVENT
BEGIN:VEVENT
SUMMARY:Kvantna optika (FIZ-M2)\, Vaje (V)
DTSTART;TZID=Europe/Ljubljana:20241010T100000
DTEND;TZID=Europe/Ljubljana:20241010T110000
DTSTAMP:20260423T115950Z
UID:fmf-AFLABS-URNIK:premaknjeno-srecanje:181448
ATTENDEE:2. letnik (Fizika, 2. stopnja)
CATEGORIES:Entry,Standard
COLOR:darkgreen
DESCRIPTION:Predmet: Kvantna optika (FIZ-M2)\, Vaje (V)\nLetniki: 2. letni
 k (Fizika\, 2. stopnja)\nIzvajalci: Rainer Oliver Kaltenbaek\nProstor: F7
LOCATION:F7
ORGANIZER:Rainer Oliver Kaltenbaek
RELATED-TO:fmf-AFLABS-URNIK:srecanje:14557
X-WR-TIMEZONE:Europe/Ljubljana
END:VEVENT
BEGIN:VEVENT
SUMMARY:Kvantna optika (FIZ-M2)\, Vaje (V)
DTSTART;TZID=Europe/Ljubljana:20241017T100000
DTEND;TZID=Europe/Ljubljana:20241017T110000
DTSTAMP:20260423T115950Z
UID:fmf-AFLABS-URNIK:premaknjeno-srecanje:181449
ATTENDEE:2. letnik (Fizika, 2. stopnja)
CATEGORIES:Entry,Standard
COLOR:darkgreen
DESCRIPTION:Predmet: Kvantna optika (FIZ-M2)\, Vaje (V)\nLetniki: 2. letni
 k (Fizika\, 2. stopnja)\nIzvajalci: Rainer Oliver Kaltenbaek\nProstor: F7
LOCATION:F7
ORGANIZER:Rainer Oliver Kaltenbaek
RELATED-TO:fmf-AFLABS-URNIK:srecanje:14557
X-WR-TIMEZONE:Europe/Ljubljana
END:VEVENT
BEGIN:VEVENT
SUMMARY:Kvantna optika (FIZ-M2)\, Vaje (V)
DTSTART;TZID=Europe/Ljubljana:20241024T100000
DTEND;TZID=Europe/Ljubljana:20241024T110000
DTSTAMP:20260423T115950Z
UID:fmf-AFLABS-URNIK:premaknjeno-srecanje:181450
ATTENDEE:2. letnik (Fizika, 2. stopnja)
CATEGORIES:Entry,Standard
COLOR:darkgreen
DESCRIPTION:Predmet: Kvantna optika (FIZ-M2)\, Vaje (V)\nLetniki: 2. letni
 k (Fizika\, 2. stopnja)\nIzvajalci: Rainer Oliver Kaltenbaek\nProstor: F7
LOCATION:F7
ORGANIZER:Rainer Oliver Kaltenbaek
RELATED-TO:fmf-AFLABS-URNIK:srecanje:14557
X-WR-TIMEZONE:Europe/Ljubljana
END:VEVENT
BEGIN:VEVENT
SUMMARY:Kvantna optika (FIZ-M2)\, Vaje (V)
DTSTART;TZID=Europe/Ljubljana:20241031T100000
DTEND;TZID=Europe/Ljubljana:20241031T110000
DTSTAMP:20260423T115950Z
UID:fmf-AFLABS-URNIK:premaknjeno-srecanje:181451
ATTENDEE:2. letnik (Fizika, 2. stopnja)
CATEGORIES:Entry,Standard
COLOR:darkgreen
DESCRIPTION:Predmet: Kvantna optika (FIZ-M2)\, Vaje (V)\nLetniki: 2. letni
 k (Fizika\, 2. stopnja)\nIzvajalci: Rainer Oliver Kaltenbaek\nProstor: F7
LOCATION:F7
ORGANIZER:Rainer Oliver Kaltenbaek
RELATED-TO:fmf-AFLABS-URNIK:srecanje:14557
X-WR-TIMEZONE:Europe/Ljubljana
END:VEVENT
BEGIN:VEVENT
SUMMARY:Kvantna optika (FIZ-M2)\, Vaje (V)
DTSTART;TZID=Europe/Ljubljana:20241107T100000
DTEND;TZID=Europe/Ljubljana:20241107T110000
DTSTAMP:20260423T115950Z
UID:fmf-AFLABS-URNIK:premaknjeno-srecanje:181452
ATTENDEE:2. letnik (Fizika, 2. stopnja)
CATEGORIES:Entry,Standard
COLOR:darkgreen
DESCRIPTION:Predmet: Kvantna optika (FIZ-M2)\, Vaje (V)\nLetniki: 2. letni
 k (Fizika\, 2. stopnja)\nIzvajalci: Rainer Oliver Kaltenbaek\nProstor: F7
LOCATION:F7
ORGANIZER:Rainer Oliver Kaltenbaek
RELATED-TO:fmf-AFLABS-URNIK:srecanje:14557
X-WR-TIMEZONE:Europe/Ljubljana
END:VEVENT
BEGIN:VEVENT
SUMMARY:Kvantna optika (FIZ-M2)\, Vaje (V)
DTSTART;TZID=Europe/Ljubljana:20241114T100000
DTEND;TZID=Europe/Ljubljana:20241114T110000
DTSTAMP:20260423T115950Z
UID:fmf-AFLABS-URNIK:premaknjeno-srecanje:181453
ATTENDEE:2. letnik (Fizika, 2. stopnja)
CATEGORIES:Entry,Standard
COLOR:darkgreen
DESCRIPTION:Predmet: Kvantna optika (FIZ-M2)\, Vaje (V)\nLetniki: 2. letni
 k (Fizika\, 2. stopnja)\nIzvajalci: Rainer Oliver Kaltenbaek\nProstor: F7
LOCATION:F7
ORGANIZER:Rainer Oliver Kaltenbaek
RELATED-TO:fmf-AFLABS-URNIK:srecanje:14557
X-WR-TIMEZONE:Europe/Ljubljana
END:VEVENT
BEGIN:VEVENT
SUMMARY:Kvantna optika (FIZ-M2)\, Vaje (V)
DTSTART;TZID=Europe/Ljubljana:20241121T100000
DTEND;TZID=Europe/Ljubljana:20241121T110000
DTSTAMP:20260423T115950Z
UID:fmf-AFLABS-URNIK:premaknjeno-srecanje:181454
ATTENDEE:2. letnik (Fizika, 2. stopnja)
CATEGORIES:Entry,Standard
COLOR:darkgreen
DESCRIPTION:Predmet: Kvantna optika (FIZ-M2)\, Vaje (V)\nLetniki: 2. letni
 k (Fizika\, 2. stopnja)\nIzvajalci: Rainer Oliver Kaltenbaek\nProstor: F7
LOCATION:F7
ORGANIZER:Rainer Oliver Kaltenbaek
RELATED-TO:fmf-AFLABS-URNIK:srecanje:14557
X-WR-TIMEZONE:Europe/Ljubljana
END:VEVENT
BEGIN:VEVENT
SUMMARY:Kvantna optika (FIZ-M2)\, Vaje (V)
DTSTART;TZID=Europe/Ljubljana:20241128T100000
DTEND;TZID=Europe/Ljubljana:20241128T110000
DTSTAMP:20260423T115950Z
UID:fmf-AFLABS-URNIK:premaknjeno-srecanje:181455
ATTENDEE:2. letnik (Fizika, 2. stopnja)
CATEGORIES:Entry,Standard
COLOR:darkgreen
DESCRIPTION:Predmet: Kvantna optika (FIZ-M2)\, Vaje (V)\nLetniki: 2. letni
 k (Fizika\, 2. stopnja)\nIzvajalci: Rainer Oliver Kaltenbaek\nProstor: F7
LOCATION:F7
ORGANIZER:Rainer Oliver Kaltenbaek
RELATED-TO:fmf-AFLABS-URNIK:srecanje:14557
X-WR-TIMEZONE:Europe/Ljubljana
END:VEVENT
BEGIN:VEVENT
SUMMARY:Kvantna optika (FIZ-M2)\, Vaje (V)
DTSTART;TZID=Europe/Ljubljana:20241205T100000
DTEND;TZID=Europe/Ljubljana:20241205T110000
DTSTAMP:20260423T115950Z
UID:fmf-AFLABS-URNIK:premaknjeno-srecanje:181456
ATTENDEE:2. letnik (Fizika, 2. stopnja)
CATEGORIES:Entry,Standard
COLOR:darkgreen
DESCRIPTION:Predmet: Kvantna optika (FIZ-M2)\, Vaje (V)\nLetniki: 2. letni
 k (Fizika\, 2. stopnja)\nIzvajalci: Rainer Oliver Kaltenbaek\nProstor: F7
LOCATION:F7
ORGANIZER:Rainer Oliver Kaltenbaek
RELATED-TO:fmf-AFLABS-URNIK:srecanje:14557
X-WR-TIMEZONE:Europe/Ljubljana
END:VEVENT
BEGIN:VEVENT
SUMMARY:Kvantna optika (FIZ-M2)\, Vaje (V)
DTSTART;TZID=Europe/Ljubljana:20241212T100000
DTEND;TZID=Europe/Ljubljana:20241212T110000
DTSTAMP:20260423T115950Z
UID:fmf-AFLABS-URNIK:premaknjeno-srecanje:181457
ATTENDEE:2. letnik (Fizika, 2. stopnja)
CATEGORIES:Entry,Standard
COLOR:darkgreen
DESCRIPTION:Predmet: Kvantna optika (FIZ-M2)\, Vaje (V)\nLetniki: 2. letni
 k (Fizika\, 2. stopnja)\nIzvajalci: Rainer Oliver Kaltenbaek\nProstor: F7
LOCATION:F7
ORGANIZER:Rainer Oliver Kaltenbaek
RELATED-TO:fmf-AFLABS-URNIK:srecanje:14557
X-WR-TIMEZONE:Europe/Ljubljana
END:VEVENT
BEGIN:VEVENT
SUMMARY:Kvantna optika (FIZ-M2)\, Vaje (V)
DTSTART;TZID=Europe/Ljubljana:20241219T100000
DTEND;TZID=Europe/Ljubljana:20241219T110000
DTSTAMP:20260423T115950Z
UID:fmf-AFLABS-URNIK:premaknjeno-srecanje:181458
ATTENDEE:2. letnik (Fizika, 2. stopnja)
CATEGORIES:Entry,Standard
COLOR:darkgreen
DESCRIPTION:Predmet: Kvantna optika (FIZ-M2)\, Vaje (V)\nLetniki: 2. letni
 k (Fizika\, 2. stopnja)\nIzvajalci: Rainer Oliver Kaltenbaek\nProstor: F7
LOCATION:F7
ORGANIZER:Rainer Oliver Kaltenbaek
RELATED-TO:fmf-AFLABS-URNIK:srecanje:14557
X-WR-TIMEZONE:Europe/Ljubljana
END:VEVENT
BEGIN:VEVENT
SUMMARY:Kvantna optika (FIZ-M2)\, Vaje (V)
DTSTART;TZID=Europe/Ljubljana:20241226T100000
DTEND;TZID=Europe/Ljubljana:20241226T110000
DTSTAMP:20260423T115950Z
UID:fmf-AFLABS-URNIK:premaknjeno-srecanje:181459
ATTENDEE:2. letnik (Fizika, 2. stopnja)
CATEGORIES:Entry,Standard
COLOR:darkgreen
DESCRIPTION:Predmet: Kvantna optika (FIZ-M2)\, Vaje (V)\nLetniki: 2. letni
 k (Fizika\, 2. stopnja)\nIzvajalci: Rainer Oliver Kaltenbaek\nProstor: F7
LOCATION:F7
ORGANIZER:Rainer Oliver Kaltenbaek
RELATED-TO:fmf-AFLABS-URNIK:srecanje:14557
X-WR-TIMEZONE:Europe/Ljubljana
END:VEVENT
BEGIN:VEVENT
SUMMARY:Kvantna optika (FIZ-M2)\, Vaje (V)
DTSTART;TZID=Europe/Ljubljana:20250102T100000
DTEND;TZID=Europe/Ljubljana:20250102T110000
DTSTAMP:20260423T115950Z
UID:fmf-AFLABS-URNIK:premaknjeno-srecanje:181460
ATTENDEE:2. letnik (Fizika, 2. stopnja)
CATEGORIES:Entry,Standard
COLOR:darkgreen
DESCRIPTION:Predmet: Kvantna optika (FIZ-M2)\, Vaje (V)\nLetniki: 2. letni
 k (Fizika\, 2. stopnja)\nIzvajalci: Rainer Oliver Kaltenbaek\nProstor: F7
LOCATION:F7
ORGANIZER:Rainer Oliver Kaltenbaek
RELATED-TO:fmf-AFLABS-URNIK:srecanje:14557
X-WR-TIMEZONE:Europe/Ljubljana
END:VEVENT
BEGIN:VEVENT
SUMMARY:Kvantna optika (FIZ-M2)\, Vaje (V)
DTSTART;TZID=Europe/Ljubljana:20250109T100000
DTEND;TZID=Europe/Ljubljana:20250109T110000
DTSTAMP:20260423T115950Z
UID:fmf-AFLABS-URNIK:premaknjeno-srecanje:181461
ATTENDEE:2. letnik (Fizika, 2. stopnja)
CATEGORIES:Entry,Standard
COLOR:darkgreen
DESCRIPTION:Predmet: Kvantna optika (FIZ-M2)\, Vaje (V)\nLetniki: 2. letni
 k (Fizika\, 2. stopnja)\nIzvajalci: Rainer Oliver Kaltenbaek\nProstor: F7
LOCATION:F7
ORGANIZER:Rainer Oliver Kaltenbaek
RELATED-TO:fmf-AFLABS-URNIK:srecanje:14557
X-WR-TIMEZONE:Europe/Ljubljana
END:VEVENT
BEGIN:VEVENT
SUMMARY:Kvantna optika (FIZ-M2)\, Vaje (V)
DTSTART;TZID=Europe/Ljubljana:20250116T100000
DTEND;TZID=Europe/Ljubljana:20250116T110000
DTSTAMP:20260423T115950Z
UID:fmf-AFLABS-URNIK:premaknjeno-srecanje:186899
ATTENDEE:2. letnik (Fizika, 2. stopnja)
CATEGORIES:Entry,Standard
COLOR:darkgreen
DESCRIPTION:Predmet: Kvantna optika (FIZ-M2)\, Vaje (V)\nLetniki: 2. letni
 k (Fizika\, 2. stopnja)\nIzvajalci: Rainer Oliver Kaltenbaek\nProstor: F7
LOCATION:F7
ORGANIZER:Rainer Oliver Kaltenbaek
RELATED-TO:fmf-AFLABS-URNIK:srecanje:14557
X-WR-TIMEZONE:Europe/Ljubljana
END:VEVENT
BEGIN:VEVENT
SUMMARY:Jadranska ulica 19
DTSTART;TZID=Europe/Ljubljana:20241010T120000
DTEND;TZID=Europe/Ljubljana:20241010T140000
DTSTAMP:20260423T115950Z
UID:fmf-AFLABS-URNIK:rezervacija:19150
CATEGORIES:Reservation
COLOR:royalblue
DESCRIPTION:Predmeti: \nLetniki: \nIzvajalci: Rainer Oliver Kaltenbaek\nPr
 ostori: F8
LOCATION:F8
ORGANIZER:Rainer Oliver Kaltenbaek
X-WR-TIMEZONE:Europe/Ljubljana
END:VEVENT
END:VCALENDAR
