BEGIN:VCALENDAR
VERSION:2.0
PRODID:-//AFLabs urnik izvoz - fmf//aflabs.si//SI
DTSTAMP:20260421T213748Z
NAME:UL FMF urnik
REFRESH-INTERVAL:PT1H
SOURCE:https://urnik.fmf.uni-lj.si/teacher/96?day=2021-09-27&export=1
URL:https://urnik.fmf.uni-lj.si/teacher/96?day=2021-09-27&export=1
X-PUBLISHED-TTL:PT1H
X-WR-CALNAME:UL FMF urnik
X-WR-TIMEZONE:Europe/Ljubljana
BEGIN:VTIMEZONE
TZID:Europe/Ljubljana
BEGIN:DAYLIGHT
DTSTART:20260329T020000
RDATE:20260329T020000
RDATE:20270328T020000
TZNAME:CEST
TZOFFSETFROM:+0100
TZOFFSETTO:+0200
END:DAYLIGHT
BEGIN:STANDARD
DTSTART:20261025T030000
RDATE:20261025T030000
RDATE:20271031T030000
TZNAME:CET
TZOFFSETFROM:+0200
TZOFFSETTO:+0100
END:STANDARD
END:VTIMEZONE
BEGIN:VEVENT
SUMMARY:Teor. osnove tisk. procesov (NTF) ()\, Predavanja (P)
DTSTART;TZID=Europe/Ljubljana:20211001T110000
DTEND;TZID=Europe/Ljubljana:20211001T130000
DTSTAMP:20260421T213748Z
UID:fmf-AFLABS-URNIK:premaknjeno-srecanje:108428
CATEGORIES:Entry,Standard
COLOR:darkgreen
DESCRIPTION:Predmet: Teor. osnove tisk. procesov (NTF) ()\, Predavanja (P)
 \nLetniki: \nIzvajalci: David Dolžan\, Gregor Skačej\nProstor: P201 (NTF
 )
LOCATION:P201 (NTF)
ORGANIZER:David Dolžan, Gregor Skačej
RELATED-TO:fmf-AFLABS-URNIK:srecanje:6618
X-WR-TIMEZONE:Europe/Ljubljana
END:VEVENT
BEGIN:VEVENT
SUMMARY:Teor. osnove tisk. procesov (NTF) ()\, Predavanja (P)
DTSTART;TZID=Europe/Ljubljana:20211008T110000
DTEND;TZID=Europe/Ljubljana:20211008T130000
DTSTAMP:20260421T213748Z
UID:fmf-AFLABS-URNIK:premaknjeno-srecanje:108429
CATEGORIES:Entry,Standard
COLOR:darkgreen
DESCRIPTION:Predmet: Teor. osnove tisk. procesov (NTF) ()\, Predavanja (P)
 \nLetniki: \nIzvajalci: David Dolžan\, Gregor Skačej\nProstor: P201 (NTF
 )
LOCATION:P201 (NTF)
ORGANIZER:David Dolžan, Gregor Skačej
RELATED-TO:fmf-AFLABS-URNIK:srecanje:6618
X-WR-TIMEZONE:Europe/Ljubljana
END:VEVENT
BEGIN:VEVENT
SUMMARY:Teor. osnove tisk. procesov (NTF) ()\, Predavanja (P)
DTSTART;TZID=Europe/Ljubljana:20211015T110000
DTEND;TZID=Europe/Ljubljana:20211015T130000
DTSTAMP:20260421T213748Z
UID:fmf-AFLABS-URNIK:premaknjeno-srecanje:108430
CATEGORIES:Entry,Standard
COLOR:darkgreen
DESCRIPTION:Predmet: Teor. osnove tisk. procesov (NTF) ()\, Predavanja (P)
 \nLetniki: \nIzvajalci: David Dolžan\, Gregor Skačej\nProstor: P201 (NTF
 )
LOCATION:P201 (NTF)
ORGANIZER:David Dolžan, Gregor Skačej
RELATED-TO:fmf-AFLABS-URNIK:srecanje:6618
X-WR-TIMEZONE:Europe/Ljubljana
END:VEVENT
BEGIN:VEVENT
SUMMARY:Teor. osnove tisk. procesov (NTF) ()\, Predavanja (P)
DTSTART;TZID=Europe/Ljubljana:20211022T110000
DTEND;TZID=Europe/Ljubljana:20211022T130000
DTSTAMP:20260421T213748Z
UID:fmf-AFLABS-URNIK:premaknjeno-srecanje:108431
CATEGORIES:Entry,Standard
COLOR:darkgreen
DESCRIPTION:Predmet: Teor. osnove tisk. procesov (NTF) ()\, Predavanja (P)
 \nLetniki: \nIzvajalci: David Dolžan\, Gregor Skačej\nProstor: P201 (NTF
 )
LOCATION:P201 (NTF)
ORGANIZER:David Dolžan, Gregor Skačej
RELATED-TO:fmf-AFLABS-URNIK:srecanje:6618
X-WR-TIMEZONE:Europe/Ljubljana
END:VEVENT
BEGIN:VEVENT
SUMMARY:Teor. osnove tisk. procesov (NTF) ()\, Predavanja (P)
DTSTART;TZID=Europe/Ljubljana:20211029T110000
DTEND;TZID=Europe/Ljubljana:20211029T130000
DTSTAMP:20260421T213748Z
UID:fmf-AFLABS-URNIK:premaknjeno-srecanje:108432
CATEGORIES:Entry,Standard
COLOR:darkgreen
DESCRIPTION:Predmet: Teor. osnove tisk. procesov (NTF) ()\, Predavanja (P)
 \nLetniki: \nIzvajalci: David Dolžan\, Gregor Skačej\nProstor: P201 (NTF
 )
LOCATION:P201 (NTF)
ORGANIZER:David Dolžan, Gregor Skačej
RELATED-TO:fmf-AFLABS-URNIK:srecanje:6618
X-WR-TIMEZONE:Europe/Ljubljana
END:VEVENT
BEGIN:VEVENT
SUMMARY:Statistična termodinamika (FIZ-2)\, Predavanja (P)
DTSTART;TZID=Europe/Ljubljana:20211004T100000
DTEND;TZID=Europe/Ljubljana:20211004T120000
DTSTAMP:20260421T213748Z
UID:fmf-AFLABS-URNIK:premaknjeno-srecanje:106366
ATTENDEE:2. letnik (Fizika, 1. stopnja)
CATEGORIES:Entry,Standard
COLOR:darkgreen
DESCRIPTION:Predmet: Statistična termodinamika (FIZ-2)\, Predavanja (P)\n
 Letniki: 2. letnik (Fizika\, 1. stopnja)\nIzvajalci: Gregor Skačej\nProst
 or: F1
LOCATION:F1
ORGANIZER:Gregor Skačej
RELATED-TO:fmf-AFLABS-URNIK:srecanje:6600
X-WR-TIMEZONE:Europe/Ljubljana
END:VEVENT
BEGIN:VEVENT
SUMMARY:Statistična termodinamika (FIZ-2)\, Predavanja (P)
DTSTART;TZID=Europe/Ljubljana:20211011T100000
DTEND;TZID=Europe/Ljubljana:20211011T120000
DTSTAMP:20260421T213748Z
UID:fmf-AFLABS-URNIK:premaknjeno-srecanje:106367
ATTENDEE:2. letnik (Fizika, 1. stopnja)
CATEGORIES:Entry,Standard
COLOR:darkgreen
DESCRIPTION:Predmet: Statistična termodinamika (FIZ-2)\, Predavanja (P)\n
 Letniki: 2. letnik (Fizika\, 1. stopnja)\nIzvajalci: Gregor Skačej\nProst
 or: F1
LOCATION:F1
ORGANIZER:Gregor Skačej
RELATED-TO:fmf-AFLABS-URNIK:srecanje:6600
X-WR-TIMEZONE:Europe/Ljubljana
END:VEVENT
BEGIN:VEVENT
SUMMARY:Statistična termodinamika (FIZ-2)\, Predavanja (P)
DTSTART;TZID=Europe/Ljubljana:20211018T100000
DTEND;TZID=Europe/Ljubljana:20211018T120000
DTSTAMP:20260421T213748Z
UID:fmf-AFLABS-URNIK:premaknjeno-srecanje:106368
ATTENDEE:2. letnik (Fizika, 1. stopnja)
CATEGORIES:Entry,Standard
COLOR:darkgreen
DESCRIPTION:Predmet: Statistična termodinamika (FIZ-2)\, Predavanja (P)\n
 Letniki: 2. letnik (Fizika\, 1. stopnja)\nIzvajalci: Gregor Skačej\nProst
 or: F1
LOCATION:F1
ORGANIZER:Gregor Skačej
RELATED-TO:fmf-AFLABS-URNIK:srecanje:6600
X-WR-TIMEZONE:Europe/Ljubljana
END:VEVENT
BEGIN:VEVENT
SUMMARY:Statistična termodinamika (FIZ-2)\, Predavanja (P)
DTSTART;TZID=Europe/Ljubljana:20211025T100000
DTEND;TZID=Europe/Ljubljana:20211025T120000
DTSTAMP:20260421T213748Z
UID:fmf-AFLABS-URNIK:premaknjeno-srecanje:106369
ATTENDEE:2. letnik (Fizika, 1. stopnja)
CATEGORIES:Entry,Standard
COLOR:darkgreen
DESCRIPTION:Predmet: Statistična termodinamika (FIZ-2)\, Predavanja (P)\n
 Letniki: 2. letnik (Fizika\, 1. stopnja)\nIzvajalci: Gregor Skačej\nProst
 or: F1
LOCATION:F1
ORGANIZER:Gregor Skačej
RELATED-TO:fmf-AFLABS-URNIK:srecanje:6600
X-WR-TIMEZONE:Europe/Ljubljana
END:VEVENT
BEGIN:VEVENT
SUMMARY:Statistična termodinamika (FIZ-2)\, Predavanja (P)
DTSTART;TZID=Europe/Ljubljana:20211101T100000
DTEND;TZID=Europe/Ljubljana:20211101T120000
DTSTAMP:20260421T213748Z
UID:fmf-AFLABS-URNIK:premaknjeno-srecanje:106370
ATTENDEE:2. letnik (Fizika, 1. stopnja)
CATEGORIES:Entry,Standard
COLOR:darkgreen
DESCRIPTION:Predmet: Statistična termodinamika (FIZ-2)\, Predavanja (P)\n
 Letniki: 2. letnik (Fizika\, 1. stopnja)\nIzvajalci: Gregor Skačej\nProst
 or: F1
LOCATION:F1
ORGANIZER:Gregor Skačej
RELATED-TO:fmf-AFLABS-URNIK:srecanje:6600
X-WR-TIMEZONE:Europe/Ljubljana
END:VEVENT
BEGIN:VEVENT
SUMMARY:Statistična termodinamika (FIZ-2)\, Vaje (V)\, [1]
DTSTART;TZID=Europe/Ljubljana:20211005T140000
DTEND;TZID=Europe/Ljubljana:20211005T160000
DTSTAMP:20260421T213748Z
UID:fmf-AFLABS-URNIK:premaknjeno-srecanje:106492
ATTENDEE:2. letnik (Fizika, 1. stopnja)
CATEGORIES:Entry,Standard
COLOR:darkgreen
DESCRIPTION:Predmet: Statistična termodinamika (FIZ-2)\, Vaje (V)\, [1]\n
 Letniki: 2. letnik (Fizika\, 1. stopnja)\nIzvajalci: Gregor Skačej\nProst
 or: P.01
LOCATION:P.01
ORGANIZER:Gregor Skačej
RELATED-TO:fmf-AFLABS-URNIK:srecanje:6601
X-WR-TIMEZONE:Europe/Ljubljana
END:VEVENT
BEGIN:VEVENT
SUMMARY:Statistična termodinamika (FIZ-2)\, Vaje (V)\, [1]
DTSTART;TZID=Europe/Ljubljana:20211012T140000
DTEND;TZID=Europe/Ljubljana:20211012T160000
DTSTAMP:20260421T213748Z
UID:fmf-AFLABS-URNIK:premaknjeno-srecanje:106493
ATTENDEE:2. letnik (Fizika, 1. stopnja)
CATEGORIES:Entry,Standard
COLOR:darkgreen
DESCRIPTION:Predmet: Statistična termodinamika (FIZ-2)\, Vaje (V)\, [1]\n
 Letniki: 2. letnik (Fizika\, 1. stopnja)\nIzvajalci: Gregor Skačej\nProst
 or: P.01
LOCATION:P.01
ORGANIZER:Gregor Skačej
RELATED-TO:fmf-AFLABS-URNIK:srecanje:6601
X-WR-TIMEZONE:Europe/Ljubljana
END:VEVENT
BEGIN:VEVENT
SUMMARY:Statistična termodinamika (FIZ-2)\, Vaje (V)\, [1]
DTSTART;TZID=Europe/Ljubljana:20211019T140000
DTEND;TZID=Europe/Ljubljana:20211019T160000
DTSTAMP:20260421T213748Z
UID:fmf-AFLABS-URNIK:premaknjeno-srecanje:106494
ATTENDEE:2. letnik (Fizika, 1. stopnja)
CATEGORIES:Entry,Standard
COLOR:darkgreen
DESCRIPTION:Predmet: Statistična termodinamika (FIZ-2)\, Vaje (V)\, [1]\n
 Letniki: 2. letnik (Fizika\, 1. stopnja)\nIzvajalci: Gregor Skačej\nProst
 or: P.01
LOCATION:P.01
ORGANIZER:Gregor Skačej
RELATED-TO:fmf-AFLABS-URNIK:srecanje:6601
X-WR-TIMEZONE:Europe/Ljubljana
END:VEVENT
BEGIN:VEVENT
SUMMARY:Statistična termodinamika (FIZ-2)\, Vaje (V)\, [1]
DTSTART;TZID=Europe/Ljubljana:20211026T140000
DTEND;TZID=Europe/Ljubljana:20211026T160000
DTSTAMP:20260421T213748Z
UID:fmf-AFLABS-URNIK:premaknjeno-srecanje:106495
ATTENDEE:2. letnik (Fizika, 1. stopnja)
CATEGORIES:Entry,Standard
COLOR:darkgreen
DESCRIPTION:Predmet: Statistična termodinamika (FIZ-2)\, Vaje (V)\, [1]\n
 Letniki: 2. letnik (Fizika\, 1. stopnja)\nIzvajalci: Gregor Skačej\nProst
 or: P.01
LOCATION:P.01
ORGANIZER:Gregor Skačej
RELATED-TO:fmf-AFLABS-URNIK:srecanje:6601
X-WR-TIMEZONE:Europe/Ljubljana
END:VEVENT
BEGIN:VEVENT
SUMMARY:Teor. osnove tisk. procesov (NTF) ()\, Predavanja (P)
DTSTART;TZID=Europe/Ljubljana:20211005T100000
DTEND;TZID=Europe/Ljubljana:20211005T120000
DTSTAMP:20260421T213748Z
UID:fmf-AFLABS-URNIK:premaknjeno-srecanje:108269
CATEGORIES:Entry,Standard
COLOR:darkgreen
DESCRIPTION:Predmet: Teor. osnove tisk. procesov (NTF) ()\, Predavanja (P)
 \nLetniki: \nIzvajalci: David Dolžan\, Gregor Skačej\nProstor: P104 (NTF
 )
LOCATION:P104 (NTF)
ORGANIZER:David Dolžan, Gregor Skačej
RELATED-TO:fmf-AFLABS-URNIK:srecanje:6615
X-WR-TIMEZONE:Europe/Ljubljana
END:VEVENT
BEGIN:VEVENT
SUMMARY:Teor. osnove tisk. procesov (NTF) ()\, Predavanja (P)
DTSTART;TZID=Europe/Ljubljana:20211012T100000
DTEND;TZID=Europe/Ljubljana:20211012T120000
DTSTAMP:20260421T213748Z
UID:fmf-AFLABS-URNIK:premaknjeno-srecanje:108270
CATEGORIES:Entry,Standard
COLOR:darkgreen
DESCRIPTION:Predmet: Teor. osnove tisk. procesov (NTF) ()\, Predavanja (P)
 \nLetniki: \nIzvajalci: David Dolžan\, Gregor Skačej\nProstor: P104 (NTF
 )
LOCATION:P104 (NTF)
ORGANIZER:David Dolžan, Gregor Skačej
RELATED-TO:fmf-AFLABS-URNIK:srecanje:6615
X-WR-TIMEZONE:Europe/Ljubljana
END:VEVENT
BEGIN:VEVENT
SUMMARY:Teor. osnove tisk. procesov (NTF) ()\, Predavanja (P)
DTSTART;TZID=Europe/Ljubljana:20211019T100000
DTEND;TZID=Europe/Ljubljana:20211019T120000
DTSTAMP:20260421T213748Z
UID:fmf-AFLABS-URNIK:premaknjeno-srecanje:108271
CATEGORIES:Entry,Standard
COLOR:darkgreen
DESCRIPTION:Predmet: Teor. osnove tisk. procesov (NTF) ()\, Predavanja (P)
 \nLetniki: \nIzvajalci: David Dolžan\, Gregor Skačej\nProstor: P104 (NTF
 )
LOCATION:P104 (NTF)
ORGANIZER:David Dolžan, Gregor Skačej
RELATED-TO:fmf-AFLABS-URNIK:srecanje:6615
X-WR-TIMEZONE:Europe/Ljubljana
END:VEVENT
BEGIN:VEVENT
SUMMARY:Teor. osnove tisk. procesov (NTF) ()\, Predavanja (P)
DTSTART;TZID=Europe/Ljubljana:20211026T100000
DTEND;TZID=Europe/Ljubljana:20211026T120000
DTSTAMP:20260421T213748Z
UID:fmf-AFLABS-URNIK:premaknjeno-srecanje:108272
CATEGORIES:Entry,Standard
COLOR:darkgreen
DESCRIPTION:Predmet: Teor. osnove tisk. procesov (NTF) ()\, Predavanja (P)
 \nLetniki: \nIzvajalci: David Dolžan\, Gregor Skačej\nProstor: P104 (NTF
 )
LOCATION:P104 (NTF)
ORGANIZER:David Dolžan, Gregor Skačej
RELATED-TO:fmf-AFLABS-URNIK:srecanje:6615
X-WR-TIMEZONE:Europe/Ljubljana
END:VEVENT
BEGIN:VEVENT
SUMMARY:Fizika 2 (MAT-2)\, Vaje (V)
DTSTART;TZID=Europe/Ljubljana:20211007T100000
DTEND;TZID=Europe/Ljubljana:20211007T120000
DTSTAMP:20260421T213748Z
UID:fmf-AFLABS-URNIK:premaknjeno-srecanje:28403
ATTENDEE:2. letnik (M)
CATEGORIES:Entry,Standard
COLOR:darkgreen
DESCRIPTION:Predmet: Fizika 2 (MAT-2)\, Vaje (V)\nLetniki: 2. letnik (M)\n
 Izvajalci: Gregor Skačej\nProstor: F2
LOCATION:F2
ORGANIZER:Gregor Skačej
RELATED-TO:fmf-AFLABS-URNIK:srecanje:6730
X-WR-TIMEZONE:Europe/Ljubljana
END:VEVENT
BEGIN:VEVENT
SUMMARY:Fizika 2 (MAT-2)\, Vaje (V)
DTSTART;TZID=Europe/Ljubljana:20211014T100000
DTEND;TZID=Europe/Ljubljana:20211014T120000
DTSTAMP:20260421T213748Z
UID:fmf-AFLABS-URNIK:premaknjeno-srecanje:28404
ATTENDEE:2. letnik (M)
CATEGORIES:Entry,Standard
COLOR:darkgreen
DESCRIPTION:Predmet: Fizika 2 (MAT-2)\, Vaje (V)\nLetniki: 2. letnik (M)\n
 Izvajalci: Gregor Skačej\nProstor: F2
LOCATION:F2
ORGANIZER:Gregor Skačej
RELATED-TO:fmf-AFLABS-URNIK:srecanje:6730
X-WR-TIMEZONE:Europe/Ljubljana
END:VEVENT
BEGIN:VEVENT
SUMMARY:Fizika 2 (MAT-2)\, Vaje (V)
DTSTART;TZID=Europe/Ljubljana:20211021T100000
DTEND;TZID=Europe/Ljubljana:20211021T120000
DTSTAMP:20260421T213748Z
UID:fmf-AFLABS-URNIK:premaknjeno-srecanje:28405
ATTENDEE:2. letnik (M)
CATEGORIES:Entry,Standard
COLOR:darkgreen
DESCRIPTION:Predmet: Fizika 2 (MAT-2)\, Vaje (V)\nLetniki: 2. letnik (M)\n
 Izvajalci: Gregor Skačej\nProstor: F2
LOCATION:F2
ORGANIZER:Gregor Skačej
RELATED-TO:fmf-AFLABS-URNIK:srecanje:6730
X-WR-TIMEZONE:Europe/Ljubljana
END:VEVENT
BEGIN:VEVENT
SUMMARY:Fizika 2 (MAT-2)\, Vaje (V)
DTSTART;TZID=Europe/Ljubljana:20211028T100000
DTEND;TZID=Europe/Ljubljana:20211028T120000
DTSTAMP:20260421T213748Z
UID:fmf-AFLABS-URNIK:premaknjeno-srecanje:28406
ATTENDEE:2. letnik (M)
CATEGORIES:Entry,Standard
COLOR:darkgreen
DESCRIPTION:Predmet: Fizika 2 (MAT-2)\, Vaje (V)\nLetniki: 2. letnik (M)\n
 Izvajalci: Gregor Skačej\nProstor: F2
LOCATION:F2
ORGANIZER:Gregor Skačej
RELATED-TO:fmf-AFLABS-URNIK:srecanje:6730
X-WR-TIMEZONE:Europe/Ljubljana
END:VEVENT
BEGIN:VEVENT
SUMMARY:Statistična termodinamika (FIZ-2)\, Vaje (V)\, [2]
DTSTART;TZID=Europe/Ljubljana:20211007T120000
DTEND;TZID=Europe/Ljubljana:20211007T140000
DTSTAMP:20260421T213748Z
UID:fmf-AFLABS-URNIK:premaknjeno-srecanje:106619
ATTENDEE:2. letnik (Fizika, 1. stopnja)
CATEGORIES:Entry,Standard
COLOR:darkgreen
DESCRIPTION:Predmet: Statistična termodinamika (FIZ-2)\, Vaje (V)\, [2]\n
 Letniki: 2. letnik (Fizika\, 1. stopnja)\nIzvajalci: Gregor Skačej\nProst
 or: F2
LOCATION:F2
ORGANIZER:Gregor Skačej
RELATED-TO:fmf-AFLABS-URNIK:srecanje:6602
X-WR-TIMEZONE:Europe/Ljubljana
END:VEVENT
BEGIN:VEVENT
SUMMARY:Statistična termodinamika (FIZ-2)\, Vaje (V)\, [2]
DTSTART;TZID=Europe/Ljubljana:20211014T120000
DTEND;TZID=Europe/Ljubljana:20211014T140000
DTSTAMP:20260421T213748Z
UID:fmf-AFLABS-URNIK:premaknjeno-srecanje:106620
ATTENDEE:2. letnik (Fizika, 1. stopnja)
CATEGORIES:Entry,Standard
COLOR:darkgreen
DESCRIPTION:Predmet: Statistična termodinamika (FIZ-2)\, Vaje (V)\, [2]\n
 Letniki: 2. letnik (Fizika\, 1. stopnja)\nIzvajalci: Gregor Skačej\nProst
 or: F2
LOCATION:F2
ORGANIZER:Gregor Skačej
RELATED-TO:fmf-AFLABS-URNIK:srecanje:6602
X-WR-TIMEZONE:Europe/Ljubljana
END:VEVENT
BEGIN:VEVENT
SUMMARY:Statistična termodinamika (FIZ-2)\, Vaje (V)\, [2]
DTSTART;TZID=Europe/Ljubljana:20211021T120000
DTEND;TZID=Europe/Ljubljana:20211021T140000
DTSTAMP:20260421T213748Z
UID:fmf-AFLABS-URNIK:premaknjeno-srecanje:106621
ATTENDEE:2. letnik (Fizika, 1. stopnja)
CATEGORIES:Entry,Standard
COLOR:darkgreen
DESCRIPTION:Predmet: Statistična termodinamika (FIZ-2)\, Vaje (V)\, [2]\n
 Letniki: 2. letnik (Fizika\, 1. stopnja)\nIzvajalci: Gregor Skačej\nProst
 or: F2
LOCATION:F2
ORGANIZER:Gregor Skačej
RELATED-TO:fmf-AFLABS-URNIK:srecanje:6602
X-WR-TIMEZONE:Europe/Ljubljana
END:VEVENT
BEGIN:VEVENT
SUMMARY:Statistična termodinamika (FIZ-2)\, Vaje (V)\, [2]
DTSTART;TZID=Europe/Ljubljana:20211028T120000
DTEND;TZID=Europe/Ljubljana:20211028T140000
DTSTAMP:20260421T213748Z
UID:fmf-AFLABS-URNIK:premaknjeno-srecanje:106622
ATTENDEE:2. letnik (Fizika, 1. stopnja)
CATEGORIES:Entry,Standard
COLOR:darkgreen
DESCRIPTION:Predmet: Statistična termodinamika (FIZ-2)\, Vaje (V)\, [2]\n
 Letniki: 2. letnik (Fizika\, 1. stopnja)\nIzvajalci: Gregor Skačej\nProst
 or: F2
LOCATION:F2
ORGANIZER:Gregor Skačej
RELATED-TO:fmf-AFLABS-URNIK:srecanje:6602
X-WR-TIMEZONE:Europe/Ljubljana
END:VEVENT
BEGIN:VEVENT
SUMMARY:Rezervacija
DTSTART;TZID=Europe/Ljubljana:20210825T100000
DTEND;TZID=Europe/Ljubljana:20210825T120000
DTSTAMP:20260421T213748Z
UID:fmf-AFLABS-URNIK:rezervacija:7490
CATEGORIES:Reservation
COLOR:royalblue
DESCRIPTION:Predmeti: \nLetniki: \nIzvajalci: Gregor Skačej\nProstori: VF
 P
LOCATION:VFP
ORGANIZER:Gregor Skačej
X-WR-TIMEZONE:Europe/Ljubljana
END:VEVENT
BEGIN:VEVENT
SUMMARY:Rezervacija
DTSTART;TZID=Europe/Ljubljana:20210825T100000
DTEND;TZID=Europe/Ljubljana:20210825T120000
DTSTAMP:20260421T213748Z
UID:fmf-AFLABS-URNIK:rezervacija:7491
CATEGORIES:Reservation
COLOR:royalblue
DESCRIPTION:Predmeti: \nLetniki: \nIzvajalci: Gregor Skačej\nProstori: VF
 P
LOCATION:VFP
ORGANIZER:Gregor Skačej
X-WR-TIMEZONE:Europe/Ljubljana
END:VEVENT
BEGIN:VEVENT
SUMMARY:Rezervacija
DTSTART;TZID=Europe/Ljubljana:20210826T130000
DTEND;TZID=Europe/Ljubljana:20210826T150000
DTSTAMP:20260421T213748Z
UID:fmf-AFLABS-URNIK:rezervacija:7518
CATEGORIES:Reservation
COLOR:royalblue
DESCRIPTION:Predmeti: \nLetniki: \nIzvajalci: Gregor Skačej\nProstori: VF
 P
LOCATION:VFP
ORGANIZER:Gregor Skačej
X-WR-TIMEZONE:Europe/Ljubljana
END:VEVENT
BEGIN:VEVENT
SUMMARY:Rezervacija
DTSTART;TZID=Europe/Ljubljana:20210826T130000
DTEND;TZID=Europe/Ljubljana:20210826T160000
DTSTAMP:20260421T213748Z
UID:fmf-AFLABS-URNIK:rezervacija:7520
CATEGORIES:Reservation
COLOR:royalblue
DESCRIPTION:Predmeti: \nLetniki: \nIzvajalci: Gregor Skačej\nProstori: VF
 P
LOCATION:VFP
ORGANIZER:Gregor Skačej
X-WR-TIMEZONE:Europe/Ljubljana
END:VEVENT
END:VCALENDAR
