BEGIN:VCALENDAR
VERSION:2.0
PRODID:-//AFLabs urnik izvoz - fmf//aflabs.si//SI
DTSTAMP:20260426T002729Z
NAME:UL FMF urnik
REFRESH-INTERVAL:PT1H
SOURCE:https://urnik.fmf.uni-lj.si/teacher/97?day=2021-06-21&export=1
URL:https://urnik.fmf.uni-lj.si/teacher/97?day=2021-06-21&export=1
X-PUBLISHED-TTL:PT1H
X-WR-CALNAME:UL FMF urnik
X-WR-TIMEZONE:Europe/Ljubljana
BEGIN:VTIMEZONE
TZID:Europe/Ljubljana
BEGIN:DAYLIGHT
DTSTART:20260329T020000
RDATE:20260329T020000
RDATE:20270328T020000
TZNAME:CEST
TZOFFSETFROM:+0100
TZOFFSETTO:+0200
END:DAYLIGHT
BEGIN:STANDARD
DTSTART:20261025T030000
RDATE:20261025T030000
RDATE:20271031T030000
TZNAME:CET
TZOFFSETFROM:+0200
TZOFFSETTO:+0100
END:STANDARD
END:VTIMEZONE
BEGIN:VEVENT
SUMMARY:Analiza 2b (MAT-2\, PM-2)\, Predavanja (P)
DTSTART;TZID=Europe/Ljubljana:20210517T100000
DTEND;TZID=Europe/Ljubljana:20210517T120000
DTSTAMP:20260426T002729Z
UID:fmf-AFLABS-URNIK:premaknjeno-srecanje:7594
ATTENDEE:2. letnik (M)
ATTENDEE:2. letnik (PM)
CATEGORIES:Entry,Standard
COLOR:darkgreen
DESCRIPTION:Predmet: Analiza 2b (MAT-2\, PM-2)\, Predavanja (P)\nLetniki: 
 2. letnik (M)\, 2. letnik (PM)\nIzvajalci: Barbara Drinovec Drnovšek\nPro
 stor: 2.02
LOCATION:2.02
ORGANIZER:Barbara Drinovec Drnovšek
RELATED-TO:fmf-AFLABS-URNIK:srecanje:5463
X-WR-TIMEZONE:Europe/Ljubljana
END:VEVENT
BEGIN:VEVENT
SUMMARY:Analiza 2b (MAT-2\, PM-2)\, Predavanja (P)
DTSTART;TZID=Europe/Ljubljana:20210524T100000
DTEND;TZID=Europe/Ljubljana:20210524T120000
DTSTAMP:20260426T002729Z
UID:fmf-AFLABS-URNIK:premaknjeno-srecanje:7595
ATTENDEE:2. letnik (M)
ATTENDEE:2. letnik (PM)
CATEGORIES:Entry,Standard
COLOR:darkgreen
DESCRIPTION:Predmet: Analiza 2b (MAT-2\, PM-2)\, Predavanja (P)\nLetniki: 
 2. letnik (M)\, 2. letnik (PM)\nIzvajalci: Barbara Drinovec Drnovšek\nPro
 stor: 2.02
LOCATION:2.02
ORGANIZER:Barbara Drinovec Drnovšek
RELATED-TO:fmf-AFLABS-URNIK:srecanje:5463
X-WR-TIMEZONE:Europe/Ljubljana
END:VEVENT
BEGIN:VEVENT
SUMMARY:Analiza 2b (MAT-2\, PM-2)\, Predavanja (P)
DTSTART;TZID=Europe/Ljubljana:20210531T100000
DTEND;TZID=Europe/Ljubljana:20210531T120000
DTSTAMP:20260426T002729Z
UID:fmf-AFLABS-URNIK:premaknjeno-srecanje:7596
ATTENDEE:2. letnik (M)
ATTENDEE:2. letnik (PM)
CATEGORIES:Entry,Standard
COLOR:darkgreen
DESCRIPTION:Predmet: Analiza 2b (MAT-2\, PM-2)\, Predavanja (P)\nLetniki: 
 2. letnik (M)\, 2. letnik (PM)\nIzvajalci: Barbara Drinovec Drnovšek\nPro
 stor: 2.02
LOCATION:2.02
ORGANIZER:Barbara Drinovec Drnovšek
RELATED-TO:fmf-AFLABS-URNIK:srecanje:5463
X-WR-TIMEZONE:Europe/Ljubljana
END:VEVENT
BEGIN:VEVENT
SUMMARY:Seminar za kompleksno analizo (MAT-D)\, Seminar (S)
DTSTART;TZID=Europe/Ljubljana:20210518T120000
DTEND;TZID=Europe/Ljubljana:20210518T140000
DTSTAMP:20260426T002729Z
UID:fmf-AFLABS-URNIK:premaknjeno-srecanje:102695
ATTENDEE:doktorski študij (M)
CATEGORIES:Entry,Standard
COLOR:darkgreen
DESCRIPTION:Predmet: Seminar za kompleksno analizo (MAT-D)\, Seminar (S)\n
 Letniki: doktorski študij (M)\nIzvajalci: Barbara Drinovec Drnovšek\, Fr
 anc Forstnerič\nProstor: 3.06
LOCATION:3.06
ORGANIZER:Barbara Drinovec Drnovšek, Franc Forstnerič
RELATED-TO:fmf-AFLABS-URNIK:srecanje:5900
X-WR-TIMEZONE:Europe/Ljubljana
END:VEVENT
BEGIN:VEVENT
SUMMARY:Seminar za kompleksno analizo (MAT-D)\, Seminar (S)
DTSTART;TZID=Europe/Ljubljana:20210525T120000
DTEND;TZID=Europe/Ljubljana:20210525T140000
DTSTAMP:20260426T002729Z
UID:fmf-AFLABS-URNIK:premaknjeno-srecanje:102696
ATTENDEE:doktorski študij (M)
CATEGORIES:Entry,Standard
COLOR:darkgreen
DESCRIPTION:Predmet: Seminar za kompleksno analizo (MAT-D)\, Seminar (S)\n
 Letniki: doktorski študij (M)\nIzvajalci: Barbara Drinovec Drnovšek\, Fr
 anc Forstnerič\nProstor: 3.06
LOCATION:3.06
ORGANIZER:Barbara Drinovec Drnovšek, Franc Forstnerič
RELATED-TO:fmf-AFLABS-URNIK:srecanje:5900
X-WR-TIMEZONE:Europe/Ljubljana
END:VEVENT
BEGIN:VEVENT
SUMMARY:Analiza 2b (MAT-2\, PM-2)\, Predavanja (P)
DTSTART;TZID=Europe/Ljubljana:20210519T100000
DTEND;TZID=Europe/Ljubljana:20210519T120000
DTSTAMP:20260426T002729Z
UID:fmf-AFLABS-URNIK:premaknjeno-srecanje:7688
ATTENDEE:2. letnik (M)
ATTENDEE:2. letnik (PM)
CATEGORIES:Entry,Standard
COLOR:darkgreen
DESCRIPTION:Predmet: Analiza 2b (MAT-2\, PM-2)\, Predavanja (P)\nLetniki: 
 2. letnik (M)\, 2. letnik (PM)\nIzvajalci: Barbara Drinovec Drnovšek\nPro
 stor: 2.02
LOCATION:2.02
ORGANIZER:Barbara Drinovec Drnovšek
RELATED-TO:fmf-AFLABS-URNIK:srecanje:5464
X-WR-TIMEZONE:Europe/Ljubljana
END:VEVENT
BEGIN:VEVENT
SUMMARY:Analiza 2b (MAT-2\, PM-2)\, Predavanja (P)
DTSTART;TZID=Europe/Ljubljana:20210526T100000
DTEND;TZID=Europe/Ljubljana:20210526T120000
DTSTAMP:20260426T002729Z
UID:fmf-AFLABS-URNIK:premaknjeno-srecanje:7689
ATTENDEE:2. letnik (M)
ATTENDEE:2. letnik (PM)
CATEGORIES:Entry,Standard
COLOR:darkgreen
DESCRIPTION:Predmet: Analiza 2b (MAT-2\, PM-2)\, Predavanja (P)\nLetniki: 
 2. letnik (M)\, 2. letnik (PM)\nIzvajalci: Barbara Drinovec Drnovšek\nPro
 stor: 2.02
LOCATION:2.02
ORGANIZER:Barbara Drinovec Drnovšek
RELATED-TO:fmf-AFLABS-URNIK:srecanje:5464
X-WR-TIMEZONE:Europe/Ljubljana
END:VEVENT
BEGIN:VEVENT
SUMMARY:SEM (MAT-2\, PM-3\, PM-4)\, Seminar (S)\, [1]
DTSTART;TZID=Europe/Ljubljana:20210520T100000
DTEND;TZID=Europe/Ljubljana:20210520T120000
DTSTAMP:20260426T002729Z
UID:fmf-AFLABS-URNIK:premaknjeno-srecanje:99283
ATTENDEE:2. letnik (M)
ATTENDEE:3. letnik (PM)
ATTENDEE:4. letnik (PM)
CATEGORIES:Entry,Standard
COLOR:darkgreen
DESCRIPTION:Predmet: SEM (MAT-2\, PM-3\, PM-4)\, Seminar (S)\, [1]\nLetnik
 i: 2. letnik (M)\, 3. letnik (PM)\, 4. letnik (PM)\nIzvajalci: Barbara Dri
 novec Drnovšek\nProstor: P.02
LOCATION:P.02
ORGANIZER:Barbara Drinovec Drnovšek
RELATED-TO:fmf-AFLABS-URNIK:srecanje:5877
X-WR-TIMEZONE:Europe/Ljubljana
END:VEVENT
BEGIN:VEVENT
SUMMARY:SEM (MAT-2\, PM-3\, PM-4)\, Seminar (S)\, [1]
DTSTART;TZID=Europe/Ljubljana:20210527T100000
DTEND;TZID=Europe/Ljubljana:20210527T120000
DTSTAMP:20260426T002729Z
UID:fmf-AFLABS-URNIK:premaknjeno-srecanje:99284
ATTENDEE:2. letnik (M)
ATTENDEE:3. letnik (PM)
ATTENDEE:4. letnik (PM)
CATEGORIES:Entry,Standard
COLOR:darkgreen
DESCRIPTION:Predmet: SEM (MAT-2\, PM-3\, PM-4)\, Seminar (S)\, [1]\nLetnik
 i: 2. letnik (M)\, 3. letnik (PM)\, 4. letnik (PM)\nIzvajalci: Barbara Dri
 novec Drnovšek\nProstor: P.02
LOCATION:P.02
ORGANIZER:Barbara Drinovec Drnovšek
RELATED-TO:fmf-AFLABS-URNIK:srecanje:5877
X-WR-TIMEZONE:Europe/Ljubljana
END:VEVENT
BEGIN:VEVENT
SUMMARY:Rezervacija
DTSTART;TZID=Europe/Ljubljana:20210611T110000
DTEND;TZID=Europe/Ljubljana:20210611T120000
DTSTAMP:20260426T002729Z
UID:fmf-AFLABS-URNIK:rezervacija:6842
CATEGORIES:Reservation
COLOR:royalblue
DESCRIPTION:Predmeti: \nLetniki: \nIzvajalci: Barbara Drinovec Drnovšek\n
 Prostori: 3.04
LOCATION:3.04
ORGANIZER:Barbara Drinovec Drnovšek
X-WR-TIMEZONE:Europe/Ljubljana
END:VEVENT
BEGIN:VEVENT
SUMMARY:Rezervacija
DTSTART;TZID=Europe/Ljubljana:20210615T090000
DTEND;TZID=Europe/Ljubljana:20210615T100000
DTSTAMP:20260426T002729Z
UID:fmf-AFLABS-URNIK:rezervacija:6880
CATEGORIES:Reservation
COLOR:royalblue
DESCRIPTION:Predmeti: \nLetniki: \nIzvajalci: Barbara Drinovec Drnovšek\n
 Prostori: 3.04
LOCATION:3.04
ORGANIZER:Barbara Drinovec Drnovšek
X-WR-TIMEZONE:Europe/Ljubljana
END:VEVENT
BEGIN:VEVENT
SUMMARY:Rezervacija
DTSTART;TZID=Europe/Ljubljana:20210615T100000
DTEND;TZID=Europe/Ljubljana:20210615T130000
DTSTAMP:20260426T002729Z
UID:fmf-AFLABS-URNIK:rezervacija:6891
CATEGORIES:Reservation
COLOR:royalblue
DESCRIPTION:Predmeti: \nLetniki: \nIzvajalci: Barbara Drinovec Drnovšek\n
 Prostori: 3.04
LOCATION:3.04
ORGANIZER:Barbara Drinovec Drnovšek
X-WR-TIMEZONE:Europe/Ljubljana
END:VEVENT
BEGIN:VEVENT
SUMMARY:Rezervacija
DTSTART;TZID=Europe/Ljubljana:20210616T090000
DTEND;TZID=Europe/Ljubljana:20210616T110000
DTSTAMP:20260426T002729Z
UID:fmf-AFLABS-URNIK:rezervacija:6902
CATEGORIES:Reservation
COLOR:royalblue
DESCRIPTION:Predmeti: \nLetniki: \nIzvajalci: Barbara Drinovec Drnovšek\n
 Prostori: 3.07
LOCATION:3.07
ORGANIZER:Barbara Drinovec Drnovšek
X-WR-TIMEZONE:Europe/Ljubljana
END:VEVENT
BEGIN:VEVENT
SUMMARY:Rezervacija
DTSTART;TZID=Europe/Ljubljana:20210618T090000
DTEND;TZID=Europe/Ljubljana:20210618T140000
DTSTAMP:20260426T002729Z
UID:fmf-AFLABS-URNIK:rezervacija:6951
CATEGORIES:Reservation
COLOR:royalblue
DESCRIPTION:Predmeti: \nLetniki: \nIzvajalci: Barbara Drinovec Drnovšek\n
 Prostori: P.01
LOCATION:P.01
ORGANIZER:Barbara Drinovec Drnovšek
X-WR-TIMEZONE:Europe/Ljubljana
END:VEVENT
BEGIN:VEVENT
SUMMARY:Rezervacija
DTSTART;TZID=Europe/Ljubljana:20210621T100000
DTEND;TZID=Europe/Ljubljana:20210621T120000
DTSTAMP:20260426T002729Z
UID:fmf-AFLABS-URNIK:rezervacija:6983
CATEGORIES:Reservation
COLOR:royalblue
DESCRIPTION:Predmeti: \nLetniki: \nIzvajalci: Barbara Drinovec Drnovšek\n
 Prostori: 3.05
LOCATION:3.05
ORGANIZER:Barbara Drinovec Drnovšek
X-WR-TIMEZONE:Europe/Ljubljana
END:VEVENT
BEGIN:VEVENT
SUMMARY:Rezervacija
DTSTART;TZID=Europe/Ljubljana:20210624T090000
DTEND;TZID=Europe/Ljubljana:20210624T120000
DTSTAMP:20260426T002729Z
UID:fmf-AFLABS-URNIK:rezervacija:7049
CATEGORIES:Reservation
COLOR:royalblue
DESCRIPTION:Predmeti: \nLetniki: \nIzvajalci: Barbara Drinovec Drnovšek\n
 Prostori: P.02
LOCATION:P.02
ORGANIZER:Barbara Drinovec Drnovšek
X-WR-TIMEZONE:Europe/Ljubljana
END:VEVENT
BEGIN:VEVENT
SUMMARY:Rezervacija
DTSTART;TZID=Europe/Ljubljana:20210628T090000
DTEND;TZID=Europe/Ljubljana:20210628T120000
DTSTAMP:20260426T002729Z
UID:fmf-AFLABS-URNIK:rezervacija:7071
CATEGORIES:Reservation
COLOR:royalblue
DESCRIPTION:Predmeti: \nLetniki: \nIzvajalci: Barbara Drinovec Drnovšek\n
 Prostori: P.02
LOCATION:P.02
ORGANIZER:Barbara Drinovec Drnovšek
X-WR-TIMEZONE:Europe/Ljubljana
END:VEVENT
BEGIN:VEVENT
SUMMARY:Rezervacija
DTSTART;TZID=Europe/Ljubljana:20210629T090000
DTEND;TZID=Europe/Ljubljana:20210629T110000
DTSTAMP:20260426T002729Z
UID:fmf-AFLABS-URNIK:rezervacija:7095
ATTENDEE:2. letnik (M)
ATTENDEE:2. letnik (PM)
CATEGORIES:Reservation
COLOR:royalblue
DESCRIPTION:Predmeti: Analiza 2b (MAT-2\, PM-2)\nLetniki: 2. letnik (M)\, 
 2. letnik (PM)\nIzvajalci: Barbara Drinovec Drnovšek\nProstori: 2.05
LOCATION:2.05
ORGANIZER:Barbara Drinovec Drnovšek
X-WR-TIMEZONE:Europe/Ljubljana
END:VEVENT
BEGIN:VEVENT
SUMMARY:Rezervacija
DTSTART;TZID=Europe/Ljubljana:20210629T090000
DTEND;TZID=Europe/Ljubljana:20210629T110000
DTSTAMP:20260426T002729Z
UID:fmf-AFLABS-URNIK:rezervacija:7097
CATEGORIES:Reservation
COLOR:royalblue
DESCRIPTION:Predmeti: \nLetniki: \nIzvajalci: Barbara Drinovec Drnovšek\n
 Prostori: P.01
LOCATION:P.01
ORGANIZER:Barbara Drinovec Drnovšek
X-WR-TIMEZONE:Europe/Ljubljana
END:VEVENT
BEGIN:VEVENT
SUMMARY:Rezervacija
DTSTART;TZID=Europe/Ljubljana:20210629T090000
DTEND;TZID=Europe/Ljubljana:20210629T110000
DTSTAMP:20260426T002729Z
UID:fmf-AFLABS-URNIK:rezervacija:7098
CATEGORIES:Reservation
COLOR:royalblue
DESCRIPTION:Predmeti: \nLetniki: \nIzvajalci: Barbara Drinovec Drnovšek\n
 Prostori: P.02
LOCATION:P.02
ORGANIZER:Barbara Drinovec Drnovšek
X-WR-TIMEZONE:Europe/Ljubljana
END:VEVENT
BEGIN:VEVENT
SUMMARY:Rezervacija
DTSTART;TZID=Europe/Ljubljana:20210630T090000
DTEND;TZID=Europe/Ljubljana:20210630T120000
DTSTAMP:20260426T002729Z
UID:fmf-AFLABS-URNIK:rezervacija:7133
CATEGORIES:Reservation
COLOR:royalblue
DESCRIPTION:Predmeti: \nLetniki: \nIzvajalci: Barbara Drinovec Drnovšek\n
 Prostori: 2.04
LOCATION:2.04
ORGANIZER:Barbara Drinovec Drnovšek
X-WR-TIMEZONE:Europe/Ljubljana
END:VEVENT
BEGIN:VEVENT
SUMMARY:Rezervacija
DTSTART;TZID=Europe/Ljubljana:20210701T090000
DTEND;TZID=Europe/Ljubljana:20210701T150000
DTSTAMP:20260426T002729Z
UID:fmf-AFLABS-URNIK:rezervacija:7172
CATEGORIES:Reservation
COLOR:royalblue
DESCRIPTION:Predmeti: \nLetniki: \nIzvajalci: Barbara Drinovec Drnovšek\n
 Prostori: P.02
LOCATION:P.02
ORGANIZER:Barbara Drinovec Drnovšek
X-WR-TIMEZONE:Europe/Ljubljana
END:VEVENT
BEGIN:VEVENT
SUMMARY:Rezervacija
DTSTART;TZID=Europe/Ljubljana:20210706T090000
DTEND;TZID=Europe/Ljubljana:20210706T110000
DTSTAMP:20260426T002729Z
UID:fmf-AFLABS-URNIK:rezervacija:7235
CATEGORIES:Reservation
COLOR:royalblue
DESCRIPTION:Predmeti: \nLetniki: \nIzvajalci: Barbara Drinovec Drnovšek\n
 Prostori: P.02
LOCATION:P.02
ORGANIZER:Barbara Drinovec Drnovšek
X-WR-TIMEZONE:Europe/Ljubljana
END:VEVENT
END:VCALENDAR
