BEGIN:VCALENDAR
VERSION:2.0
PRODID:-//AFLabs urnik izvoz - fmf//aflabs.si//SI
DTSTAMP:20260425T211259Z
NAME:UL FMF urnik
REFRESH-INTERVAL:PT1H
SOURCE:https://urnik.fmf.uni-lj.si/teacher/99?day=2022-01-03&export=1
URL:https://urnik.fmf.uni-lj.si/teacher/99?day=2022-01-03&export=1
X-PUBLISHED-TTL:PT1H
X-WR-CALNAME:UL FMF urnik
X-WR-TIMEZONE:Europe/Ljubljana
BEGIN:VTIMEZONE
TZID:Europe/Ljubljana
BEGIN:DAYLIGHT
DTSTART:20260329T020000
RDATE:20260329T020000
RDATE:20270328T020000
TZNAME:CEST
TZOFFSETFROM:+0100
TZOFFSETTO:+0200
END:DAYLIGHT
BEGIN:STANDARD
DTSTART:20261025T030000
RDATE:20261025T030000
RDATE:20271031T030000
TZNAME:CET
TZOFFSETFROM:+0200
TZOFFSETTO:+0100
END:STANDARD
END:VTIMEZONE
BEGIN:VEVENT
SUMMARY:Astronomija I (FIZ-2)\, Predavanja (P)
DTSTART;TZID=Europe/Ljubljana:20211004T130000
DTEND;TZID=Europe/Ljubljana:20211004T160000
DTSTAMP:20260425T211259Z
UID:fmf-AFLABS-URNIK:premaknjeno-srecanje:11258
ATTENDEE:2. letnik (Fizika, 1. stopnja)
CATEGORIES:Entry,Standard
COLOR:darkgreen
DESCRIPTION:Predmet: Astronomija I (FIZ-2)\, Predavanja (P)\nLetniki: 2. l
 etnik (Fizika\, 1. stopnja)\nIzvajalci: Tomaž Zwitter\nProstor: F5
LOCATION:F5
ORGANIZER:Tomaž Zwitter
RELATED-TO:fmf-AFLABS-URNIK:srecanje:6725
X-WR-TIMEZONE:Europe/Ljubljana
END:VEVENT
BEGIN:VEVENT
SUMMARY:Astronomija I (FIZ-2)\, Predavanja (P)
DTSTART;TZID=Europe/Ljubljana:20211011T130000
DTEND;TZID=Europe/Ljubljana:20211011T160000
DTSTAMP:20260425T211259Z
UID:fmf-AFLABS-URNIK:premaknjeno-srecanje:11259
ATTENDEE:2. letnik (Fizika, 1. stopnja)
CATEGORIES:Entry,Standard
COLOR:darkgreen
DESCRIPTION:Predmet: Astronomija I (FIZ-2)\, Predavanja (P)\nLetniki: 2. l
 etnik (Fizika\, 1. stopnja)\nIzvajalci: Tomaž Zwitter\nProstor: F5
LOCATION:F5
ORGANIZER:Tomaž Zwitter
RELATED-TO:fmf-AFLABS-URNIK:srecanje:6725
X-WR-TIMEZONE:Europe/Ljubljana
END:VEVENT
BEGIN:VEVENT
SUMMARY:Astronomija I (FIZ-2)\, Predavanja (P)
DTSTART;TZID=Europe/Ljubljana:20211018T130000
DTEND;TZID=Europe/Ljubljana:20211018T160000
DTSTAMP:20260425T211259Z
UID:fmf-AFLABS-URNIK:premaknjeno-srecanje:11260
ATTENDEE:2. letnik (Fizika, 1. stopnja)
CATEGORIES:Entry,Standard
COLOR:darkgreen
DESCRIPTION:Predmet: Astronomija I (FIZ-2)\, Predavanja (P)\nLetniki: 2. l
 etnik (Fizika\, 1. stopnja)\nIzvajalci: Tomaž Zwitter\nProstor: F5
LOCATION:F5
ORGANIZER:Tomaž Zwitter
RELATED-TO:fmf-AFLABS-URNIK:srecanje:6725
X-WR-TIMEZONE:Europe/Ljubljana
END:VEVENT
BEGIN:VEVENT
SUMMARY:Astronomija I (FIZ-2)\, Predavanja (P)
DTSTART;TZID=Europe/Ljubljana:20211025T130000
DTEND;TZID=Europe/Ljubljana:20211025T160000
DTSTAMP:20260425T211259Z
UID:fmf-AFLABS-URNIK:premaknjeno-srecanje:11261
ATTENDEE:2. letnik (Fizika, 1. stopnja)
CATEGORIES:Entry,Standard
COLOR:darkgreen
DESCRIPTION:Predmet: Astronomija I (FIZ-2)\, Predavanja (P)\nLetniki: 2. l
 etnik (Fizika\, 1. stopnja)\nIzvajalci: Tomaž Zwitter\nProstor: F5
LOCATION:F5
ORGANIZER:Tomaž Zwitter
RELATED-TO:fmf-AFLABS-URNIK:srecanje:6725
X-WR-TIMEZONE:Europe/Ljubljana
END:VEVENT
BEGIN:VEVENT
SUMMARY:Astronomija I (FIZ-2)\, Predavanja (P)
DTSTART;TZID=Europe/Ljubljana:20211101T130000
DTEND;TZID=Europe/Ljubljana:20211101T160000
DTSTAMP:20260425T211259Z
UID:fmf-AFLABS-URNIK:premaknjeno-srecanje:11262
ATTENDEE:2. letnik (Fizika, 1. stopnja)
CATEGORIES:Entry,Standard
COLOR:darkgreen
DESCRIPTION:Predmet: Astronomija I (FIZ-2)\, Predavanja (P)\nLetniki: 2. l
 etnik (Fizika\, 1. stopnja)\nIzvajalci: Tomaž Zwitter\nProstor: F5
LOCATION:F5
ORGANIZER:Tomaž Zwitter
RELATED-TO:fmf-AFLABS-URNIK:srecanje:6725
X-WR-TIMEZONE:Europe/Ljubljana
END:VEVENT
BEGIN:VEVENT
SUMMARY:Astronomija I (FIZ-2)\, Predavanja (P)
DTSTART;TZID=Europe/Ljubljana:20211108T130000
DTEND;TZID=Europe/Ljubljana:20211108T160000
DTSTAMP:20260425T211259Z
UID:fmf-AFLABS-URNIK:premaknjeno-srecanje:11263
ATTENDEE:2. letnik (Fizika, 1. stopnja)
CATEGORIES:Entry,Standard
COLOR:darkgreen
DESCRIPTION:Predmet: Astronomija I (FIZ-2)\, Predavanja (P)\nLetniki: 2. l
 etnik (Fizika\, 1. stopnja)\nIzvajalci: Tomaž Zwitter\nProstor: F5
LOCATION:F5
ORGANIZER:Tomaž Zwitter
RELATED-TO:fmf-AFLABS-URNIK:srecanje:6725
X-WR-TIMEZONE:Europe/Ljubljana
END:VEVENT
BEGIN:VEVENT
SUMMARY:Astronomija I (FIZ-2)\, Predavanja (P)
DTSTART;TZID=Europe/Ljubljana:20211115T130000
DTEND;TZID=Europe/Ljubljana:20211115T160000
DTSTAMP:20260425T211259Z
UID:fmf-AFLABS-URNIK:premaknjeno-srecanje:11264
ATTENDEE:2. letnik (Fizika, 1. stopnja)
CATEGORIES:Entry,Standard
COLOR:darkgreen
DESCRIPTION:Predmet: Astronomija I (FIZ-2)\, Predavanja (P)\nLetniki: 2. l
 etnik (Fizika\, 1. stopnja)\nIzvajalci: Tomaž Zwitter\nProstor: F5
LOCATION:F5
ORGANIZER:Tomaž Zwitter
RELATED-TO:fmf-AFLABS-URNIK:srecanje:6725
X-WR-TIMEZONE:Europe/Ljubljana
END:VEVENT
BEGIN:VEVENT
SUMMARY:Astronomija I (FIZ-2)\, Predavanja (P)
DTSTART;TZID=Europe/Ljubljana:20211122T130000
DTEND;TZID=Europe/Ljubljana:20211122T160000
DTSTAMP:20260425T211259Z
UID:fmf-AFLABS-URNIK:premaknjeno-srecanje:11265
ATTENDEE:2. letnik (Fizika, 1. stopnja)
CATEGORIES:Entry,Standard
COLOR:darkgreen
DESCRIPTION:Predmet: Astronomija I (FIZ-2)\, Predavanja (P)\nLetniki: 2. l
 etnik (Fizika\, 1. stopnja)\nIzvajalci: Tomaž Zwitter\nProstor: F5
LOCATION:F5
ORGANIZER:Tomaž Zwitter
RELATED-TO:fmf-AFLABS-URNIK:srecanje:6725
X-WR-TIMEZONE:Europe/Ljubljana
END:VEVENT
BEGIN:VEVENT
SUMMARY:Astronomija I (FIZ-2)\, Predavanja (P)
DTSTART;TZID=Europe/Ljubljana:20211129T130000
DTEND;TZID=Europe/Ljubljana:20211129T160000
DTSTAMP:20260425T211259Z
UID:fmf-AFLABS-URNIK:premaknjeno-srecanje:11266
ATTENDEE:2. letnik (Fizika, 1. stopnja)
CATEGORIES:Entry,Standard
COLOR:darkgreen
DESCRIPTION:Predmet: Astronomija I (FIZ-2)\, Predavanja (P)\nLetniki: 2. l
 etnik (Fizika\, 1. stopnja)\nIzvajalci: Tomaž Zwitter\nProstor: F5
LOCATION:F5
ORGANIZER:Tomaž Zwitter
RELATED-TO:fmf-AFLABS-URNIK:srecanje:6725
X-WR-TIMEZONE:Europe/Ljubljana
END:VEVENT
BEGIN:VEVENT
SUMMARY:Astronomija I (FIZ-2)\, Predavanja (P)
DTSTART;TZID=Europe/Ljubljana:20211206T130000
DTEND;TZID=Europe/Ljubljana:20211206T160000
DTSTAMP:20260425T211259Z
UID:fmf-AFLABS-URNIK:premaknjeno-srecanje:11267
ATTENDEE:2. letnik (Fizika, 1. stopnja)
CATEGORIES:Entry,Standard
COLOR:darkgreen
DESCRIPTION:Predmet: Astronomija I (FIZ-2)\, Predavanja (P)\nLetniki: 2. l
 etnik (Fizika\, 1. stopnja)\nIzvajalci: Tomaž Zwitter\nProstor: F5
LOCATION:F5
ORGANIZER:Tomaž Zwitter
RELATED-TO:fmf-AFLABS-URNIK:srecanje:6725
X-WR-TIMEZONE:Europe/Ljubljana
END:VEVENT
BEGIN:VEVENT
SUMMARY:Astronomija I (FIZ-2)\, Predavanja (P)
DTSTART;TZID=Europe/Ljubljana:20211213T130000
DTEND;TZID=Europe/Ljubljana:20211213T160000
DTSTAMP:20260425T211259Z
UID:fmf-AFLABS-URNIK:premaknjeno-srecanje:11268
ATTENDEE:2. letnik (Fizika, 1. stopnja)
CATEGORIES:Entry,Standard
COLOR:darkgreen
DESCRIPTION:Predmet: Astronomija I (FIZ-2)\, Predavanja (P)\nLetniki: 2. l
 etnik (Fizika\, 1. stopnja)\nIzvajalci: Tomaž Zwitter\nProstor: F5
LOCATION:F5
ORGANIZER:Tomaž Zwitter
RELATED-TO:fmf-AFLABS-URNIK:srecanje:6725
X-WR-TIMEZONE:Europe/Ljubljana
END:VEVENT
BEGIN:VEVENT
SUMMARY:Astronomija I (FIZ-2)\, Predavanja (P)
DTSTART;TZID=Europe/Ljubljana:20211220T130000
DTEND;TZID=Europe/Ljubljana:20211220T160000
DTSTAMP:20260425T211259Z
UID:fmf-AFLABS-URNIK:premaknjeno-srecanje:11269
ATTENDEE:2. letnik (Fizika, 1. stopnja)
CATEGORIES:Entry,Standard
COLOR:darkgreen
DESCRIPTION:Predmet: Astronomija I (FIZ-2)\, Predavanja (P)\nLetniki: 2. l
 etnik (Fizika\, 1. stopnja)\nIzvajalci: Tomaž Zwitter\nProstor: F5
LOCATION:F5
ORGANIZER:Tomaž Zwitter
RELATED-TO:fmf-AFLABS-URNIK:srecanje:6725
X-WR-TIMEZONE:Europe/Ljubljana
END:VEVENT
BEGIN:VEVENT
SUMMARY:Astronomija I (FIZ-2)\, Predavanja (P)
DTSTART;TZID=Europe/Ljubljana:20211227T130000
DTEND;TZID=Europe/Ljubljana:20211227T160000
DTSTAMP:20260425T211259Z
UID:fmf-AFLABS-URNIK:premaknjeno-srecanje:11270
ATTENDEE:2. letnik (Fizika, 1. stopnja)
CATEGORIES:Entry,Standard
COLOR:darkgreen
DESCRIPTION:Predmet: Astronomija I (FIZ-2)\, Predavanja (P)\nLetniki: 2. l
 etnik (Fizika\, 1. stopnja)\nIzvajalci: Tomaž Zwitter\nProstor: F5
LOCATION:F5
ORGANIZER:Tomaž Zwitter
RELATED-TO:fmf-AFLABS-URNIK:srecanje:6725
X-WR-TIMEZONE:Europe/Ljubljana
END:VEVENT
BEGIN:VEVENT
SUMMARY:Astronomija I (FIZ-2)\, Predavanja (P)
DTSTART;TZID=Europe/Ljubljana:20220103T130000
DTEND;TZID=Europe/Ljubljana:20220103T160000
DTSTAMP:20260425T211259Z
UID:fmf-AFLABS-URNIK:premaknjeno-srecanje:11271
ATTENDEE:2. letnik (Fizika, 1. stopnja)
CATEGORIES:Entry,Standard
COLOR:darkgreen
DESCRIPTION:Predmet: Astronomija I (FIZ-2)\, Predavanja (P)\nLetniki: 2. l
 etnik (Fizika\, 1. stopnja)\nIzvajalci: Tomaž Zwitter\nProstor: F5
LOCATION:F5
ORGANIZER:Tomaž Zwitter
RELATED-TO:fmf-AFLABS-URNIK:srecanje:6725
X-WR-TIMEZONE:Europe/Ljubljana
END:VEVENT
BEGIN:VEVENT
SUMMARY:Astronomija I (FIZ-2)\, Predavanja (P)
DTSTART;TZID=Europe/Ljubljana:20220110T130000
DTEND;TZID=Europe/Ljubljana:20220110T160000
DTSTAMP:20260425T211259Z
UID:fmf-AFLABS-URNIK:premaknjeno-srecanje:11272
ATTENDEE:2. letnik (Fizika, 1. stopnja)
CATEGORIES:Entry,Standard
COLOR:darkgreen
DESCRIPTION:Predmet: Astronomija I (FIZ-2)\, Predavanja (P)\nLetniki: 2. l
 etnik (Fizika\, 1. stopnja)\nIzvajalci: Tomaž Zwitter\nProstor: F5
LOCATION:F5
ORGANIZER:Tomaž Zwitter
RELATED-TO:fmf-AFLABS-URNIK:srecanje:6725
X-WR-TIMEZONE:Europe/Ljubljana
END:VEVENT
BEGIN:VEVENT
SUMMARY:Astronomija (MAT-M\, PM-3)\, Predavanja (P)
DTSTART;TZID=Europe/Ljubljana:20211007T140000
DTEND;TZID=Europe/Ljubljana:20211007T170000
DTSTAMP:20260425T211259Z
UID:fmf-AFLABS-URNIK:premaknjeno-srecanje:10771
ATTENDEE:3. letnik (PM)
ATTENDEE:magistrski študij (M)
CATEGORIES:Entry,Standard
COLOR:darkgreen
DESCRIPTION:Predmet: Astronomija (MAT-M\, PM-3)\, Predavanja (P)\nLetniki:
  magistrski študij (M)\, 3. letnik (PM)\nIzvajalci: Tomaž Zwitter\nProst
 or: F6
LOCATION:F6
ORGANIZER:Tomaž Zwitter
RELATED-TO:fmf-AFLABS-URNIK:srecanje:6144
X-WR-TIMEZONE:Europe/Ljubljana
END:VEVENT
BEGIN:VEVENT
SUMMARY:Astronomija (MAT-M\, PM-3)\, Predavanja (P)
DTSTART;TZID=Europe/Ljubljana:20211014T140000
DTEND;TZID=Europe/Ljubljana:20211014T170000
DTSTAMP:20260425T211259Z
UID:fmf-AFLABS-URNIK:premaknjeno-srecanje:10772
ATTENDEE:3. letnik (PM)
ATTENDEE:magistrski študij (M)
CATEGORIES:Entry,Standard
COLOR:darkgreen
DESCRIPTION:Predmet: Astronomija (MAT-M\, PM-3)\, Predavanja (P)\nLetniki:
  magistrski študij (M)\, 3. letnik (PM)\nIzvajalci: Tomaž Zwitter\nProst
 or: F6
LOCATION:F6
ORGANIZER:Tomaž Zwitter
RELATED-TO:fmf-AFLABS-URNIK:srecanje:6144
X-WR-TIMEZONE:Europe/Ljubljana
END:VEVENT
BEGIN:VEVENT
SUMMARY:Astronomija (MAT-M\, PM-3)\, Predavanja (P)
DTSTART;TZID=Europe/Ljubljana:20211021T140000
DTEND;TZID=Europe/Ljubljana:20211021T170000
DTSTAMP:20260425T211259Z
UID:fmf-AFLABS-URNIK:premaknjeno-srecanje:10773
ATTENDEE:3. letnik (PM)
ATTENDEE:magistrski študij (M)
CATEGORIES:Entry,Standard
COLOR:darkgreen
DESCRIPTION:Predmet: Astronomija (MAT-M\, PM-3)\, Predavanja (P)\nLetniki:
  magistrski študij (M)\, 3. letnik (PM)\nIzvajalci: Tomaž Zwitter\nProst
 or: F6
LOCATION:F6
ORGANIZER:Tomaž Zwitter
RELATED-TO:fmf-AFLABS-URNIK:srecanje:6144
X-WR-TIMEZONE:Europe/Ljubljana
END:VEVENT
BEGIN:VEVENT
SUMMARY:Astronomija (MAT-M\, PM-3)\, Predavanja (P)
DTSTART;TZID=Europe/Ljubljana:20211028T140000
DTEND;TZID=Europe/Ljubljana:20211028T170000
DTSTAMP:20260425T211259Z
UID:fmf-AFLABS-URNIK:premaknjeno-srecanje:10774
ATTENDEE:3. letnik (PM)
ATTENDEE:magistrski študij (M)
CATEGORIES:Entry,Standard
COLOR:darkgreen
DESCRIPTION:Predmet: Astronomija (MAT-M\, PM-3)\, Predavanja (P)\nLetniki:
  magistrski študij (M)\, 3. letnik (PM)\nIzvajalci: Tomaž Zwitter\nProst
 or: F6
LOCATION:F6
ORGANIZER:Tomaž Zwitter
RELATED-TO:fmf-AFLABS-URNIK:srecanje:6144
X-WR-TIMEZONE:Europe/Ljubljana
END:VEVENT
BEGIN:VEVENT
SUMMARY:Astronomija (MAT-M\, PM-3)\, Predavanja (P)
DTSTART;TZID=Europe/Ljubljana:20211104T140000
DTEND;TZID=Europe/Ljubljana:20211104T170000
DTSTAMP:20260425T211259Z
UID:fmf-AFLABS-URNIK:premaknjeno-srecanje:10775
ATTENDEE:3. letnik (PM)
ATTENDEE:magistrski študij (M)
CATEGORIES:Entry,Standard
COLOR:darkgreen
DESCRIPTION:Predmet: Astronomija (MAT-M\, PM-3)\, Predavanja (P)\nLetniki:
  magistrski študij (M)\, 3. letnik (PM)\nIzvajalci: Tomaž Zwitter\nProst
 or: F6
LOCATION:F6
ORGANIZER:Tomaž Zwitter
RELATED-TO:fmf-AFLABS-URNIK:srecanje:6144
X-WR-TIMEZONE:Europe/Ljubljana
END:VEVENT
BEGIN:VEVENT
SUMMARY:Astronomija (MAT-M\, PM-3)\, Predavanja (P)
DTSTART;TZID=Europe/Ljubljana:20211111T140000
DTEND;TZID=Europe/Ljubljana:20211111T170000
DTSTAMP:20260425T211259Z
UID:fmf-AFLABS-URNIK:premaknjeno-srecanje:10776
ATTENDEE:3. letnik (PM)
ATTENDEE:magistrski študij (M)
CATEGORIES:Entry,Standard
COLOR:darkgreen
DESCRIPTION:Predmet: Astronomija (MAT-M\, PM-3)\, Predavanja (P)\nLetniki:
  magistrski študij (M)\, 3. letnik (PM)\nIzvajalci: Tomaž Zwitter\nProst
 or: F6
LOCATION:F6
ORGANIZER:Tomaž Zwitter
RELATED-TO:fmf-AFLABS-URNIK:srecanje:6144
X-WR-TIMEZONE:Europe/Ljubljana
END:VEVENT
BEGIN:VEVENT
SUMMARY:Astronomija (MAT-M\, PM-3)\, Predavanja (P)
DTSTART;TZID=Europe/Ljubljana:20211118T140000
DTEND;TZID=Europe/Ljubljana:20211118T170000
DTSTAMP:20260425T211259Z
UID:fmf-AFLABS-URNIK:premaknjeno-srecanje:10777
ATTENDEE:3. letnik (PM)
ATTENDEE:magistrski študij (M)
CATEGORIES:Entry,Standard
COLOR:darkgreen
DESCRIPTION:Predmet: Astronomija (MAT-M\, PM-3)\, Predavanja (P)\nLetniki:
  magistrski študij (M)\, 3. letnik (PM)\nIzvajalci: Tomaž Zwitter\nProst
 or: F6
LOCATION:F6
ORGANIZER:Tomaž Zwitter
RELATED-TO:fmf-AFLABS-URNIK:srecanje:6144
X-WR-TIMEZONE:Europe/Ljubljana
END:VEVENT
BEGIN:VEVENT
SUMMARY:Astronomija (MAT-M\, PM-3)\, Predavanja (P)
DTSTART;TZID=Europe/Ljubljana:20211125T140000
DTEND;TZID=Europe/Ljubljana:20211125T170000
DTSTAMP:20260425T211259Z
UID:fmf-AFLABS-URNIK:premaknjeno-srecanje:10778
ATTENDEE:3. letnik (PM)
ATTENDEE:magistrski študij (M)
CATEGORIES:Entry,Standard
COLOR:darkgreen
DESCRIPTION:Predmet: Astronomija (MAT-M\, PM-3)\, Predavanja (P)\nLetniki:
  magistrski študij (M)\, 3. letnik (PM)\nIzvajalci: Tomaž Zwitter\nProst
 or: F6
LOCATION:F6
ORGANIZER:Tomaž Zwitter
RELATED-TO:fmf-AFLABS-URNIK:srecanje:6144
X-WR-TIMEZONE:Europe/Ljubljana
END:VEVENT
BEGIN:VEVENT
SUMMARY:Astronomija (MAT-M\, PM-3)\, Predavanja (P)
DTSTART;TZID=Europe/Ljubljana:20211202T140000
DTEND;TZID=Europe/Ljubljana:20211202T170000
DTSTAMP:20260425T211259Z
UID:fmf-AFLABS-URNIK:premaknjeno-srecanje:10779
ATTENDEE:3. letnik (PM)
ATTENDEE:magistrski študij (M)
CATEGORIES:Entry,Standard
COLOR:darkgreen
DESCRIPTION:Predmet: Astronomija (MAT-M\, PM-3)\, Predavanja (P)\nLetniki:
  magistrski študij (M)\, 3. letnik (PM)\nIzvajalci: Tomaž Zwitter\nProst
 or: F6
LOCATION:F6
ORGANIZER:Tomaž Zwitter
RELATED-TO:fmf-AFLABS-URNIK:srecanje:6144
X-WR-TIMEZONE:Europe/Ljubljana
END:VEVENT
BEGIN:VEVENT
SUMMARY:Astronomija (MAT-M\, PM-3)\, Predavanja (P)
DTSTART;TZID=Europe/Ljubljana:20211209T140000
DTEND;TZID=Europe/Ljubljana:20211209T170000
DTSTAMP:20260425T211259Z
UID:fmf-AFLABS-URNIK:premaknjeno-srecanje:10780
ATTENDEE:3. letnik (PM)
ATTENDEE:magistrski študij (M)
CATEGORIES:Entry,Standard
COLOR:darkgreen
DESCRIPTION:Predmet: Astronomija (MAT-M\, PM-3)\, Predavanja (P)\nLetniki:
  magistrski študij (M)\, 3. letnik (PM)\nIzvajalci: Tomaž Zwitter\nProst
 or: F6
LOCATION:F6
ORGANIZER:Tomaž Zwitter
RELATED-TO:fmf-AFLABS-URNIK:srecanje:6144
X-WR-TIMEZONE:Europe/Ljubljana
END:VEVENT
BEGIN:VEVENT
SUMMARY:Astronomija (MAT-M\, PM-3)\, Predavanja (P)
DTSTART;TZID=Europe/Ljubljana:20211216T140000
DTEND;TZID=Europe/Ljubljana:20211216T170000
DTSTAMP:20260425T211259Z
UID:fmf-AFLABS-URNIK:premaknjeno-srecanje:10781
ATTENDEE:3. letnik (PM)
ATTENDEE:magistrski študij (M)
CATEGORIES:Entry,Standard
COLOR:darkgreen
DESCRIPTION:Predmet: Astronomija (MAT-M\, PM-3)\, Predavanja (P)\nLetniki:
  magistrski študij (M)\, 3. letnik (PM)\nIzvajalci: Tomaž Zwitter\nProst
 or: F6
LOCATION:F6
ORGANIZER:Tomaž Zwitter
RELATED-TO:fmf-AFLABS-URNIK:srecanje:6144
X-WR-TIMEZONE:Europe/Ljubljana
END:VEVENT
BEGIN:VEVENT
SUMMARY:Astronomija (MAT-M\, PM-3)\, Predavanja (P)
DTSTART;TZID=Europe/Ljubljana:20211223T140000
DTEND;TZID=Europe/Ljubljana:20211223T170000
DTSTAMP:20260425T211259Z
UID:fmf-AFLABS-URNIK:premaknjeno-srecanje:10782
ATTENDEE:3. letnik (PM)
ATTENDEE:magistrski študij (M)
CATEGORIES:Entry,Standard
COLOR:darkgreen
DESCRIPTION:Predmet: Astronomija (MAT-M\, PM-3)\, Predavanja (P)\nLetniki:
  magistrski študij (M)\, 3. letnik (PM)\nIzvajalci: Tomaž Zwitter\nProst
 or: F6
LOCATION:F6
ORGANIZER:Tomaž Zwitter
RELATED-TO:fmf-AFLABS-URNIK:srecanje:6144
X-WR-TIMEZONE:Europe/Ljubljana
END:VEVENT
BEGIN:VEVENT
SUMMARY:Astronomija (MAT-M\, PM-3)\, Predavanja (P)
DTSTART;TZID=Europe/Ljubljana:20211230T140000
DTEND;TZID=Europe/Ljubljana:20211230T170000
DTSTAMP:20260425T211259Z
UID:fmf-AFLABS-URNIK:premaknjeno-srecanje:10783
ATTENDEE:3. letnik (PM)
ATTENDEE:magistrski študij (M)
CATEGORIES:Entry,Standard
COLOR:darkgreen
DESCRIPTION:Predmet: Astronomija (MAT-M\, PM-3)\, Predavanja (P)\nLetniki:
  magistrski študij (M)\, 3. letnik (PM)\nIzvajalci: Tomaž Zwitter\nProst
 or: F6
LOCATION:F6
ORGANIZER:Tomaž Zwitter
RELATED-TO:fmf-AFLABS-URNIK:srecanje:6144
X-WR-TIMEZONE:Europe/Ljubljana
END:VEVENT
BEGIN:VEVENT
SUMMARY:Astronomija (MAT-M\, PM-3)\, Predavanja (P)
DTSTART;TZID=Europe/Ljubljana:20220106T140000
DTEND;TZID=Europe/Ljubljana:20220106T170000
DTSTAMP:20260425T211259Z
UID:fmf-AFLABS-URNIK:premaknjeno-srecanje:10784
ATTENDEE:3. letnik (PM)
ATTENDEE:magistrski študij (M)
CATEGORIES:Entry,Standard
COLOR:darkgreen
DESCRIPTION:Predmet: Astronomija (MAT-M\, PM-3)\, Predavanja (P)\nLetniki:
  magistrski študij (M)\, 3. letnik (PM)\nIzvajalci: Tomaž Zwitter\nProst
 or: F6
LOCATION:F6
ORGANIZER:Tomaž Zwitter
RELATED-TO:fmf-AFLABS-URNIK:srecanje:6144
X-WR-TIMEZONE:Europe/Ljubljana
END:VEVENT
BEGIN:VEVENT
SUMMARY:Astronomija (MAT-M\, PM-3)\, Predavanja (P)
DTSTART;TZID=Europe/Ljubljana:20220113T140000
DTEND;TZID=Europe/Ljubljana:20220113T170000
DTSTAMP:20260425T211259Z
UID:fmf-AFLABS-URNIK:premaknjeno-srecanje:10785
ATTENDEE:3. letnik (PM)
ATTENDEE:magistrski študij (M)
CATEGORIES:Entry,Standard
COLOR:darkgreen
DESCRIPTION:Predmet: Astronomija (MAT-M\, PM-3)\, Predavanja (P)\nLetniki:
  magistrski študij (M)\, 3. letnik (PM)\nIzvajalci: Tomaž Zwitter\nProst
 or: F6
LOCATION:F6
ORGANIZER:Tomaž Zwitter
RELATED-TO:fmf-AFLABS-URNIK:srecanje:6144
X-WR-TIMEZONE:Europe/Ljubljana
END:VEVENT
BEGIN:VEVENT
SUMMARY:Rezervacija
DTSTART;TZID=Europe/Ljubljana:20220204T120000
DTEND;TZID=Europe/Ljubljana:20220204T170000
DTSTAMP:20260425T211259Z
UID:fmf-AFLABS-URNIK:rezervacija:8491
CATEGORIES:Reservation
COLOR:royalblue
DESCRIPTION:Predmeti: \nLetniki: \nIzvajalci: Tomaž Zwitter\nProstori: F2
LOCATION:F2
ORGANIZER:Tomaž Zwitter
X-WR-TIMEZONE:Europe/Ljubljana
END:VEVENT
END:VCALENDAR
