BEGIN:VCALENDAR
VERSION:2.0
PRODID:-//AFLabs urnik izvoz - fmf//aflabs.si//SI
DTSTAMP:20260424T115128Z
NAME:UL FMF urnik
REFRESH-INTERVAL:PT1H
SOURCE:https://urnik.fmf.uni-lj.si/teacher/99?day=2022-06-13&export=1
URL:https://urnik.fmf.uni-lj.si/teacher/99?day=2022-06-13&export=1
X-PUBLISHED-TTL:PT1H
X-WR-CALNAME:UL FMF urnik
X-WR-TIMEZONE:Europe/Ljubljana
BEGIN:VTIMEZONE
TZID:Europe/Ljubljana
BEGIN:DAYLIGHT
DTSTART:20260329T020000
RDATE:20260329T020000
RDATE:20270328T020000
TZNAME:CEST
TZOFFSETFROM:+0100
TZOFFSETTO:+0200
END:DAYLIGHT
BEGIN:STANDARD
DTSTART:20261025T030000
RDATE:20261025T030000
RDATE:20271031T030000
TZNAME:CET
TZOFFSETFROM:+0200
TZOFFSETTO:+0100
END:STANDARD
END:VTIMEZONE
BEGIN:VEVENT
SUMMARY:Astronomija (MAT-M\, PM-3)\, Predavanja (P)
DTSTART;TZID=Europe/Ljubljana:20220509T140000
DTEND;TZID=Europe/Ljubljana:20220509T160000
DTSTAMP:20260424T115128Z
UID:fmf-AFLABS-URNIK:premaknjeno-srecanje:10767
ATTENDEE:3. letnik (PM)
ATTENDEE:magistrski študij (M)
CATEGORIES:Entry,Standard
COLOR:darkgreen
DESCRIPTION:Predmet: Astronomija (MAT-M\, PM-3)\, Predavanja (P)\nLetniki:
  magistrski študij (M)\, 3. letnik (PM)\nIzvajalci: Tomaž Zwitter\nProst
 or: F1
LOCATION:F1
ORGANIZER:Tomaž Zwitter
RELATED-TO:fmf-AFLABS-URNIK:srecanje:6864
X-WR-TIMEZONE:Europe/Ljubljana
END:VEVENT
BEGIN:VEVENT
SUMMARY:Astronomija (MAT-M\, PM-3)\, Predavanja (P)
DTSTART;TZID=Europe/Ljubljana:20220516T140000
DTEND;TZID=Europe/Ljubljana:20220516T160000
DTSTAMP:20260424T115128Z
UID:fmf-AFLABS-URNIK:premaknjeno-srecanje:10768
ATTENDEE:3. letnik (PM)
ATTENDEE:magistrski študij (M)
CATEGORIES:Entry,Standard
COLOR:darkgreen
DESCRIPTION:Predmet: Astronomija (MAT-M\, PM-3)\, Predavanja (P)\nLetniki:
  magistrski študij (M)\, 3. letnik (PM)\nIzvajalci: Tomaž Zwitter\nProst
 or: F1
LOCATION:F1
ORGANIZER:Tomaž Zwitter
RELATED-TO:fmf-AFLABS-URNIK:srecanje:6864
X-WR-TIMEZONE:Europe/Ljubljana
END:VEVENT
BEGIN:VEVENT
SUMMARY:Astronomija (MAT-M\, PM-3)\, Predavanja (P)
DTSTART;TZID=Europe/Ljubljana:20220523T140000
DTEND;TZID=Europe/Ljubljana:20220523T160000
DTSTAMP:20260424T115128Z
UID:fmf-AFLABS-URNIK:premaknjeno-srecanje:10769
ATTENDEE:3. letnik (PM)
ATTENDEE:magistrski študij (M)
CATEGORIES:Entry,Standard
COLOR:darkgreen
DESCRIPTION:Predmet: Astronomija (MAT-M\, PM-3)\, Predavanja (P)\nLetniki:
  magistrski študij (M)\, 3. letnik (PM)\nIzvajalci: Tomaž Zwitter\nProst
 or: F1
LOCATION:F1
ORGANIZER:Tomaž Zwitter
RELATED-TO:fmf-AFLABS-URNIK:srecanje:6864
X-WR-TIMEZONE:Europe/Ljubljana
END:VEVENT
BEGIN:VEVENT
SUMMARY:Astronomija (MAT-M\, PM-3)\, Predavanja (P)
DTSTART;TZID=Europe/Ljubljana:20220530T140000
DTEND;TZID=Europe/Ljubljana:20220530T160000
DTSTAMP:20260424T115128Z
UID:fmf-AFLABS-URNIK:premaknjeno-srecanje:10770
ATTENDEE:3. letnik (PM)
ATTENDEE:magistrski študij (M)
CATEGORIES:Entry,Standard
COLOR:darkgreen
DESCRIPTION:Predmet: Astronomija (MAT-M\, PM-3)\, Predavanja (P)\nLetniki:
  magistrski študij (M)\, 3. letnik (PM)\nIzvajalci: Tomaž Zwitter\nProst
 or: F1
LOCATION:F1
ORGANIZER:Tomaž Zwitter
RELATED-TO:fmf-AFLABS-URNIK:srecanje:6864
X-WR-TIMEZONE:Europe/Ljubljana
END:VEVENT
BEGIN:VEVENT
SUMMARY:Naše in druga osončja (FIZ-2)\, Predavanja (P)
DTSTART;TZID=Europe/Ljubljana:20220510T150000
DTEND;TZID=Europe/Ljubljana:20220510T180000
DTSTAMP:20260424T115128Z
UID:fmf-AFLABS-URNIK:premaknjeno-srecanje:76013
ATTENDEE:2. letnik (Fizika, 1. stopnja)
CATEGORIES:Entry,Standard
COLOR:darkgreen
DESCRIPTION:Predmet: Naše in druga osončja (FIZ-2)\, Predavanja (P)\nLet
 niki: 2. letnik (Fizika\, 1. stopnja)\nIzvajalci: Tomaž Zwitter\nProstor:
  F4
LOCATION:F4
ORGANIZER:Tomaž Zwitter
RELATED-TO:fmf-AFLABS-URNIK:srecanje:7147
X-WR-TIMEZONE:Europe/Ljubljana
END:VEVENT
BEGIN:VEVENT
SUMMARY:Naše in druga osončja (FIZ-2)\, Predavanja (P)
DTSTART;TZID=Europe/Ljubljana:20220517T150000
DTEND;TZID=Europe/Ljubljana:20220517T180000
DTSTAMP:20260424T115128Z
UID:fmf-AFLABS-URNIK:premaknjeno-srecanje:76014
ATTENDEE:2. letnik (Fizika, 1. stopnja)
CATEGORIES:Entry,Standard
COLOR:darkgreen
DESCRIPTION:Predmet: Naše in druga osončja (FIZ-2)\, Predavanja (P)\nLet
 niki: 2. letnik (Fizika\, 1. stopnja)\nIzvajalci: Tomaž Zwitter\nProstor:
  F4
LOCATION:F4
ORGANIZER:Tomaž Zwitter
RELATED-TO:fmf-AFLABS-URNIK:srecanje:7147
X-WR-TIMEZONE:Europe/Ljubljana
END:VEVENT
BEGIN:VEVENT
SUMMARY:Naše in druga osončja (FIZ-2)\, Predavanja (P)
DTSTART;TZID=Europe/Ljubljana:20220524T150000
DTEND;TZID=Europe/Ljubljana:20220524T180000
DTSTAMP:20260424T115128Z
UID:fmf-AFLABS-URNIK:premaknjeno-srecanje:76015
ATTENDEE:2. letnik (Fizika, 1. stopnja)
CATEGORIES:Entry,Standard
COLOR:darkgreen
DESCRIPTION:Predmet: Naše in druga osončja (FIZ-2)\, Predavanja (P)\nLet
 niki: 2. letnik (Fizika\, 1. stopnja)\nIzvajalci: Tomaž Zwitter\nProstor:
  F4
LOCATION:F4
ORGANIZER:Tomaž Zwitter
RELATED-TO:fmf-AFLABS-URNIK:srecanje:7147
X-WR-TIMEZONE:Europe/Ljubljana
END:VEVENT
BEGIN:VEVENT
SUMMARY:Naše in druga osončja (FIZ-2)\, Predavanja (P)
DTSTART;TZID=Europe/Ljubljana:20220531T150000
DTEND;TZID=Europe/Ljubljana:20220531T180000
DTSTAMP:20260424T115128Z
UID:fmf-AFLABS-URNIK:premaknjeno-srecanje:76016
ATTENDEE:2. letnik (Fizika, 1. stopnja)
CATEGORIES:Entry,Standard
COLOR:darkgreen
DESCRIPTION:Predmet: Naše in druga osončja (FIZ-2)\, Predavanja (P)\nLet
 niki: 2. letnik (Fizika\, 1. stopnja)\nIzvajalci: Tomaž Zwitter\nProstor:
  F4
LOCATION:F4
ORGANIZER:Tomaž Zwitter
RELATED-TO:fmf-AFLABS-URNIK:srecanje:7147
X-WR-TIMEZONE:Europe/Ljubljana
END:VEVENT
BEGIN:VEVENT
SUMMARY:Astronomska opazovanja (FIZ-1)\, Predavanja (P)
DTSTART;TZID=Europe/Ljubljana:20220512T130000
DTEND;TZID=Europe/Ljubljana:20220512T150000
DTSTAMP:20260424T115128Z
UID:fmf-AFLABS-URNIK:premaknjeno-srecanje:11830
ATTENDEE:1. letnik (Fizika, 1. stopnja)
CATEGORIES:Entry,Standard
COLOR:darkgreen
DESCRIPTION:Predmet: Astronomska opazovanja (FIZ-1)\, Predavanja (P)\nLetn
 iki: 1. letnik (Fizika\, 1. stopnja)\nIzvajalci: Tomaž Zwitter\nProstor: 
 F1
LOCATION:F1
ORGANIZER:Tomaž Zwitter
RELATED-TO:fmf-AFLABS-URNIK:srecanje:6869
X-WR-TIMEZONE:Europe/Ljubljana
END:VEVENT
BEGIN:VEVENT
SUMMARY:Astronomska opazovanja (FIZ-1)\, Predavanja (P)
DTSTART;TZID=Europe/Ljubljana:20220519T130000
DTEND;TZID=Europe/Ljubljana:20220519T150000
DTSTAMP:20260424T115128Z
UID:fmf-AFLABS-URNIK:premaknjeno-srecanje:11831
ATTENDEE:1. letnik (Fizika, 1. stopnja)
CATEGORIES:Entry,Standard
COLOR:darkgreen
DESCRIPTION:Predmet: Astronomska opazovanja (FIZ-1)\, Predavanja (P)\nLetn
 iki: 1. letnik (Fizika\, 1. stopnja)\nIzvajalci: Tomaž Zwitter\nProstor: 
 F1
LOCATION:F1
ORGANIZER:Tomaž Zwitter
RELATED-TO:fmf-AFLABS-URNIK:srecanje:6869
X-WR-TIMEZONE:Europe/Ljubljana
END:VEVENT
BEGIN:VEVENT
SUMMARY:Astronomska opazovanja (FIZ-1)\, Predavanja (P)
DTSTART;TZID=Europe/Ljubljana:20220526T130000
DTEND;TZID=Europe/Ljubljana:20220526T150000
DTSTAMP:20260424T115128Z
UID:fmf-AFLABS-URNIK:premaknjeno-srecanje:11832
ATTENDEE:1. letnik (Fizika, 1. stopnja)
CATEGORIES:Entry,Standard
COLOR:darkgreen
DESCRIPTION:Predmet: Astronomska opazovanja (FIZ-1)\, Predavanja (P)\nLetn
 iki: 1. letnik (Fizika\, 1. stopnja)\nIzvajalci: Tomaž Zwitter\nProstor: 
 F1
LOCATION:F1
ORGANIZER:Tomaž Zwitter
RELATED-TO:fmf-AFLABS-URNIK:srecanje:6869
X-WR-TIMEZONE:Europe/Ljubljana
END:VEVENT
BEGIN:VEVENT
SUMMARY:Rezervacija
DTSTART;TZID=Europe/Ljubljana:20220620T090000
DTEND;TZID=Europe/Ljubljana:20220620T150000
DTSTAMP:20260424T115128Z
UID:fmf-AFLABS-URNIK:rezervacija:9400
ATTENDEE:1. letnik (Fizika, 1. stopnja)
ATTENDEE:2. letnik (Fizika, 1. stopnja)
ATTENDEE:3. letnik (PM)
ATTENDEE:magistrski študij (M)
CATEGORIES:Reservation
COLOR:royalblue
DESCRIPTION:Predmeti: Astronomija I (FIZ-2)\, Astronomija (MAT-M\, PM-3)\,
  Astronomska opazovanja (FIZ-1)\, Naše in druga osončja (FIZ-2)\nLetniki
 : 1. letnik (Fizika\, 1. stopnja)\, 2. letnik (Fizika\, 1. stopnja)\, magi
 strski študij (M)\, 3. letnik (PM)\nIzvajalci: Tomaž Zwitter\nProstori: 
 F4
LOCATION:F4
ORGANIZER:Tomaž Zwitter
X-WR-TIMEZONE:Europe/Ljubljana
END:VEVENT
BEGIN:VEVENT
SUMMARY:Rezervacija
DTSTART;TZID=Europe/Ljubljana:20220705T090000
DTEND;TZID=Europe/Ljubljana:20220705T150000
DTSTAMP:20260424T115128Z
UID:fmf-AFLABS-URNIK:rezervacija:9676
ATTENDEE:1. letnik (Fizika, 1. stopnja)
ATTENDEE:2. letnik (Fizika, 1. stopnja)
ATTENDEE:3. letnik (PM)
ATTENDEE:magistrski študij (M)
CATEGORIES:Reservation
COLOR:royalblue
DESCRIPTION:Predmeti: Astronomija I (FIZ-2)\, Astronomija (MAT-M\, PM-3)\,
  Astronomska opazovanja (FIZ-1)\, Naše in druga osončja (FIZ-2)\nLetniki
 : 1. letnik (Fizika\, 1. stopnja)\, 2. letnik (Fizika\, 1. stopnja)\, magi
 strski študij (M)\, 3. letnik (PM)\nIzvajalci: Tomaž Zwitter\nProstori: 
 F4
LOCATION:F4
ORGANIZER:Tomaž Zwitter
X-WR-TIMEZONE:Europe/Ljubljana
END:VEVENT
END:VCALENDAR
