BEGIN:VCALENDAR
VERSION:2.0
PRODID:-//AFLabs urnik izvoz - fmf//aflabs.si//SI
DTSTAMP:20260421T162625Z
NAME:UL FMF urnik
REFRESH-INTERVAL:PT1H
SOURCE:https://urnik.fmf.uni-lj.si/teacher/99?day=2025-06-16&export=1
URL:https://urnik.fmf.uni-lj.si/teacher/99?day=2025-06-16&export=1
X-PUBLISHED-TTL:PT1H
X-WR-CALNAME:UL FMF urnik
X-WR-TIMEZONE:Europe/Ljubljana
BEGIN:VTIMEZONE
TZID:Europe/Ljubljana
BEGIN:DAYLIGHT
DTSTART:20260329T020000
RDATE:20260329T020000
RDATE:20270328T020000
TZNAME:CEST
TZOFFSETFROM:+0100
TZOFFSETTO:+0200
END:DAYLIGHT
BEGIN:STANDARD
DTSTART:20261025T030000
RDATE:20261025T030000
RDATE:20271031T030000
TZNAME:CET
TZOFFSETFROM:+0200
TZOFFSETTO:+0100
END:STANDARD
END:VTIMEZONE
BEGIN:VEVENT
SUMMARY:Ustni izpiti
DTSTART;TZID=Europe/Ljubljana:20250610T090000
DTEND;TZID=Europe/Ljubljana:20250610T140000
DTSTAMP:20260421T162625Z
UID:fmf-AFLABS-URNIK:rezervacija:22680
ATTENDEE:1. letnik (Fizika, 1. stopnja)
ATTENDEE:2. letnik (Fizika, 1. stopnja)
CATEGORIES:Reservation
COLOR:royalblue
DESCRIPTION:Predmeti: Naše in druga osončja (FIZ-2)\, Astronomska opazov
 anja (FIZ-1)\, Astronomija I (FIZ-2)\nLetniki: 1. letnik (Fizika\, 1. stop
 nja)\, 2. letnik (Fizika\, 1. stopnja)\nIzvajalci: Tomaž Zwitter\nProstor
 i: F3
LOCATION:F3
ORGANIZER:Tomaž Zwitter
X-WR-TIMEZONE:Europe/Ljubljana
END:VEVENT
BEGIN:VEVENT
SUMMARY:Ustni izpiti
DTSTART;TZID=Europe/Ljubljana:20250611T090000
DTEND;TZID=Europe/Ljubljana:20250611T140000
DTSTAMP:20260421T162625Z
UID:fmf-AFLABS-URNIK:rezervacija:22682
ATTENDEE:1. letnik (Fizika, 1. stopnja)
ATTENDEE:1. letnik (Pedagoška fizika, 2. stopnja)
ATTENDEE:2. letnik (Fizika, 1. stopnja)
ATTENDEE:2. letnik (Pedagoška fizika, 2. stopnja)
CATEGORIES:Reservation
COLOR:royalblue
DESCRIPTION:Predmeti: Naše in druga osončja (FIZ-2)\, Izbrana poglavja i
 z astrofizike in fizike delcev (PEF-1\, PEF-2)\, Astronomska opazovanja (F
 IZ-1)\, Astronomija I (FIZ-2)\nLetniki: 1. letnik (Fizika\, 1. stopnja)\, 
 2. letnik (Fizika\, 1. stopnja)\, 1. letnik (Pedagoška fizika\, 2. stopnj
 a)\, 2. letnik (Pedagoška fizika\, 2. stopnja)\nIzvajalci: Tomaž Zwitter
 \nProstori: F3
LOCATION:F3
ORGANIZER:Tomaž Zwitter
X-WR-TIMEZONE:Europe/Ljubljana
END:VEVENT
BEGIN:VEVENT
SUMMARY:Ustni izpiti
DTSTART;TZID=Europe/Ljubljana:20250702T090000
DTEND;TZID=Europe/Ljubljana:20250702T160000
DTSTAMP:20260421T162625Z
UID:fmf-AFLABS-URNIK:rezervacija:22683
ATTENDEE:1. letnik (Fizika, 1. stopnja)
ATTENDEE:1. letnik (Pedagoška fizika, 2. stopnja)
ATTENDEE:2. letnik (Fizika, 1. stopnja)
ATTENDEE:2. letnik (Pedagoška fizika, 2. stopnja)
CATEGORIES:Reservation
COLOR:royalblue
DESCRIPTION:Predmeti: Izbrana poglavja iz astrofizike in fizike delcev (PE
 F-1\, PEF-2)\, Naše in druga osončja (FIZ-2)\, Astronomska opazovanja (F
 IZ-1)\, Astronomija I (FIZ-2)\nLetniki: 1. letnik (Fizika\, 1. stopnja)\, 
 2. letnik (Fizika\, 1. stopnja)\, 1. letnik (Pedagoška fizika\, 2. stopnj
 a)\, 2. letnik (Pedagoška fizika\, 2. stopnja)\nIzvajalci: Tomaž Zwitter
 \nProstori: F3
LOCATION:F3
ORGANIZER:Tomaž Zwitter
X-WR-TIMEZONE:Europe/Ljubljana
END:VEVENT
BEGIN:VEVENT
SUMMARY:Ustni izpiti
DTSTART;TZID=Europe/Ljubljana:20250703T090000
DTEND;TZID=Europe/Ljubljana:20250703T160000
DTSTAMP:20260421T162625Z
UID:fmf-AFLABS-URNIK:rezervacija:22684
ATTENDEE:1. letnik (Pedagoška fizika, 2. stopnja)
ATTENDEE:2. letnik (Fizika, 1. stopnja)
ATTENDEE:2. letnik (Pedagoška fizika, 2. stopnja)
CATEGORIES:Reservation
COLOR:royalblue
DESCRIPTION:Predmeti: Izbrana poglavja iz astrofizike in fizike delcev (PE
 F-1\, PEF-2)\, Naše in druga osončja (FIZ-2)\, Astronomska opazovanja (P
 EF) ()\, Astronomija I (FIZ-2)\nLetniki: 2. letnik (Fizika\, 1. stopnja)\,
  1. letnik (Pedagoška fizika\, 2. stopnja)\, 2. letnik (Pedagoška fizika
 \, 2. stopnja)\nIzvajalci: Tomaž Zwitter\nProstori: F3
LOCATION:F3
ORGANIZER:Tomaž Zwitter
X-WR-TIMEZONE:Europe/Ljubljana
END:VEVENT
BEGIN:VEVENT
SUMMARY:Ustni izpiti
DTSTART;TZID=Europe/Ljubljana:20250818T090000
DTEND;TZID=Europe/Ljubljana:20250818T170000
DTSTAMP:20260421T162625Z
UID:fmf-AFLABS-URNIK:rezervacija:22685
ATTENDEE:1. letnik (Fizika, 1. stopnja)
ATTENDEE:1. letnik (Pedagoška fizika, 2. stopnja)
ATTENDEE:2. letnik (Fizika, 1. stopnja)
ATTENDEE:2. letnik (Pedagoška fizika, 2. stopnja)
CATEGORIES:Reservation
COLOR:royalblue
DESCRIPTION:Predmeti: Izbrana poglavja iz astrofizike in fizike delcev (PE
 F-1\, PEF-2)\, Naše in druga osončja (FIZ-2)\, Astronomska opazovanja (F
 IZ-1)\, Astronomija I (FIZ-2)\nLetniki: 1. letnik (Fizika\, 1. stopnja)\, 
 2. letnik (Fizika\, 1. stopnja)\, 1. letnik (Pedagoška fizika\, 2. stopnj
 a)\, 2. letnik (Pedagoška fizika\, 2. stopnja)\nIzvajalci: Tomaž Zwitter
 \nProstori: F3
LOCATION:F3
ORGANIZER:Tomaž Zwitter
X-WR-TIMEZONE:Europe/Ljubljana
END:VEVENT
BEGIN:VEVENT
SUMMARY:Ustni izpiti
DTSTART;TZID=Europe/Ljubljana:20250819T090000
DTEND;TZID=Europe/Ljubljana:20250819T170000
DTSTAMP:20260421T162625Z
UID:fmf-AFLABS-URNIK:rezervacija:22686
ATTENDEE:1. letnik (Fizika, 1. stopnja)
ATTENDEE:1. letnik (Pedagoška fizika, 2. stopnja)
ATTENDEE:2. letnik (Fizika, 1. stopnja)
ATTENDEE:2. letnik (Pedagoška fizika, 2. stopnja)
CATEGORIES:Reservation
COLOR:royalblue
DESCRIPTION:Predmeti: Izbrana poglavja iz astrofizike in fizike delcev (PE
 F-1\, PEF-2)\, Naše in druga osončja (FIZ-2)\, Astronomska opazovanja (F
 IZ-1)\, Astronomija I (FIZ-2)\nLetniki: 1. letnik (Fizika\, 1. stopnja)\, 
 2. letnik (Fizika\, 1. stopnja)\, 1. letnik (Pedagoška fizika\, 2. stopnj
 a)\, 2. letnik (Pedagoška fizika\, 2. stopnja)\nIzvajalci: Tomaž Zwitter
 \nProstori: F3
LOCATION:F3
ORGANIZER:Tomaž Zwitter
X-WR-TIMEZONE:Europe/Ljubljana
END:VEVENT
BEGIN:VEVENT
SUMMARY:Ustni izpiti
DTSTART;TZID=Europe/Ljubljana:20250820T090000
DTEND;TZID=Europe/Ljubljana:20250820T170000
DTSTAMP:20260421T162625Z
UID:fmf-AFLABS-URNIK:rezervacija:22687
ATTENDEE:1. letnik (Fizika, 1. stopnja)
ATTENDEE:1. letnik (Pedagoška fizika, 2. stopnja)
ATTENDEE:2. letnik (Fizika, 1. stopnja)
ATTENDEE:2. letnik (Pedagoška fizika, 2. stopnja)
CATEGORIES:Reservation
COLOR:royalblue
DESCRIPTION:Predmeti: Izbrana poglavja iz astrofizike in fizike delcev (PE
 F-1\, PEF-2)\, Naše in druga osončja (FIZ-2)\, Astronomska opazovanja (F
 IZ-1)\, Astronomija I (FIZ-2)\nLetniki: 1. letnik (Fizika\, 1. stopnja)\, 
 2. letnik (Fizika\, 1. stopnja)\, 1. letnik (Pedagoška fizika\, 2. stopnj
 a)\, 2. letnik (Pedagoška fizika\, 2. stopnja)\nIzvajalci: Tomaž Zwitter
 \nProstori: F3
LOCATION:F3
ORGANIZER:Tomaž Zwitter
X-WR-TIMEZONE:Europe/Ljubljana
END:VEVENT
BEGIN:VEVENT
SUMMARY:Ustni izpiti
DTSTART;TZID=Europe/Ljubljana:20250821T090000
DTEND;TZID=Europe/Ljubljana:20250821T170000
DTSTAMP:20260421T162625Z
UID:fmf-AFLABS-URNIK:rezervacija:22688
ATTENDEE:1. letnik (Fizika, 1. stopnja)
ATTENDEE:1. letnik (Pedagoška fizika, 2. stopnja)
ATTENDEE:2. letnik (Fizika, 1. stopnja)
ATTENDEE:2. letnik (Pedagoška fizika, 2. stopnja)
CATEGORIES:Reservation
COLOR:royalblue
DESCRIPTION:Predmeti: Izbrana poglavja iz astrofizike in fizike delcev (PE
 F-1\, PEF-2)\, Naše in druga osončja (FIZ-2)\, Astronomska opazovanja (F
 IZ-1)\, Astronomija I (FIZ-2)\nLetniki: 1. letnik (Fizika\, 1. stopnja)\, 
 2. letnik (Fizika\, 1. stopnja)\, 1. letnik (Pedagoška fizika\, 2. stopnj
 a)\, 2. letnik (Pedagoška fizika\, 2. stopnja)\nIzvajalci: Tomaž Zwitter
 \nProstori: F3
LOCATION:F3
ORGANIZER:Tomaž Zwitter
X-WR-TIMEZONE:Europe/Ljubljana
END:VEVENT
BEGIN:VEVENT
SUMMARY:Ustni izpiti
DTSTART;TZID=Europe/Ljubljana:20250908T090000
DTEND;TZID=Europe/Ljubljana:20250908T190000
DTSTAMP:20260421T162625Z
UID:fmf-AFLABS-URNIK:rezervacija:22689
ATTENDEE:1. letnik (Fizika, 1. stopnja)
ATTENDEE:1. letnik (Pedagoška fizika, 2. stopnja)
ATTENDEE:2. letnik (Fizika, 1. stopnja)
ATTENDEE:2. letnik (Pedagoška fizika, 2. stopnja)
CATEGORIES:Reservation
COLOR:royalblue
DESCRIPTION:Predmeti: Izbrana poglavja iz astrofizike in fizike delcev (PE
 F-1\, PEF-2)\, Naše in druga osončja (FIZ-2)\, Astronomska opazovanja (F
 IZ-1)\, Astronomija I (FIZ-2)\nLetniki: 1. letnik (Fizika\, 1. stopnja)\, 
 2. letnik (Fizika\, 1. stopnja)\, 1. letnik (Pedagoška fizika\, 2. stopnj
 a)\, 2. letnik (Pedagoška fizika\, 2. stopnja)\nIzvajalci: Tomaž Zwitter
 \nProstori: F3
LOCATION:F3
ORGANIZER:Tomaž Zwitter
X-WR-TIMEZONE:Europe/Ljubljana
END:VEVENT
BEGIN:VEVENT
SUMMARY:Ustni izpiti
DTSTART;TZID=Europe/Ljubljana:20250909T090000
DTEND;TZID=Europe/Ljubljana:20250909T190000
DTSTAMP:20260421T162625Z
UID:fmf-AFLABS-URNIK:rezervacija:22690
ATTENDEE:1. letnik (Fizika, 1. stopnja)
ATTENDEE:1. letnik (Pedagoška fizika, 2. stopnja)
ATTENDEE:2. letnik (Fizika, 1. stopnja)
ATTENDEE:2. letnik (Pedagoška fizika, 2. stopnja)
CATEGORIES:Reservation
COLOR:royalblue
DESCRIPTION:Predmeti: Izbrana poglavja iz astrofizike in fizike delcev (PE
 F-1\, PEF-2)\, Naše in druga osončja (FIZ-2)\, Astronomska opazovanja (F
 IZ-1)\, Astronomija I (FIZ-2)\nLetniki: 1. letnik (Fizika\, 1. stopnja)\, 
 2. letnik (Fizika\, 1. stopnja)\, 1. letnik (Pedagoška fizika\, 2. stopnj
 a)\, 2. letnik (Pedagoška fizika\, 2. stopnja)\nIzvajalci: Tomaž Zwitter
 \nProstori: F3
LOCATION:F3
ORGANIZER:Tomaž Zwitter
X-WR-TIMEZONE:Europe/Ljubljana
END:VEVENT
BEGIN:VEVENT
SUMMARY:Ustni izpiti
DTSTART;TZID=Europe/Ljubljana:20250910T090000
DTEND;TZID=Europe/Ljubljana:20250910T190000
DTSTAMP:20260421T162625Z
UID:fmf-AFLABS-URNIK:rezervacija:22691
ATTENDEE:1. letnik (Fizika, 1. stopnja)
ATTENDEE:1. letnik (Pedagoška fizika, 2. stopnja)
ATTENDEE:2. letnik (Fizika, 1. stopnja)
ATTENDEE:2. letnik (Pedagoška fizika, 2. stopnja)
CATEGORIES:Reservation
COLOR:royalblue
DESCRIPTION:Predmeti: Izbrana poglavja iz astrofizike in fizike delcev (PE
 F-1\, PEF-2)\, Naše in druga osončja (FIZ-2)\, Astronomska opazovanja (F
 IZ-1)\, Astronomija I (FIZ-2)\nLetniki: 1. letnik (Fizika\, 1. stopnja)\, 
 2. letnik (Fizika\, 1. stopnja)\, 1. letnik (Pedagoška fizika\, 2. stopnj
 a)\, 2. letnik (Pedagoška fizika\, 2. stopnja)\nIzvajalci: Tomaž Zwitter
 \nProstori: F3
LOCATION:F3
ORGANIZER:Tomaž Zwitter
X-WR-TIMEZONE:Europe/Ljubljana
END:VEVENT
BEGIN:VEVENT
SUMMARY:Ustni izpiti
DTSTART;TZID=Europe/Ljubljana:20250911T090000
DTEND;TZID=Europe/Ljubljana:20250911T190000
DTSTAMP:20260421T162625Z
UID:fmf-AFLABS-URNIK:rezervacija:22692
ATTENDEE:1. letnik (Fizika, 1. stopnja)
ATTENDEE:1. letnik (Pedagoška fizika, 2. stopnja)
ATTENDEE:2. letnik (Fizika, 1. stopnja)
ATTENDEE:2. letnik (Pedagoška fizika, 2. stopnja)
CATEGORIES:Reservation
COLOR:royalblue
DESCRIPTION:Predmeti: Izbrana poglavja iz astrofizike in fizike delcev (PE
 F-1\, PEF-2)\, Naše in druga osončja (FIZ-2)\, Astronomska opazovanja (F
 IZ-1)\, Astronomija I (FIZ-2)\nLetniki: 1. letnik (Fizika\, 1. stopnja)\, 
 2. letnik (Fizika\, 1. stopnja)\, 1. letnik (Pedagoška fizika\, 2. stopnj
 a)\, 2. letnik (Pedagoška fizika\, 2. stopnja)\nIzvajalci: Tomaž Zwitter
 \nProstori: F3
LOCATION:F3
ORGANIZER:Tomaž Zwitter
X-WR-TIMEZONE:Europe/Ljubljana
END:VEVENT
BEGIN:VEVENT
SUMMARY:Ustni izpiti
DTSTART;TZID=Europe/Ljubljana:20250912T090000
DTEND;TZID=Europe/Ljubljana:20250912T190000
DTSTAMP:20260421T162625Z
UID:fmf-AFLABS-URNIK:rezervacija:22693
ATTENDEE:1. letnik (Fizika, 1. stopnja)
ATTENDEE:1. letnik (Pedagoška fizika, 2. stopnja)
ATTENDEE:2. letnik (Fizika, 1. stopnja)
ATTENDEE:2. letnik (Pedagoška fizika, 2. stopnja)
CATEGORIES:Reservation
COLOR:royalblue
DESCRIPTION:Predmeti: Izbrana poglavja iz astrofizike in fizike delcev (PE
 F-1\, PEF-2)\, Naše in druga osončja (FIZ-2)\, Astronomska opazovanja (F
 IZ-1)\, Astronomija I (FIZ-2)\nLetniki: 1. letnik (Fizika\, 1. stopnja)\, 
 2. letnik (Fizika\, 1. stopnja)\, 1. letnik (Pedagoška fizika\, 2. stopnj
 a)\, 2. letnik (Pedagoška fizika\, 2. stopnja)\nIzvajalci: Tomaž Zwitter
 \nProstori: F3
LOCATION:F3
ORGANIZER:Tomaž Zwitter
X-WR-TIMEZONE:Europe/Ljubljana
END:VEVENT
BEGIN:VEVENT
SUMMARY:Ustni izpiti
DTSTART;TZID=Europe/Ljubljana:20250828T090000
DTEND;TZID=Europe/Ljubljana:20250828T170000
DTSTAMP:20260421T162625Z
UID:fmf-AFLABS-URNIK:rezervacija:22879
ATTENDEE:1. letnik (Fizika, 1. stopnja)
ATTENDEE:1. letnik (Pedagoška fizika, 2. stopnja)
ATTENDEE:2. letnik (Fizika, 1. stopnja)
ATTENDEE:2. letnik (Pedagoška fizika, 2. stopnja)
CATEGORIES:Reservation
COLOR:royalblue
DESCRIPTION:Predmeti: Izbrana poglavja iz astrofizike in fizike delcev (PE
 F-1\, PEF-2)\, Naše in druga osončja (FIZ-2)\, Astronomska opazovanja (F
 IZ-1)\, Astronomija I (FIZ-2)\nLetniki: 1. letnik (Fizika\, 1. stopnja)\, 
 2. letnik (Fizika\, 1. stopnja)\, 1. letnik (Pedagoška fizika\, 2. stopnj
 a)\, 2. letnik (Pedagoška fizika\, 2. stopnja)\nIzvajalci: Tomaž Zwitter
 \nProstori: F3
LOCATION:F3
ORGANIZER:Tomaž Zwitter
X-WR-TIMEZONE:Europe/Ljubljana
END:VEVENT
END:VCALENDAR
