BEGIN:VCALENDAR
VERSION:2.0
PRODID:-//AFLabs urnik izvoz - fmf//aflabs.si//SI
DTSTAMP:20260423T233605Z
NAME:UL FMF urnik
REFRESH-INTERVAL:PT1H
SOURCE:https://urnik.fmf.uni-lj.si/teacher/9?day=2020-06-15&export=1
URL:https://urnik.fmf.uni-lj.si/teacher/9?day=2020-06-15&export=1
X-PUBLISHED-TTL:PT1H
X-WR-CALNAME:UL FMF urnik
X-WR-TIMEZONE:Europe/Ljubljana
BEGIN:VTIMEZONE
TZID:Europe/Ljubljana
BEGIN:DAYLIGHT
DTSTART:20260329T020000
RDATE:20260329T020000
RDATE:20270328T020000
TZNAME:CEST
TZOFFSETFROM:+0100
TZOFFSETTO:+0200
END:DAYLIGHT
BEGIN:STANDARD
DTSTART:20261025T030000
RDATE:20261025T030000
RDATE:20271031T030000
TZNAME:CET
TZOFFSETFROM:+0200
TZOFFSETTO:+0100
END:STANDARD
END:VTIMEZONE
BEGIN:VEVENT
SUMMARY:Govorilna ura ()\, Predavanja (P)
DTSTART;TZID=Europe/Ljubljana:20200512T090000
DTEND;TZID=Europe/Ljubljana:20200512T100000
DTSTAMP:20260423T233605Z
UID:fmf-AFLABS-URNIK:premaknjeno-srecanje:40541
CATEGORIES:Entry,Standard
COLOR:darkgreen
DESCRIPTION:Predmet: Govorilna ura ()\, Predavanja (P)\nLetniki: \nIzvajal
 ci: Matjaž Konvalinka\nProstor: 4.14
LOCATION:4.14
ORGANIZER:Matjaž Konvalinka
RELATED-TO:fmf-AFLABS-URNIK:srecanje:4155
X-WR-TIMEZONE:Europe/Ljubljana
END:VEVENT
BEGIN:VEVENT
SUMMARY:Govorilna ura ()\, Predavanja (P)
DTSTART;TZID=Europe/Ljubljana:20200519T090000
DTEND;TZID=Europe/Ljubljana:20200519T100000
DTSTAMP:20260423T233605Z
UID:fmf-AFLABS-URNIK:premaknjeno-srecanje:40542
CATEGORIES:Entry,Standard
COLOR:darkgreen
DESCRIPTION:Predmet: Govorilna ura ()\, Predavanja (P)\nLetniki: \nIzvajal
 ci: Matjaž Konvalinka\nProstor: 4.14
LOCATION:4.14
ORGANIZER:Matjaž Konvalinka
RELATED-TO:fmf-AFLABS-URNIK:srecanje:4155
X-WR-TIMEZONE:Europe/Ljubljana
END:VEVENT
BEGIN:VEVENT
SUMMARY:Govorilna ura ()\, Predavanja (P)
DTSTART;TZID=Europe/Ljubljana:20200526T090000
DTEND;TZID=Europe/Ljubljana:20200526T100000
DTSTAMP:20260423T233605Z
UID:fmf-AFLABS-URNIK:premaknjeno-srecanje:40543
CATEGORIES:Entry,Standard
COLOR:darkgreen
DESCRIPTION:Predmet: Govorilna ura ()\, Predavanja (P)\nLetniki: \nIzvajal
 ci: Matjaž Konvalinka\nProstor: 4.14
LOCATION:4.14
ORGANIZER:Matjaž Konvalinka
RELATED-TO:fmf-AFLABS-URNIK:srecanje:4155
X-WR-TIMEZONE:Europe/Ljubljana
END:VEVENT
BEGIN:VEVENT
SUMMARY:Optimizacijske metode (IŠRM-2)\, Predavanja (P)
DTSTART;TZID=Europe/Ljubljana:20200512T120000
DTEND;TZID=Europe/Ljubljana:20200512T150000
DTSTAMP:20260423T233605Z
UID:fmf-AFLABS-URNIK:premaknjeno-srecanje:80206
ATTENDEE:2. letnik (IŠRM)
CATEGORIES:Entry,Standard
COLOR:darkgreen
DESCRIPTION:Predmet: Optimizacijske metode (IŠRM-2)\, Predavanja (P)\nLet
 niki: 2. letnik (IŠRM)\nIzvajalci: Matjaž Konvalinka\nProstor: 3.04
LOCATION:3.04
ORGANIZER:Matjaž Konvalinka
RELATED-TO:fmf-AFLABS-URNIK:srecanje:4346
X-WR-TIMEZONE:Europe/Ljubljana
END:VEVENT
BEGIN:VEVENT
SUMMARY:Optimizacijske metode (IŠRM-2)\, Predavanja (P)
DTSTART;TZID=Europe/Ljubljana:20200519T120000
DTEND;TZID=Europe/Ljubljana:20200519T150000
DTSTAMP:20260423T233605Z
UID:fmf-AFLABS-URNIK:premaknjeno-srecanje:80207
ATTENDEE:2. letnik (IŠRM)
CATEGORIES:Entry,Standard
COLOR:darkgreen
DESCRIPTION:Predmet: Optimizacijske metode (IŠRM-2)\, Predavanja (P)\nLet
 niki: 2. letnik (IŠRM)\nIzvajalci: Matjaž Konvalinka\nProstor: 3.04
LOCATION:3.04
ORGANIZER:Matjaž Konvalinka
RELATED-TO:fmf-AFLABS-URNIK:srecanje:4346
X-WR-TIMEZONE:Europe/Ljubljana
END:VEVENT
BEGIN:VEVENT
SUMMARY:Optimizacijske metode (IŠRM-2)\, Predavanja (P)
DTSTART;TZID=Europe/Ljubljana:20200526T120000
DTEND;TZID=Europe/Ljubljana:20200526T150000
DTSTAMP:20260423T233605Z
UID:fmf-AFLABS-URNIK:premaknjeno-srecanje:80208
ATTENDEE:2. letnik (IŠRM)
CATEGORIES:Entry,Standard
COLOR:darkgreen
DESCRIPTION:Predmet: Optimizacijske metode (IŠRM-2)\, Predavanja (P)\nLet
 niki: 2. letnik (IŠRM)\nIzvajalci: Matjaž Konvalinka\nProstor: 3.04
LOCATION:3.04
ORGANIZER:Matjaž Konvalinka
RELATED-TO:fmf-AFLABS-URNIK:srecanje:4346
X-WR-TIMEZONE:Europe/Ljubljana
END:VEVENT
BEGIN:VEVENT
SUMMARY:Matematika za nadarjene (PM-4\, PM-5)\, Predavanja (P)
DTSTART;TZID=Europe/Ljubljana:20200513T100000
DTEND;TZID=Europe/Ljubljana:20200513T120000
DTSTAMP:20260423T233605Z
UID:fmf-AFLABS-URNIK:premaknjeno-srecanje:67790
ATTENDEE:4. letnik (PM)
ATTENDEE:5. letnik (PM)
CATEGORIES:Entry,Standard
COLOR:darkgreen
DESCRIPTION:Predmet: Matematika za nadarjene (PM-4\, PM-5)\, Predavanja (P
 )\nLetniki: 4. letnik (PM)\, 5. letnik (PM)\nIzvajalci: Matjaž Konvalinka
 \nProstor: F3
LOCATION:F3
ORGANIZER:Matjaž Konvalinka
RELATED-TO:fmf-AFLABS-URNIK:srecanje:4535
X-WR-TIMEZONE:Europe/Ljubljana
END:VEVENT
BEGIN:VEVENT
SUMMARY:Matematika za nadarjene (PM-4\, PM-5)\, Predavanja (P)
DTSTART;TZID=Europe/Ljubljana:20200520T100000
DTEND;TZID=Europe/Ljubljana:20200520T120000
DTSTAMP:20260423T233605Z
UID:fmf-AFLABS-URNIK:premaknjeno-srecanje:67791
ATTENDEE:4. letnik (PM)
ATTENDEE:5. letnik (PM)
CATEGORIES:Entry,Standard
COLOR:darkgreen
DESCRIPTION:Predmet: Matematika za nadarjene (PM-4\, PM-5)\, Predavanja (P
 )\nLetniki: 4. letnik (PM)\, 5. letnik (PM)\nIzvajalci: Matjaž Konvalinka
 \nProstor: F3
LOCATION:F3
ORGANIZER:Matjaž Konvalinka
RELATED-TO:fmf-AFLABS-URNIK:srecanje:4535
X-WR-TIMEZONE:Europe/Ljubljana
END:VEVENT
BEGIN:VEVENT
SUMMARY:Matematika za nadarjene (PM-4\, PM-5)\, Predavanja (P)
DTSTART;TZID=Europe/Ljubljana:20200527T100000
DTEND;TZID=Europe/Ljubljana:20200527T120000
DTSTAMP:20260423T233605Z
UID:fmf-AFLABS-URNIK:premaknjeno-srecanje:67792
ATTENDEE:4. letnik (PM)
ATTENDEE:5. letnik (PM)
CATEGORIES:Entry,Standard
COLOR:darkgreen
DESCRIPTION:Predmet: Matematika za nadarjene (PM-4\, PM-5)\, Predavanja (P
 )\nLetniki: 4. letnik (PM)\, 5. letnik (PM)\nIzvajalci: Matjaž Konvalinka
 \nProstor: F3
LOCATION:F3
ORGANIZER:Matjaž Konvalinka
RELATED-TO:fmf-AFLABS-URNIK:srecanje:4535
X-WR-TIMEZONE:Europe/Ljubljana
END:VEVENT
BEGIN:VEVENT
SUMMARY:Matematični seminar (MAT-M)\, Seminar (S)
DTSTART;TZID=Europe/Ljubljana:20200515T080000
DTEND;TZID=Europe/Ljubljana:20200515T110000
DTSTAMP:20260423T233605Z
UID:fmf-AFLABS-URNIK:premaknjeno-srecanje:69055
ATTENDEE:magistrski študij (M)
CATEGORIES:Entry,Standard
COLOR:darkgreen
DESCRIPTION:Predmet: Matematični seminar (MAT-M)\, Seminar (S)\nLetniki: 
 magistrski študij (M)\nIzvajalci: Matjaž Konvalinka\nProstor: 3.04
LOCATION:3.04
ORGANIZER:Matjaž Konvalinka
RELATED-TO:fmf-AFLABS-URNIK:srecanje:4281
X-WR-TIMEZONE:Europe/Ljubljana
END:VEVENT
BEGIN:VEVENT
SUMMARY:Matematični seminar (MAT-M)\, Seminar (S)
DTSTART;TZID=Europe/Ljubljana:20200522T080000
DTEND;TZID=Europe/Ljubljana:20200522T110000
DTSTAMP:20260423T233605Z
UID:fmf-AFLABS-URNIK:premaknjeno-srecanje:69056
ATTENDEE:magistrski študij (M)
CATEGORIES:Entry,Standard
COLOR:darkgreen
DESCRIPTION:Predmet: Matematični seminar (MAT-M)\, Seminar (S)\nLetniki: 
 magistrski študij (M)\nIzvajalci: Matjaž Konvalinka\nProstor: 3.04
LOCATION:3.04
ORGANIZER:Matjaž Konvalinka
RELATED-TO:fmf-AFLABS-URNIK:srecanje:4281
X-WR-TIMEZONE:Europe/Ljubljana
END:VEVENT
BEGIN:VEVENT
SUMMARY:Matematični seminar (MAT-M)\, Seminar (S)
DTSTART;TZID=Europe/Ljubljana:20200529T080000
DTEND;TZID=Europe/Ljubljana:20200529T110000
DTSTAMP:20260423T233605Z
UID:fmf-AFLABS-URNIK:premaknjeno-srecanje:69057
ATTENDEE:magistrski študij (M)
CATEGORIES:Entry,Standard
COLOR:darkgreen
DESCRIPTION:Predmet: Matematični seminar (MAT-M)\, Seminar (S)\nLetniki: 
 magistrski študij (M)\nIzvajalci: Matjaž Konvalinka\nProstor: 3.04
LOCATION:3.04
ORGANIZER:Matjaž Konvalinka
RELATED-TO:fmf-AFLABS-URNIK:srecanje:4281
X-WR-TIMEZONE:Europe/Ljubljana
END:VEVENT
BEGIN:VEVENT
SUMMARY:Rezervacija
DTSTART;TZID=Europe/Ljubljana:20200611T100000
DTEND;TZID=Europe/Ljubljana:20200611T120000
DTSTAMP:20260423T233605Z
UID:fmf-AFLABS-URNIK:rezervacija:5474
CATEGORIES:Reservation
COLOR:royalblue
DESCRIPTION:Predmeti: \nLetniki: \nIzvajalci: Matjaž Konvalinka\, Arjana 
 Žitnik\nProstori: 3.04\, 3.05
LOCATION:3.04\, 3.05
ORGANIZER:Matjaž Konvalinka, Arjana Žitnik
X-WR-TIMEZONE:Europe/Ljubljana
END:VEVENT
BEGIN:VEVENT
SUMMARY:Rezervacija
DTSTART;TZID=Europe/Ljubljana:20200617T090000
DTEND;TZID=Europe/Ljubljana:20200617T130000
DTSTAMP:20260423T233605Z
UID:fmf-AFLABS-URNIK:rezervacija:5548
ATTENDEE:2. letnik (IŠRM)
CATEGORIES:Reservation
COLOR:royalblue
DESCRIPTION:Predmeti: Optimizacijske metode (IŠRM-2)\nLetniki: 2. letnik 
 (IŠRM)\nIzvajalci: Matjaž Konvalinka\nProstori: 2.04
LOCATION:2.04
ORGANIZER:Matjaž Konvalinka
X-WR-TIMEZONE:Europe/Ljubljana
END:VEVENT
BEGIN:VEVENT
SUMMARY:Rezervacija
DTSTART;TZID=Europe/Ljubljana:20200618T140000
DTEND;TZID=Europe/Ljubljana:20200618T170000
DTSTAMP:20260423T233605Z
UID:fmf-AFLABS-URNIK:rezervacija:5580
ATTENDEE:2. letnik (IŠRM)
CATEGORIES:Reservation
COLOR:royalblue
DESCRIPTION:Predmeti: Optimizacijske metode (IŠRM-2)\nLetniki: 2. letnik 
 (IŠRM)\nIzvajalci: Matjaž Konvalinka\nProstori: 3.04
LOCATION:3.04
ORGANIZER:Matjaž Konvalinka
X-WR-TIMEZONE:Europe/Ljubljana
END:VEVENT
BEGIN:VEVENT
SUMMARY:Rezervacija
DTSTART;TZID=Europe/Ljubljana:20200619T090000
DTEND;TZID=Europe/Ljubljana:20200619T160000
DTSTAMP:20260423T233605Z
UID:fmf-AFLABS-URNIK:rezervacija:5590
ATTENDEE:2. letnik (IŠRM)
CATEGORIES:Reservation
COLOR:royalblue
DESCRIPTION:Predmeti: Optimizacijske metode (IŠRM-2)\nLetniki: 2. letnik 
 (IŠRM)\nIzvajalci: Matjaž Konvalinka\nProstori: 3.06
LOCATION:3.06
ORGANIZER:Matjaž Konvalinka
X-WR-TIMEZONE:Europe/Ljubljana
END:VEVENT
BEGIN:VEVENT
SUMMARY:Rezervacija
DTSTART;TZID=Europe/Ljubljana:20200619T100000
DTEND;TZID=Europe/Ljubljana:20200619T120000
DTSTAMP:20260423T233605Z
UID:fmf-AFLABS-URNIK:rezervacija:5593
CATEGORIES:Reservation
COLOR:royalblue
DESCRIPTION:Predmeti: \nLetniki: \nIzvajalci: Vesna Iršič\, Matjaž Konv
 alinka\nProstori: 2.03
LOCATION:2.03
ORGANIZER:Vesna Iršič, Matjaž Konvalinka
X-WR-TIMEZONE:Europe/Ljubljana
END:VEVENT
BEGIN:VEVENT
SUMMARY:Rezervacija
DTSTART;TZID=Europe/Ljubljana:20200622T140000
DTEND;TZID=Europe/Ljubljana:20200622T160000
DTSTAMP:20260423T233605Z
UID:fmf-AFLABS-URNIK:rezervacija:5618
CATEGORIES:Reservation
COLOR:royalblue
DESCRIPTION:Predmeti: \nLetniki: \nIzvajalci: Matjaž Konvalinka\, Arjana 
 Žitnik\nProstori: P.02
LOCATION:P.02
ORGANIZER:Matjaž Konvalinka, Arjana Žitnik
X-WR-TIMEZONE:Europe/Ljubljana
END:VEVENT
BEGIN:VEVENT
SUMMARY:Rezervacija
DTSTART;TZID=Europe/Ljubljana:20200630T090000
DTEND;TZID=Europe/Ljubljana:20200630T120000
DTSTAMP:20260423T233605Z
UID:fmf-AFLABS-URNIK:rezervacija:5714
CATEGORIES:Reservation
COLOR:royalblue
DESCRIPTION:Predmeti: \nLetniki: \nIzvajalci: Matjaž Konvalinka\nProstori
 : 2.04
LOCATION:2.04
ORGANIZER:Matjaž Konvalinka
X-WR-TIMEZONE:Europe/Ljubljana
END:VEVENT
BEGIN:VEVENT
SUMMARY:Rezervacija
DTSTART;TZID=Europe/Ljubljana:20200703T110000
DTEND;TZID=Europe/Ljubljana:20200703T120000
DTSTAMP:20260423T233605Z
UID:fmf-AFLABS-URNIK:rezervacija:5774
CATEGORIES:Reservation
COLOR:royalblue
DESCRIPTION:Predmeti: \nLetniki: \nIzvajalci: Matjaž Konvalinka\nProstori
 : 3.12
LOCATION:3.12
ORGANIZER:Matjaž Konvalinka
X-WR-TIMEZONE:Europe/Ljubljana
END:VEVENT
BEGIN:VEVENT
SUMMARY:Rezervacija
DTSTART;TZID=Europe/Ljubljana:20200703T140000
DTEND;TZID=Europe/Ljubljana:20200703T150000
DTSTAMP:20260423T233605Z
UID:fmf-AFLABS-URNIK:rezervacija:5780
CATEGORIES:Reservation
COLOR:royalblue
DESCRIPTION:Predmeti: \nLetniki: \nIzvajalci: Matjaž Konvalinka\nProstori
 : 3.08
LOCATION:3.08
ORGANIZER:Matjaž Konvalinka
X-WR-TIMEZONE:Europe/Ljubljana
END:VEVENT
BEGIN:VEVENT
SUMMARY:Rezervacija
DTSTART;TZID=Europe/Ljubljana:20200713T110000
DTEND;TZID=Europe/Ljubljana:20200713T160000
DTSTAMP:20260423T233605Z
UID:fmf-AFLABS-URNIK:rezervacija:5858
CATEGORIES:Reservation
COLOR:royalblue
DESCRIPTION:Predmeti: \nLetniki: \nIzvajalci: Matjaž Konvalinka\nProstori
 : 3.09
LOCATION:3.09
ORGANIZER:Matjaž Konvalinka
X-WR-TIMEZONE:Europe/Ljubljana
END:VEVENT
BEGIN:VEVENT
SUMMARY:Rezervacija
DTSTART;TZID=Europe/Ljubljana:20200714T100000
DTEND;TZID=Europe/Ljubljana:20200714T120000
DTSTAMP:20260423T233605Z
UID:fmf-AFLABS-URNIK:rezervacija:5865
CATEGORIES:Reservation
COLOR:royalblue
DESCRIPTION:Predmeti: \nLetniki: \nIzvajalci: Matjaž Konvalinka\nProstori
 : 3.06
LOCATION:3.06
ORGANIZER:Matjaž Konvalinka
X-WR-TIMEZONE:Europe/Ljubljana
END:VEVENT
BEGIN:VEVENT
SUMMARY:Rezervacija
DTSTART;TZID=Europe/Ljubljana:20200715T100000
DTEND;TZID=Europe/Ljubljana:20200715T150000
DTSTAMP:20260423T233605Z
UID:fmf-AFLABS-URNIK:rezervacija:5872
CATEGORIES:Reservation
COLOR:royalblue
DESCRIPTION:Predmeti: \nLetniki: \nIzvajalci: Matjaž Konvalinka\nProstori
 : 3.06
LOCATION:3.06
ORGANIZER:Matjaž Konvalinka
X-WR-TIMEZONE:Europe/Ljubljana
END:VEVENT
BEGIN:VEVENT
SUMMARY:Rezervacija
DTSTART;TZID=Europe/Ljubljana:20200716T130000
DTEND;TZID=Europe/Ljubljana:20200716T150000
DTSTAMP:20260423T233605Z
UID:fmf-AFLABS-URNIK:rezervacija:5883
CATEGORIES:Reservation
COLOR:royalblue
DESCRIPTION:Predmeti: \nLetniki: \nIzvajalci: Matjaž Konvalinka\nProstori
 : 3.06
LOCATION:3.06
ORGANIZER:Matjaž Konvalinka
X-WR-TIMEZONE:Europe/Ljubljana
END:VEVENT
BEGIN:VEVENT
SUMMARY:Rezervacija
DTSTART;TZID=Europe/Ljubljana:20200717T100000
DTEND;TZID=Europe/Ljubljana:20200717T120000
DTSTAMP:20260423T233605Z
UID:fmf-AFLABS-URNIK:rezervacija:5886
CATEGORIES:Reservation
COLOR:royalblue
DESCRIPTION:Predmeti: \nLetniki: \nIzvajalci: Matjaž Konvalinka\nProstori
 : 3.06
LOCATION:3.06
ORGANIZER:Matjaž Konvalinka
X-WR-TIMEZONE:Europe/Ljubljana
END:VEVENT
END:VCALENDAR
