BEGIN:VCALENDAR
VERSION:2.0
PRODID:-//AFLabs urnik izvoz - fmf//aflabs.si//SI
DTSTAMP:20260423T113757Z
NAME:UL FMF urnik
REFRESH-INTERVAL:PT1H
SOURCE:https://urnik.fmf.uni-lj.si/teacher/9?day=2020-09-07&export=1
URL:https://urnik.fmf.uni-lj.si/teacher/9?day=2020-09-07&export=1
X-PUBLISHED-TTL:PT1H
X-WR-CALNAME:UL FMF urnik
X-WR-TIMEZONE:Europe/Ljubljana
BEGIN:VTIMEZONE
TZID:Europe/Ljubljana
BEGIN:DAYLIGHT
DTSTART:20260329T020000
RDATE:20260329T020000
RDATE:20270328T020000
TZNAME:CEST
TZOFFSETFROM:+0100
TZOFFSETTO:+0200
END:DAYLIGHT
BEGIN:STANDARD
DTSTART:20261025T030000
RDATE:20261025T030000
RDATE:20271031T030000
TZNAME:CET
TZOFFSETFROM:+0200
TZOFFSETTO:+0100
END:STANDARD
END:VTIMEZONE
BEGIN:VEVENT
SUMMARY:Kombinatorika (IŠRM-2)\, Predavanja (P)
DTSTART;TZID=Europe/Ljubljana:20201005T100000
DTEND;TZID=Europe/Ljubljana:20201005T130000
DTSTAMP:20260423T113757Z
UID:fmf-AFLABS-URNIK:premaknjeno-srecanje:54334
ATTENDEE:2. letnik (IŠRM)
CATEGORIES:Entry,Standard
COLOR:darkgreen
DESCRIPTION:Predmet: Kombinatorika (IŠRM-2)\, Predavanja (P)\nLetniki: 2.
  letnik (IŠRM)\nIzvajalci: Matjaž Konvalinka\nProstor: 2.03
LOCATION:2.03
ORGANIZER:Matjaž Konvalinka
RELATED-TO:fmf-AFLABS-URNIK:srecanje:4917
X-WR-TIMEZONE:Europe/Ljubljana
END:VEVENT
BEGIN:VEVENT
SUMMARY:Kombinatorika (IŠRM-2)\, Predavanja (P)
DTSTART;TZID=Europe/Ljubljana:20201012T100000
DTEND;TZID=Europe/Ljubljana:20201012T130000
DTSTAMP:20260423T113757Z
UID:fmf-AFLABS-URNIK:premaknjeno-srecanje:54335
ATTENDEE:2. letnik (IŠRM)
CATEGORIES:Entry,Standard
COLOR:darkgreen
DESCRIPTION:Predmet: Kombinatorika (IŠRM-2)\, Predavanja (P)\nLetniki: 2.
  letnik (IŠRM)\nIzvajalci: Matjaž Konvalinka\nProstor: 2.03
LOCATION:2.03
ORGANIZER:Matjaž Konvalinka
RELATED-TO:fmf-AFLABS-URNIK:srecanje:4917
X-WR-TIMEZONE:Europe/Ljubljana
END:VEVENT
BEGIN:VEVENT
SUMMARY:Govorilna ura ()\, Ostalo (O)
DTSTART;TZID=Europe/Ljubljana:20201006T090000
DTEND;TZID=Europe/Ljubljana:20201006T100000
DTSTAMP:20260423T113757Z
UID:fmf-AFLABS-URNIK:premaknjeno-srecanje:39295
CATEGORIES:Entry,Standard
COLOR:darkgreen
DESCRIPTION:Predmet: Govorilna ura ()\, Ostalo (O)\nLetniki: \nIzvajalci: 
 Matjaž Konvalinka\nProstor: 4.14
LOCATION:4.14
ORGANIZER:Matjaž Konvalinka
RELATED-TO:fmf-AFLABS-URNIK:srecanje:4850
X-WR-TIMEZONE:Europe/Ljubljana
END:VEVENT
BEGIN:VEVENT
SUMMARY:MAT 2 (FKKT) ()\, Predavanja (P)
DTSTART;TZID=Europe/Ljubljana:20201007T080000
DTEND;TZID=Europe/Ljubljana:20201007T110000
DTSTAMP:20260423T113757Z
UID:fmf-AFLABS-URNIK:premaknjeno-srecanje:60121
CATEGORIES:Entry,Standard
COLOR:darkgreen
DESCRIPTION:Predmet: MAT 2 (FKKT) ()\, Predavanja (P)\nLetniki: \nIzvajalc
 i: Matjaž Konvalinka\nProstor: FKKT
LOCATION:FKKT
ORGANIZER:Matjaž Konvalinka
RELATED-TO:fmf-AFLABS-URNIK:srecanje:4948
X-WR-TIMEZONE:Europe/Ljubljana
END:VEVENT
BEGIN:VEVENT
SUMMARY:Rezervacija
DTSTART;TZID=Europe/Ljubljana:20200902T110000
DTEND;TZID=Europe/Ljubljana:20200902T120000
DTSTAMP:20260423T113757Z
UID:fmf-AFLABS-URNIK:rezervacija:6194
CATEGORIES:Reservation
COLOR:royalblue
DESCRIPTION:Predmeti: \nLetniki: \nIzvajalci: Matjaž Konvalinka\nProstori
 : 2.04
LOCATION:2.04
ORGANIZER:Matjaž Konvalinka
X-WR-TIMEZONE:Europe/Ljubljana
END:VEVENT
BEGIN:VEVENT
SUMMARY:Rezervacija
DTSTART;TZID=Europe/Ljubljana:20200904T100000
DTEND;TZID=Europe/Ljubljana:20200904T140000
DTSTAMP:20260423T113757Z
UID:fmf-AFLABS-URNIK:rezervacija:6254
CATEGORIES:Reservation
COLOR:royalblue
DESCRIPTION:Predmeti: \nLetniki: \nIzvajalci: Matjaž Konvalinka\nProstori
 : 3.11
LOCATION:3.11
ORGANIZER:Matjaž Konvalinka
X-WR-TIMEZONE:Europe/Ljubljana
END:VEVENT
BEGIN:VEVENT
SUMMARY:Rezervacija
DTSTART;TZID=Europe/Ljubljana:20200907T100000
DTEND;TZID=Europe/Ljubljana:20200907T150000
DTSTAMP:20260423T113757Z
UID:fmf-AFLABS-URNIK:rezervacija:6283
CATEGORIES:Reservation
COLOR:royalblue
DESCRIPTION:Predmeti: \nLetniki: \nIzvajalci: Matjaž Konvalinka\nProstori
 : 3.06
LOCATION:3.06
ORGANIZER:Matjaž Konvalinka
X-WR-TIMEZONE:Europe/Ljubljana
END:VEVENT
BEGIN:VEVENT
SUMMARY:Rezervacija
DTSTART;TZID=Europe/Ljubljana:20200908T100000
DTEND;TZID=Europe/Ljubljana:20200908T120000
DTSTAMP:20260423T113757Z
UID:fmf-AFLABS-URNIK:rezervacija:6306
CATEGORIES:Reservation
COLOR:royalblue
DESCRIPTION:Predmeti: \nLetniki: \nIzvajalci: Matjaž Konvalinka\nProstori
 : 3.06
LOCATION:3.06
ORGANIZER:Matjaž Konvalinka
X-WR-TIMEZONE:Europe/Ljubljana
END:VEVENT
BEGIN:VEVENT
SUMMARY:Rezervacija
DTSTART;TZID=Europe/Ljubljana:20200908T130000
DTEND;TZID=Europe/Ljubljana:20200908T140000
DTSTAMP:20260423T113757Z
UID:fmf-AFLABS-URNIK:rezervacija:6312
CATEGORIES:Reservation
COLOR:royalblue
DESCRIPTION:Predmeti: \nLetniki: \nIzvajalci: Matjaž Konvalinka\nProstori
 : 3.06
LOCATION:3.06
ORGANIZER:Matjaž Konvalinka
X-WR-TIMEZONE:Europe/Ljubljana
END:VEVENT
BEGIN:VEVENT
SUMMARY:Rezervacija
DTSTART;TZID=Europe/Ljubljana:20200908T140000
DTEND;TZID=Europe/Ljubljana:20200908T150000
DTSTAMP:20260423T113757Z
UID:fmf-AFLABS-URNIK:rezervacija:6313
CATEGORIES:Reservation
COLOR:royalblue
DESCRIPTION:Predmeti: \nLetniki: \nIzvajalci: Matjaž Konvalinka\nProstori
 : 3.06
LOCATION:3.06
ORGANIZER:Matjaž Konvalinka
X-WR-TIMEZONE:Europe/Ljubljana
END:VEVENT
BEGIN:VEVENT
SUMMARY:Rezervacija
DTSTART;TZID=Europe/Ljubljana:20200909T100000
DTEND;TZID=Europe/Ljubljana:20200909T110000
DTSTAMP:20260423T113757Z
UID:fmf-AFLABS-URNIK:rezervacija:6319
CATEGORIES:Reservation
COLOR:royalblue
DESCRIPTION:Predmeti: \nLetniki: \nIzvajalci: Matjaž Konvalinka\nProstori
 : 3.06
LOCATION:3.06
ORGANIZER:Matjaž Konvalinka
X-WR-TIMEZONE:Europe/Ljubljana
END:VEVENT
BEGIN:VEVENT
SUMMARY:Rezervacija
DTSTART;TZID=Europe/Ljubljana:20200909T110000
DTEND;TZID=Europe/Ljubljana:20200909T120000
DTSTAMP:20260423T113757Z
UID:fmf-AFLABS-URNIK:rezervacija:6326
CATEGORIES:Reservation
COLOR:royalblue
DESCRIPTION:Predmeti: \nLetniki: \nIzvajalci: Matjaž Konvalinka\nProstori
 : 3.06
LOCATION:3.06
ORGANIZER:Matjaž Konvalinka
X-WR-TIMEZONE:Europe/Ljubljana
END:VEVENT
BEGIN:VEVENT
SUMMARY:Rezervacija
DTSTART;TZID=Europe/Ljubljana:20200909T130000
DTEND;TZID=Europe/Ljubljana:20200909T140000
DTSTAMP:20260423T113757Z
UID:fmf-AFLABS-URNIK:rezervacija:6331
CATEGORIES:Reservation
COLOR:royalblue
DESCRIPTION:Predmeti: \nLetniki: \nIzvajalci: Matjaž Konvalinka\nProstori
 : 3.06
LOCATION:3.06
ORGANIZER:Matjaž Konvalinka
X-WR-TIMEZONE:Europe/Ljubljana
END:VEVENT
BEGIN:VEVENT
SUMMARY:Rezervacija
DTSTART;TZID=Europe/Ljubljana:20200909T140000
DTEND;TZID=Europe/Ljubljana:20200909T150000
DTSTAMP:20260423T113757Z
UID:fmf-AFLABS-URNIK:rezervacija:6334
CATEGORIES:Reservation
COLOR:royalblue
DESCRIPTION:Predmeti: \nLetniki: \nIzvajalci: Matjaž Konvalinka\nProstori
 : 3.06
LOCATION:3.06
ORGANIZER:Matjaž Konvalinka
X-WR-TIMEZONE:Europe/Ljubljana
END:VEVENT
BEGIN:VEVENT
SUMMARY:Rezervacija
DTSTART;TZID=Europe/Ljubljana:20200910T100000
DTEND;TZID=Europe/Ljubljana:20200910T110000
DTSTAMP:20260423T113757Z
UID:fmf-AFLABS-URNIK:rezervacija:6350
CATEGORIES:Reservation
COLOR:royalblue
DESCRIPTION:Predmeti: \nLetniki: \nIzvajalci: Matjaž Konvalinka\nProstori
 : 3.07
LOCATION:3.07
ORGANIZER:Matjaž Konvalinka
X-WR-TIMEZONE:Europe/Ljubljana
END:VEVENT
BEGIN:VEVENT
SUMMARY:Rezervacija
DTSTART;TZID=Europe/Ljubljana:20200910T110000
DTEND;TZID=Europe/Ljubljana:20200910T120000
DTSTAMP:20260423T113757Z
UID:fmf-AFLABS-URNIK:rezervacija:6354
CATEGORIES:Reservation
COLOR:royalblue
DESCRIPTION:Predmeti: \nLetniki: \nIzvajalci: Matjaž Konvalinka\nProstori
 : 3.07
LOCATION:3.07
ORGANIZER:Matjaž Konvalinka
X-WR-TIMEZONE:Europe/Ljubljana
END:VEVENT
BEGIN:VEVENT
SUMMARY:Rezervacija
DTSTART;TZID=Europe/Ljubljana:20200911T090000
DTEND;TZID=Europe/Ljubljana:20200911T100000
DTSTAMP:20260423T113757Z
UID:fmf-AFLABS-URNIK:rezervacija:6376
CATEGORIES:Reservation
COLOR:royalblue
DESCRIPTION:Predmeti: \nLetniki: \nIzvajalci: Matjaž Konvalinka\nProstori
 : 3.07
LOCATION:3.07
ORGANIZER:Matjaž Konvalinka
X-WR-TIMEZONE:Europe/Ljubljana
END:VEVENT
BEGIN:VEVENT
SUMMARY:Rezervacija
DTSTART;TZID=Europe/Ljubljana:20200911T110000
DTEND;TZID=Europe/Ljubljana:20200911T120000
DTSTAMP:20260423T113757Z
UID:fmf-AFLABS-URNIK:rezervacija:6387
CATEGORIES:Reservation
COLOR:royalblue
DESCRIPTION:Predmeti: \nLetniki: \nIzvajalci: Matjaž Konvalinka\nProstori
 : 3.07
LOCATION:3.07
ORGANIZER:Matjaž Konvalinka
X-WR-TIMEZONE:Europe/Ljubljana
END:VEVENT
BEGIN:VEVENT
SUMMARY:Rezervacija
DTSTART;TZID=Europe/Ljubljana:20200911T130000
DTEND;TZID=Europe/Ljubljana:20200911T140000
DTSTAMP:20260423T113757Z
UID:fmf-AFLABS-URNIK:rezervacija:6392
CATEGORIES:Reservation
COLOR:royalblue
DESCRIPTION:Predmeti: \nLetniki: \nIzvajalci: Matjaž Konvalinka\nProstori
 : 3.07
LOCATION:3.07
ORGANIZER:Matjaž Konvalinka
X-WR-TIMEZONE:Europe/Ljubljana
END:VEVENT
BEGIN:VEVENT
SUMMARY:Rezervacija
DTSTART;TZID=Europe/Ljubljana:20200911T140000
DTEND;TZID=Europe/Ljubljana:20200911T150000
DTSTAMP:20260423T113757Z
UID:fmf-AFLABS-URNIK:rezervacija:6395
CATEGORIES:Reservation
COLOR:royalblue
DESCRIPTION:Predmeti: \nLetniki: \nIzvajalci: Matjaž Konvalinka\nProstori
 : 3.07
LOCATION:3.07
ORGANIZER:Matjaž Konvalinka
X-WR-TIMEZONE:Europe/Ljubljana
END:VEVENT
BEGIN:VEVENT
SUMMARY:Rezervacija
DTSTART;TZID=Europe/Ljubljana:20201008T100000
DTEND;TZID=Europe/Ljubljana:20201008T110000
DTSTAMP:20260423T113757Z
UID:fmf-AFLABS-URNIK:rezervacija:6502
CATEGORIES:Reservation
COLOR:royalblue
DESCRIPTION:Predmeti: \nLetniki: \nIzvajalci: Matjaž Konvalinka\nProstori
 : 3.06
LOCATION:3.06
ORGANIZER:Matjaž Konvalinka
X-WR-TIMEZONE:Europe/Ljubljana
END:VEVENT
END:VCALENDAR
