BEGIN:VCALENDAR
VERSION:2.0
PRODID:-//AFLabs urnik izvoz - fmf//aflabs.si//SI
DTSTAMP:20260420T123348Z
NAME:UL FMF urnik
REFRESH-INTERVAL:PT1H
SOURCE:https://urnik.fmf.uni-lj.si/teacher/9?day=2021-08-23&export=1
URL:https://urnik.fmf.uni-lj.si/teacher/9?day=2021-08-23&export=1
X-PUBLISHED-TTL:PT1H
X-WR-CALNAME:UL FMF urnik
X-WR-TIMEZONE:Europe/Ljubljana
BEGIN:VTIMEZONE
TZID:Europe/Ljubljana
BEGIN:DAYLIGHT
DTSTART:20260329T020000
RDATE:20260329T020000
RDATE:20270328T020000
TZNAME:CEST
TZOFFSETFROM:+0100
TZOFFSETTO:+0200
END:DAYLIGHT
BEGIN:STANDARD
DTSTART:20261025T030000
RDATE:20261025T030000
RDATE:20271031T030000
TZNAME:CET
TZOFFSETFROM:+0200
TZOFFSETTO:+0100
END:STANDARD
END:VTIMEZONE
BEGIN:VEVENT
SUMMARY:Rezervacija
DTSTART;TZID=Europe/Ljubljana:20210721T100000
DTEND;TZID=Europe/Ljubljana:20210721T150000
DTSTAMP:20260420T123348Z
UID:fmf-AFLABS-URNIK:rezervacija:7330
CATEGORIES:Reservation
COLOR:royalblue
DESCRIPTION:Predmeti: \nLetniki: \nIzvajalci: Matjaž Konvalinka\nProstori
 : 3.11
LOCATION:3.11
ORGANIZER:Matjaž Konvalinka
X-WR-TIMEZONE:Europe/Ljubljana
END:VEVENT
BEGIN:VEVENT
SUMMARY:Rezervacija
DTSTART;TZID=Europe/Ljubljana:20210819T100000
DTEND;TZID=Europe/Ljubljana:20210819T140000
DTSTAMP:20260420T123348Z
UID:fmf-AFLABS-URNIK:rezervacija:7411
CATEGORIES:Reservation
COLOR:royalblue
DESCRIPTION:Predmeti: \nLetniki: \nIzvajalci: Matjaž Konvalinka\nProstori
 : 3.11
LOCATION:3.11
ORGANIZER:Matjaž Konvalinka
X-WR-TIMEZONE:Europe/Ljubljana
END:VEVENT
BEGIN:VEVENT
SUMMARY:Rezervacija
DTSTART;TZID=Europe/Ljubljana:20210825T130000
DTEND;TZID=Europe/Ljubljana:20210825T160000
DTSTAMP:20260420T123348Z
UID:fmf-AFLABS-URNIK:rezervacija:7497
CATEGORIES:Reservation
COLOR:royalblue
DESCRIPTION:Predmeti: \nLetniki: \nIzvajalci: Matjaž Konvalinka\nProstori
 : 3.11
LOCATION:3.11
ORGANIZER:Matjaž Konvalinka
X-WR-TIMEZONE:Europe/Ljubljana
END:VEVENT
BEGIN:VEVENT
SUMMARY:Rezervacija
DTSTART;TZID=Europe/Ljubljana:20210830T090000
DTEND;TZID=Europe/Ljubljana:20210830T120000
DTSTAMP:20260420T123348Z
UID:fmf-AFLABS-URNIK:rezervacija:7558
CATEGORIES:Reservation
COLOR:royalblue
DESCRIPTION:Predmeti: \nLetniki: \nIzvajalci: Matjaž Konvalinka\nProstori
 : 3.11
LOCATION:3.11
ORGANIZER:Matjaž Konvalinka
X-WR-TIMEZONE:Europe/Ljubljana
END:VEVENT
BEGIN:VEVENT
SUMMARY:Rezervacija
DTSTART;TZID=Europe/Ljubljana:20210902T090000
DTEND;TZID=Europe/Ljubljana:20210902T150000
DTSTAMP:20260420T123348Z
UID:fmf-AFLABS-URNIK:rezervacija:7630
CATEGORIES:Reservation
COLOR:royalblue
DESCRIPTION:Predmeti: \nLetniki: \nIzvajalci: Matjaž Konvalinka\nProstori
 : 3.11
LOCATION:3.11
ORGANIZER:Matjaž Konvalinka
X-WR-TIMEZONE:Europe/Ljubljana
END:VEVENT
BEGIN:VEVENT
SUMMARY:Rezervacija
DTSTART;TZID=Europe/Ljubljana:20210909T090000
DTEND;TZID=Europe/Ljubljana:20210909T170000
DTSTAMP:20260420T123348Z
UID:fmf-AFLABS-URNIK:rezervacija:7783
CATEGORIES:Reservation
COLOR:royalblue
DESCRIPTION:Predmeti: \nLetniki: \nIzvajalci: Matjaž Konvalinka\nProstori
 : 3.11
LOCATION:3.11
ORGANIZER:Matjaž Konvalinka
X-WR-TIMEZONE:Europe/Ljubljana
END:VEVENT
BEGIN:VEVENT
SUMMARY:Rezervacija
DTSTART;TZID=Europe/Ljubljana:20210910T100000
DTEND;TZID=Europe/Ljubljana:20210910T170000
DTSTAMP:20260420T123348Z
UID:fmf-AFLABS-URNIK:rezervacija:7826
CATEGORIES:Reservation
COLOR:royalblue
DESCRIPTION:Predmeti: \nLetniki: \nIzvajalci: Matjaž Konvalinka\nProstori
 : 3.11
LOCATION:3.11
ORGANIZER:Matjaž Konvalinka
X-WR-TIMEZONE:Europe/Ljubljana
END:VEVENT
END:VCALENDAR
