BEGIN:VCALENDAR
VERSION:2.0
PRODID:-//AFLabs urnik izvoz - fmf//aflabs.si//SI
DTSTAMP:20260425T103952Z
NAME:UL FMF urnik
REFRESH-INTERVAL:PT1H
SOURCE:https://urnik.fmf.uni-lj.si/teacher/9?day=2024-09-09&export=1
URL:https://urnik.fmf.uni-lj.si/teacher/9?day=2024-09-09&export=1
X-PUBLISHED-TTL:PT1H
X-WR-CALNAME:UL FMF urnik
X-WR-TIMEZONE:Europe/Ljubljana
BEGIN:VTIMEZONE
TZID:Europe/Ljubljana
BEGIN:DAYLIGHT
DTSTART:20260329T020000
RDATE:20260329T020000
RDATE:20270328T020000
TZNAME:CEST
TZOFFSETFROM:+0100
TZOFFSETTO:+0200
END:DAYLIGHT
BEGIN:STANDARD
DTSTART:20261025T030000
RDATE:20261025T030000
RDATE:20271031T030000
TZNAME:CET
TZOFFSETFROM:+0200
TZOFFSETTO:+0100
END:STANDARD
END:VTIMEZONE
BEGIN:VEVENT
SUMMARY:Matematika II (FKKT) ()\, Predavanja (P)
DTSTART;TZID=Europe/Ljubljana:20241002T080000
DTEND;TZID=Europe/Ljubljana:20241002T110000
DTSTAMP:20260425T103952Z
UID:fmf-AFLABS-URNIK:premaknjeno-srecanje:194646
CATEGORIES:Entry,Standard
COLOR:darkgreen
DESCRIPTION:Predmet: Matematika II (FKKT) ()\, Predavanja (P)\nLetniki: \n
 Izvajalci: Matjaž Konvalinka\nProstor: FKKT
LOCATION:FKKT
ORGANIZER:Matjaž Konvalinka
RELATED-TO:fmf-AFLABS-URNIK:srecanje:14447
X-WR-TIMEZONE:Europe/Ljubljana
END:VEVENT
BEGIN:VEVENT
SUMMARY:Matematika II (FKKT) ()\, Predavanja (P)
DTSTART;TZID=Europe/Ljubljana:20241009T080000
DTEND;TZID=Europe/Ljubljana:20241009T110000
DTSTAMP:20260425T103952Z
UID:fmf-AFLABS-URNIK:premaknjeno-srecanje:194647
CATEGORIES:Entry,Standard
COLOR:darkgreen
DESCRIPTION:Predmet: Matematika II (FKKT) ()\, Predavanja (P)\nLetniki: \n
 Izvajalci: Matjaž Konvalinka\nProstor: FKKT
LOCATION:FKKT
ORGANIZER:Matjaž Konvalinka
RELATED-TO:fmf-AFLABS-URNIK:srecanje:14447
X-WR-TIMEZONE:Europe/Ljubljana
END:VEVENT
BEGIN:VEVENT
SUMMARY:Kombinatorika (IŠRM-2)\, Predavanja (P)
DTSTART;TZID=Europe/Ljubljana:20241007T120000
DTEND;TZID=Europe/Ljubljana:20241007T150000
DTSTAMP:20260425T103952Z
UID:fmf-AFLABS-URNIK:premaknjeno-srecanje:181252
ATTENDEE:2. letnik (IŠRM)
CATEGORIES:Entry,Standard
COLOR:darkgreen
DESCRIPTION:Predmet: Kombinatorika (IŠRM-2)\, Predavanja (P)\nLetniki: 2.
  letnik (IŠRM)\nIzvajalci: Matjaž Konvalinka\nProstor: 2.03
LOCATION:2.03
ORGANIZER:Matjaž Konvalinka
RELATED-TO:fmf-AFLABS-URNIK:srecanje:13803
X-WR-TIMEZONE:Europe/Ljubljana
END:VEVENT
BEGIN:VEVENT
SUMMARY:Kombinatorika (IŠRM-2)\, Predavanja (P)
DTSTART;TZID=Europe/Ljubljana:20241014T120000
DTEND;TZID=Europe/Ljubljana:20241014T150000
DTSTAMP:20260425T103952Z
UID:fmf-AFLABS-URNIK:premaknjeno-srecanje:181253
ATTENDEE:2. letnik (IŠRM)
CATEGORIES:Entry,Standard
COLOR:darkgreen
DESCRIPTION:Predmet: Kombinatorika (IŠRM-2)\, Predavanja (P)\nLetniki: 2.
  letnik (IŠRM)\nIzvajalci: Matjaž Konvalinka\nProstor: 2.03
LOCATION:2.03
ORGANIZER:Matjaž Konvalinka
RELATED-TO:fmf-AFLABS-URNIK:srecanje:13803
X-WR-TIMEZONE:Europe/Ljubljana
END:VEVENT
BEGIN:VEVENT
SUMMARY:Kombinatorika\, 3. pisni izpit
DTSTART;TZID=Europe/Ljubljana:20240827T110000
DTEND;TZID=Europe/Ljubljana:20240827T130000
DTSTAMP:20260425T103952Z
UID:fmf-AFLABS-URNIK:rezervacija:17554
CATEGORIES:Reservation
COLOR:royalblue
DESCRIPTION:Predmeti: \nLetniki: \nIzvajalci: Matjaž Konvalinka\, Tea Št
 rekelj\nProstori: 3.07
LOCATION:3.07
ORGANIZER:Matjaž Konvalinka, Tea Štrekelj
X-WR-TIMEZONE:Europe/Ljubljana
END:VEVENT
BEGIN:VEVENT
SUMMARY:Kombinatorika - 3. izpit
DTSTART;TZID=Europe/Ljubljana:20240904T090000
DTEND;TZID=Europe/Ljubljana:20240904T120000
DTSTAMP:20260425T103952Z
UID:fmf-AFLABS-URNIK:rezervacija:17807
ATTENDEE:2. letnik (IŠRM)
CATEGORIES:Reservation
COLOR:royalblue
DESCRIPTION:Predmeti: Kombinatorika (IŠRM-2)\nLetniki: 2. letnik (IŠRM)\
 nIzvajalci: Matjaž Konvalinka\nProstori: 2.03
LOCATION:2.03
ORGANIZER:Matjaž Konvalinka
X-WR-TIMEZONE:Europe/Ljubljana
END:VEVENT
BEGIN:VEVENT
SUMMARY:slovenščina
DTSTART;TZID=Europe/Ljubljana:20240903T170000
DTEND;TZID=Europe/Ljubljana:20240903T190000
DTSTAMP:20260425T103952Z
UID:fmf-AFLABS-URNIK:rezervacija:18067
CATEGORIES:Reservation
COLOR:royalblue
DESCRIPTION:Predmeti: \nLetniki: \nIzvajalci: Matjaž Konvalinka\nProstori
 : 3.07
LOCATION:3.07
ORGANIZER:Matjaž Konvalinka
X-WR-TIMEZONE:Europe/Ljubljana
END:VEVENT
BEGIN:VEVENT
SUMMARY:slovenščina
DTSTART;TZID=Europe/Ljubljana:20240910T170000
DTEND;TZID=Europe/Ljubljana:20240910T190000
DTSTAMP:20260425T103952Z
UID:fmf-AFLABS-URNIK:rezervacija:18068
CATEGORIES:Reservation
COLOR:royalblue
DESCRIPTION:Predmeti: \nLetniki: \nIzvajalci: Matjaž Konvalinka\nProstori
 : 3.07
LOCATION:3.07
ORGANIZER:Matjaž Konvalinka
X-WR-TIMEZONE:Europe/Ljubljana
END:VEVENT
BEGIN:VEVENT
SUMMARY:slovenščina
DTSTART;TZID=Europe/Ljubljana:20240917T170000
DTEND;TZID=Europe/Ljubljana:20240917T190000
DTSTAMP:20260425T103952Z
UID:fmf-AFLABS-URNIK:rezervacija:18069
CATEGORIES:Reservation
COLOR:royalblue
DESCRIPTION:Predmeti: \nLetniki: \nIzvajalci: Matjaž Konvalinka\nProstori
 : 3.07
LOCATION:3.07
ORGANIZER:Matjaž Konvalinka
X-WR-TIMEZONE:Europe/Ljubljana
END:VEVENT
BEGIN:VEVENT
SUMMARY:slovenščina
DTSTART;TZID=Europe/Ljubljana:20240924T170000
DTEND;TZID=Europe/Ljubljana:20240924T190000
DTSTAMP:20260425T103952Z
UID:fmf-AFLABS-URNIK:rezervacija:18070
CATEGORIES:Reservation
COLOR:royalblue
DESCRIPTION:Predmeti: \nLetniki: \nIzvajalci: Matjaž Konvalinka\nProstori
 : 3.07
LOCATION:3.07
ORGANIZER:Matjaž Konvalinka
X-WR-TIMEZONE:Europe/Ljubljana
END:VEVENT
END:VCALENDAR
